BEGIN:VCALENDAR
VERSION:2.0
PRODID:-//Marquette Unitarian Universalist Congregation - ECPv6.15.10//NONSGML v1.0//EN
CALSCALE:GREGORIAN
METHOD:PUBLISH
X-ORIGINAL-URL:https://www.mqtuu.org
X-WR-CALDESC:Events for Marquette Unitarian Universalist Congregation
REFRESH-INTERVAL;VALUE=DURATION:PT1H
X-Robots-Tag:noindex
X-PUBLISHED-TTL:PT1H
BEGIN:VTIMEZONE
TZID:America/Detroit
BEGIN:DAYLIGHT
TZOFFSETFROM:-0500
TZOFFSETTO:-0400
TZNAME:EDT
DTSTART:20220313T070000
END:DAYLIGHT
BEGIN:STANDARD
TZOFFSETFROM:-0400
TZOFFSETTO:-0500
TZNAME:EST
DTSTART:20221106T060000
END:STANDARD
BEGIN:DAYLIGHT
TZOFFSETFROM:-0500
TZOFFSETTO:-0400
TZNAME:EDT
DTSTART:20230312T070000
END:DAYLIGHT
BEGIN:STANDARD
TZOFFSETFROM:-0400
TZOFFSETTO:-0500
TZNAME:EST
DTSTART:20231105T060000
END:STANDARD
BEGIN:DAYLIGHT
TZOFFSETFROM:-0500
TZOFFSETTO:-0400
TZNAME:EDT
DTSTART:20240310T070000
END:DAYLIGHT
BEGIN:STANDARD
TZOFFSETFROM:-0400
TZOFFSETTO:-0500
TZNAME:EST
DTSTART:20241103T060000
END:STANDARD
END:VTIMEZONE
BEGIN:VEVENT
DTSTART;TZID=America/Detroit:20231111T160000
DTEND;TZID=America/Detroit:20231111T190000
DTSTAMP:20260423T192317
CREATED:20231110T020554Z
LAST-MODIFIED:20231110T020554Z
UID:6390-1699718400-1699729200@www.mqtuu.org
SUMMARY:Yooper Pagan Alliance will host a Samhain New Moon ritual event honoring the Goddess Hecate
DESCRIPTION:Gathering starts at 4 pm\, ritual at 6 p.m.  Attendees should plan to bring something simple to eat like finger foods\, appetizers and desserts.
URL:https://www.mqtuu.org/event/yooper-pagan-alliance-will-host-a-samhain-new-moon-ritual-event-honoring-the-goddess-hecate
END:VEVENT
BEGIN:VEVENT
DTSTART;TZID=America/Detroit:20231105T110000
DTEND;TZID=America/Detroit:20231105T120000
DTSTAMP:20260423T192317
CREATED:20231013T033332Z
LAST-MODIFIED:20231013T033332Z
UID:6374-1699182000-1699185600@www.mqtuu.org
SUMMARY:Our second service via Zoom with our once a month minister through at least the end of the year\, Rev. Denise Tracy\, "Be the One."
DESCRIPTION:Our second service via Zoom with our once a month minister through at least the end of the year\, Rev. Denise Tracy\, “Be the One.”
URL:https://www.mqtuu.org/event/our-second-service-via-zoom-with-our-once-a-month-minister-through-at-least-the-end-of-the-year-rev-denise-tracy-be-the-one
END:VEVENT
BEGIN:VEVENT
DTSTART;TZID=America/Detroit:20231030T180000
DTEND;TZID=America/Detroit:20231030T190000
DTSTAMP:20260423T192317
CREATED:20231027T003028Z
LAST-MODIFIED:20231027T003028Z
UID:6384-1698688800-1698692400@www.mqtuu.org
SUMMARY:Special Joint Meeting of MUUC Board of Trustees & Building Sale Committee to review the proposed real estate contract for the sale of the building VIA ZOOM - All welcome
DESCRIPTION:Click HERE.\nThe ONLY purpose of this meeting will be to review the proposed real estate contract for the sale of the building and attorney’s comments on it\, and get it approved to be signed by two members of the BOT.
URL:https://www.mqtuu.org/event/special-joint-meeting-of-muuc-board-of-trustees-building-sale-committee-to-review-the-proposed-real-estate-contract-for-the-sale-of-the-building-via-zoom-all-welcome
END:VEVENT
BEGIN:VEVENT
DTSTART;TZID=America/Detroit:20231029T110000
DTEND;TZID=America/Detroit:20231029T120000
DTSTAMP:20260423T192317
CREATED:20231013T033202Z
LAST-MODIFIED:20231027T003217Z
UID:6372-1698577200-1698580800@www.mqtuu.org
SUMMARY:Fifth Sunday Fellowship with Petoskey UU and UU Gettysburg\, PA\, on Principles 7 & 8\, "What’s Love Got to Do With It?"
DESCRIPTION:Fifth Sunday Fellowship with Petoskey UU and UU Gettysburg\, PA\, on Principles 7 & 8\, ZOOM connection HERE
URL:https://www.mqtuu.org/event/fifth-sunday-fellowship-with-petoskey-uu-and-uu-gettysburg-pa-on-principles-7-8
END:VEVENT
BEGIN:VEVENT
DTSTART;TZID=America/Detroit:20231024T180000
DTEND;TZID=America/Detroit:20231024T200000
DTSTAMP:20260423T192317
CREATED:20231020T201953Z
LAST-MODIFIED:20231020T201953Z
UID:6380-1698170400-1698177600@www.mqtuu.org
SUMMARY:MUUC Board of Trustees meeting\, ALL WELCOME via Zoom
DESCRIPTION:MUUC Board of Trustees meeting\, ALL WELCOME\, ZOOM connection HERE
URL:https://www.mqtuu.org/event/muuc-board-of-trustees-meeting-all-welcome-via-zoom
END:VEVENT
BEGIN:VEVENT
DTSTART;TZID=America/Detroit:20231022T113000
DTEND;TZID=America/Detroit:20231022T123000
DTSTAMP:20260423T192317
CREATED:20231013T033004Z
LAST-MODIFIED:20231020T202339Z
UID:6370-1697974200-1697977800@www.mqtuu.org
SUMMARY:Suggested link to service at Second Unitarian Church\, Chicago\, IL\, “Where Do We Come From?” Unitarian Heritage\, with Rev. Jason Lydon and Heike Eghardt NOTE LATER TIME
DESCRIPTION:11:30am (NOTE LATER TIME) – Suggested link to service at Second Unitarian Church\, Chicago\, IL\, “Where Do We Come From?” Unitarian Heritage\, with Rev. Jason Lydon and Heike Eghardt\, ZOOM connection HERE
URL:https://www.mqtuu.org/event/suggested-link-to-service-at-second-unitarian-church-chicago-il-presenter-and-topic-tba-note-later-time
END:VEVENT
BEGIN:VEVENT
DTSTART;TZID=America/Detroit:20231015T110000
DTEND;TZID=America/Detroit:20231015T120000
DTSTAMP:20260423T192317
CREATED:20230929T005914Z
LAST-MODIFIED:20231013T032740Z
UID:6344-1697367600-1697371200@www.mqtuu.org
SUMMARY:Link to Keweenaw Unitarian Universalist Fellowship\, "On Parables"
DESCRIPTION:On Parables. . . is there more to the story of the Good Samaritan than just being a good person? We know how powerful words can be. . . some well-known parables are subservice speech through story telling.
URL:https://www.mqtuu.org/event/link-to-keweenaw-unitarian-universalist-fellowship-service-presented-by-bucky-beachtopic-tbd
END:VEVENT
BEGIN:VEVENT
DTSTART;TZID=America/Detroit:20231008T110000
DTEND;TZID=America/Detroit:20231008T120000
DTSTAMP:20260423T192317
CREATED:20230929T005713Z
LAST-MODIFIED:20230929T005713Z
UID:6342-1696762800-1696766400@www.mqtuu.org
SUMMARY:Triangle Service with Petoskey and Bay de Noc UUs\, presenter February Sky (Phil Cooper & Susan Urban)\, "The Day Is Today\, the Moment Is Now"
DESCRIPTION:It’s a part of human nature to believe that there’s plenty of time for everything we want to do and everything we need to say.  Yet we often find that time has run out when we least expect it.  As much as is humanly possible\, let us try to live leaving nothing for later.
URL:https://www.mqtuu.org/event/triangle-service-with-petoskey-and-bay-de-noc-uus-presenter-february-sky-phil-cooper-susan-urban-the-day-is-today-the-moment-is-now
END:VEVENT
BEGIN:VEVENT
DTSTART;TZID=America/Detroit:20231007T100000
DTEND;TZID=America/Detroit:20231007T120000
DTSTAMP:20260423T192317
CREATED:20230929T005428Z
LAST-MODIFIED:20230929T005428Z
UID:6340-1696672800-1696680000@www.mqtuu.org
SUMMARY:UU Family and Friends Breakfast Potluck at the Meeting House
DESCRIPTION:Barb Michael will be in town and we think it’s a great occasion to gather up!\nWe will provide coffee\, juice\, bacon/veg sausage and fresh pancakes with the wild blueberries harvested from our property. Bring a dish to pass\, invite a friend – OR – just bring yourself and enjoy some delicious food\nand great company!\nAn RSVP would be helpful so we can plan properly:\nSarah Johnson 906-458-3915 or iamsarahjeanjohnson@gmail.com
URL:https://www.mqtuu.org/event/uu-family-and-friends-breakfast-potluck-at-the-meeting-house
END:VEVENT
BEGIN:VEVENT
DTSTART;TZID=America/Detroit:20231001T110000
DTEND;TZID=America/Detroit:20231001T120000
DTSTAMP:20260423T192317
CREATED:20230915T211814Z
LAST-MODIFIED:20230929T010043Z
UID:6332-1696158000-1696161600@www.mqtuu.org
SUMMARY:Rev. Denise Tracy\, "The Taming of Lucy - Our first service with our once a month minister through at least the end of the year. In St Exupery's book The Little Prince the fox says to the little prince\, "One only understands the things that one tames."  What does it mean to be tamed? How do we love and change one another?  This service is a meditation and reflection about love and relationship.
DESCRIPTION:
URL:https://www.mqtuu.org/event/rev-denise-tracy-the-taming-of-lucy-our-first-service-with-our-once-a-month-minister-through-at-least-the-end-of-the-year
END:VEVENT
BEGIN:VEVENT
DTSTART;TZID=America/Detroit:20230924T113000
DTEND;TZID=America/Detroit:20230924T123000
DTSTAMP:20260423T192317
CREATED:20230901T005205Z
LAST-MODIFIED:20230915T211319Z
UID:6326-1695555000-1695558600@www.mqtuu.org
SUMMARY:Link to service at Universalist Unitarian Church of Joliet\, "Beginning Again: Starting a New Year\," with Rev. Denise Tracy\, who will be preaching via Zoom for MUUC on first Sundays through December. 11:30am Eastern (10:30am Central - NOTE LATER TIME)
DESCRIPTION:
URL:https://www.mqtuu.org/event/link-to-service-at-universalist-unitarian-church-of-joliet-beginning-again-starting-a-new-year-with-rev-denise-tracy-who-will-be-preaching-via-zoom-for-muuc-on-first-sundays-through-dece
END:VEVENT
BEGIN:VEVENT
DTSTART;TZID=America/Detroit:20230917T103000
DTEND;TZID=America/Detroit:20230917T113000
DTSTAMP:20260423T192317
CREATED:20230901T004913Z
LAST-MODIFIED:20230915T211159Z
UID:6324-1694946600-1694950200@www.mqtuu.org
SUMMARY:Link to service at Keweenaw Unitarian Universalist Fellowship\, Service by Bucky Beach\, "It’s Not a Secret – It’s Just Hiding in Plain Sight\," 10:30am (NOTE EARLIER TIME)
DESCRIPTION:
URL:https://www.mqtuu.org/event/link-to-service-at-keweenaw-unitarian-universalist-fellowship-service-by-bucky-beachtopic-tbd-1030am-note-earlier-time
END:VEVENT
BEGIN:VEVENT
DTSTART;TZID=America/Detroit:20230910T110000
DTEND;TZID=America/Detroit:20230910T120000
DTSTAMP:20260423T192317
CREATED:20230901T004650Z
LAST-MODIFIED:20230901T004650Z
UID:6322-1694343600-1694347200@www.mqtuu.org
SUMMARY:Triangle Service with Petoskey and Bay de Noc UUs - "Change\," with Rev. Alice Diebel 
DESCRIPTION:Triangle Service with Petoskey and Bay de Noc UUs – “Change.” Throughout our lives we cross many thresholds of change. Rev. Alice Diebel discusses the ever-present challenges and opportunities of change\, and how we might honor these transitions  whether they are welcome or unwelcome.
URL:https://www.mqtuu.org/event/triangle-service-with-petoskey-and-bay-de-noc-uus-change-with-rev-alice-diebel
END:VEVENT
BEGIN:VEVENT
DTSTART;TZID=America/Detroit:20230903T110000
DTEND;TZID=America/Detroit:20230903T130000
DTSTAMP:20260423T192317
CREATED:20230901T004455Z
LAST-MODIFIED:20230901T004455Z
UID:6320-1693738800-1693746000@www.mqtuu.org
SUMMARY:Service on Labor Day\, presented by Martin Steindler\, via Zoom
DESCRIPTION:
URL:https://www.mqtuu.org/event/service-on-labor-day-presented-by-martin-steindler-via-zoom
END:VEVENT
BEGIN:VEVENT
DTSTART;TZID=America/Detroit:20230827T110000
DTEND;TZID=America/Detroit:20230827T120000
DTSTAMP:20260423T192317
CREATED:20230811T190513Z
LAST-MODIFIED:20230811T190513Z
UID:6311-1693134000-1693137600@www.mqtuu.org
SUMMARY:Service at Unitarian Universalist Bay de Noc Fellowship\, Topic and Zoom link TBA.
DESCRIPTION:
URL:https://www.mqtuu.org/event/service-at-unitarian-universalist-bay-de-noc-fellowship-topic-and-zoom-link-tba
END:VEVENT
BEGIN:VEVENT
DTSTART;TZID=America/Detroit:20230820T103000
DTEND;TZID=America/Detroit:20230820T113000
DTSTAMP:20260423T192317
CREATED:20230811T190332Z
LAST-MODIFIED:20230811T190332Z
UID:6309-1692527400-1692531000@www.mqtuu.org
SUMMARY:Keweenaw Unitarian Universalist Fellowship\, Service led by Bucky Beach (NOTE EARLIER TIME)
DESCRIPTION:Bucky is a retired pastor from Good Shepherd Lutheran Church / Lutheran Campus Ministry.   Find Zoom connection HERE   
URL:https://www.mqtuu.org/event/keweenaw-unitarian-universalist-fellowship-service-led-by-bucky-beach-note-earlier-time
END:VEVENT
BEGIN:VEVENT
DTSTART;TZID=America/Detroit:20230815T180000
DTEND;TZID=America/Detroit:20230815T200000
DTSTAMP:20260423T192317
CREATED:20230803T185813Z
LAST-MODIFIED:20230803T185813Z
UID:6287-1692122400-1692129600@www.mqtuu.org
SUMMARY:Board of Trustees meeting\, all welcome.
DESCRIPTION:
URL:https://www.mqtuu.org/event/board-of-trustees-meeting-all-welcome
END:VEVENT
BEGIN:VEVENT
DTSTART;TZID=America/Detroit:20230813T110000
DTEND;TZID=America/Detroit:20230813T120000
DTSTAMP:20260423T192317
CREATED:20230811T185953Z
LAST-MODIFIED:20230811T185953Z
UID:6307-1691924400-1691928000@www.mqtuu.org
SUMMARY:UU forum/gathering at the home of MUUC member MARTIN STEINDLER in Marquette
DESCRIPTION:THIS SUNDAY\, August 13\, there will be a UU forum/gathering at the home of MUUC member MARTIN STEINDLER in Marquette at 11AM.  Topic—to be agreed on by those who come. Martin will welcome visitors before 11:30. If no one shows by then\, door gets locked. Coffee will be available. If anything else is desired\, bring your own. Address: 231 Rockwood\, Marquette; likely park on Division street\, phone 906-228-4350\, email msteindler@engis.com.  Within limits\, any topic will do\, prefer UU oriented.  Space is limited.  Email invitations will be sent to current members and friends.
URL:https://www.mqtuu.org/event/uu-forum-gathering-at-the-home-of-muuc-member-martin-steindler-in-marquette
END:VEVENT
BEGIN:VEVENT
DTSTART;TZID=America/Detroit:20230813T110000
DTEND;TZID=America/Detroit:20230813T120000
DTSTAMP:20260423T192317
CREATED:20230811T185811Z
LAST-MODIFIED:20230811T190048Z
UID:6305-1691924400-1691928000@www.mqtuu.org
SUMMARY:Triangle Service with Petoskey and Bay de Noc UUs - Rev. Alice Diebel\, “Children of the Same God.”
DESCRIPTION:Rev. Alice Diebel will explore “Children of the Same God.”  In this world of religious divisions\, what might we learn from a history of religious connections? 
URL:https://www.mqtuu.org/event/triangle-service-with-petoskey-and-bay-de-noc-uus-rev-alice-diebel-children-of-the-same-god
END:VEVENT
BEGIN:VEVENT
DTSTART;TZID=America/Detroit:20230810T183000
DTEND;TZID=America/Detroit:20230810T193000
DTSTAMP:20260423T192317
CREATED:20230803T185551Z
LAST-MODIFIED:20230803T185551Z
UID:6283-1691692200-1691695800@www.mqtuu.org
SUMMARY:First meeting of the Building Sale Committee at the MUUC\, all welcome
DESCRIPTION:
URL:https://www.mqtuu.org/event/first-meeting-of-the-building-sale-committee-at-the-muuc-all-welcome
END:VEVENT
BEGIN:VEVENT
DTSTART;TZID=America/Detroit:20230806T110000
DTEND;TZID=America/Detroit:20230806T123000
DTSTAMP:20260423T192317
CREATED:20230803T185351Z
LAST-MODIFIED:20230803T185351Z
UID:6281-1691319600-1691325000@www.mqtuu.org
SUMMARY:Forum/Gathering at the home of MUUC member MARTIN STEINDLER in Marquette
DESCRIPTION:Participants will choose a discussion topic. Space is limited. Email invitations will be sent to current members and friends. If you would like to attend\, email msteindler@engis.com.
URL:https://www.mqtuu.org/event/forum-gathering-at-the-home-of-muuc-member-martin-steindler-in-marquette
END:VEVENT
BEGIN:VEVENT
DTSTART;TZID=America/Detroit:20230803T080000
DTEND;TZID=America/Detroit:20230803T170000
DTSTAMP:20260423T192317
CREATED:20230803T185706Z
LAST-MODIFIED:20230803T185706Z
UID:6285-1691049600-1691082000@www.mqtuu.org
SUMMARY:Triangle Service with Petoskey and Bay de Noc UUs - Rev. Alice Diebel will explore “Children of the Same God.”
DESCRIPTION:In this world of religious divisions\, what might we learn from a history of religious connections?
URL:https://www.mqtuu.org/event/triangle-service-with-petoskey-and-bay-de-noc-uus-rev-alice-diebel-will-explore-children-of-the-same-god
END:VEVENT
BEGIN:VEVENT
DTSTART;TZID=America/Detroit:20230730T110000
DTEND;TZID=America/Detroit:20230730T120000
DTSTAMP:20260423T192317
CREATED:20230707T210000Z
LAST-MODIFIED:20230707T210031Z
UID:6267-1690714800-1690718400@www.mqtuu.org
SUMMARY:Fifth Sunday Fellowship\, a shared pulpit experience hosted by Petoskey UU\, on UU Principles 5 and 6 - Find Zoom connection here:  https://unitarianpetoskey.org/?page_id=6071
DESCRIPTION:
URL:https://www.mqtuu.org/event/fifth-sunday-fellowship-a-shared-pulpit-experience-hosted-by-petoskey-uu-on-uu-principles-5-and-6-find-zoom-connection-here-https-unitarianpetoskey-org-page_id6071
END:VEVENT
BEGIN:VEVENT
DTSTART;TZID=America/Detroit:20230723T110000
DTEND;TZID=America/Detroit:20230723T120000
DTSTAMP:20260423T192317
CREATED:20230707T205147Z
LAST-MODIFIED:20230707T205844Z
UID:6262-1690110000-1690113600@www.mqtuu.org
SUMMARY:Suggested Service Link: The Unitarian Universalist Bay de Noc Fellowship\, "Let There be Light and Shadows; what photography has taught me about life\," Led by Dan Young with John Gagnon\, bdnuucoordinator@gmail.com for Zoom connection info.
DESCRIPTION:
URL:https://www.mqtuu.org/event/suggested-service-link-the-unitarian-universalist-bay-de-noc-fellowship-let-there-be-light-and-shadows-what-photography-has-taught-me-about-life-led-by-dan-young-with-assistance-from-john-gag
END:VEVENT
BEGIN:VEVENT
DTSTART;TZID=America/Detroit:20230716T110000
DTEND;TZID=America/Detroit:20230716T120000
DTSTAMP:20260423T192317
CREATED:20230707T204743Z
LAST-MODIFIED:20230707T205007Z
UID:6258-1689505200-1689508800@www.mqtuu.org
SUMMARY:Suggested Service Link: Universalist Unitarian Church of East Liberty\, “Favorite Things\,” Led by: Cory Page\, https:www.facebook.com/LibertyUU
DESCRIPTION:Note that the Facebook format\, unlike Zoom\, is non-participatory. Cory will lead our Favorite Things participatory service. Watch on Facebook:  https:www.facebook.com/LibertyUU
URL:https://www.mqtuu.org/event/suggested-service-link-universalist-unitarian-church-of-east-liberty-favorite-things-led-by-cory-page-note-that-the-facebook-format-unlike-zoom-is-non-participatory-cory-wil
END:VEVENT
BEGIN:VEVENT
DTSTART;TZID=America/Detroit:20230709T110000
DTEND;TZID=America/Detroit:20230709T120000
DTSTAMP:20260423T192317
CREATED:20230707T204513Z
LAST-MODIFIED:20230707T204513Z
UID:6256-1688900400-1688904000@www.mqtuu.org
SUMMARY:Triangle Service with Petoskey and Bay de Noc UUs - Rev. Alice Diebel reports on the theme of “Faithfully Becoming” from General Assembly
DESCRIPTION:What are the messages and conversations UUs are having as our faith undergoes significant change? Rev. Alice Diebel reports on the theme of “Faithfully Becoming” from General Assembly.
URL:https://www.mqtuu.org/event/triangle-service-with-petoskey-and-bay-de-noc-uus-rev-alice-diebel-reports-on-the-theme-of-faithfully-becoming-from-general-assembly
END:VEVENT
BEGIN:VEVENT
DTSTART;TZID=America/Detroit:20230625T110000
DTEND;TZID=America/Detroit:20230625T120000
DTSTAMP:20260423T192317
CREATED:20230613T203702Z
LAST-MODIFIED:20230613T205319Z
UID:6244-1687690800-1687694400@www.mqtuu.org
SUMMARY:IMPORTANT - ANNUAL MEETING - to VOTE on Budget\, Board of Trustees and direction for the 2023-2024 Fiscal Year
DESCRIPTION:To vote on the future direction of the congregation\, the MUUC Budget and Board of Trustees membership for the 2023-2024 Fiscal Year
URL:https://www.mqtuu.org/event/important-annual-meeting-to-vote-on-budget-board-of-trustees-and-direction-for-the-2023-2024-fiscal-year
END:VEVENT
BEGIN:VEVENT
DTSTART;TZID=America/Detroit:20230618T110000
DTEND;TZID=America/Detroit:20230618T120000
DTSTAMP:20260423T192317
CREATED:20230613T203355Z
LAST-MODIFIED:20230613T203355Z
UID:6241-1687086000-1687089600@www.mqtuu.org
SUMMARY:SECOND All Members and Friends Informational Forum and Discussion About the Future of MUUC
DESCRIPTION:Based on the input from the May 21 Informational Forum\, your Board of Trustees will present their recommendations on our path forward.  Join us in person or online for this important discussion.  INFORMATION ONLY – No votes will be taken at this forum. Voting on the issues discussed at the informational forums WILL take place at the Annual Meeting on June 25
URL:https://www.mqtuu.org/event/second-all-members-and-friends-informational-forum-and-discussion-about-the-future-of-muuc
END:VEVENT
BEGIN:VEVENT
DTSTART;TZID=America/Detroit:20230615T170000
DTEND;TZID=America/Detroit:20230615T183000
DTSTAMP:20260423T192317
CREATED:20230613T202906Z
LAST-MODIFIED:20230613T202906Z
UID:6239-1686848400-1686853800@www.mqtuu.org
SUMMARY:Shine Dance Fitness at the meeting house.
DESCRIPTION:
URL:https://www.mqtuu.org/event/shine-dance-fitness-at-the-meeting-house
END:VEVENT
BEGIN:VEVENT
DTSTART;TZID=America/Detroit:20230613T180000
DTEND;TZID=America/Detroit:20230613T200000
DTSTAMP:20260423T192317
CREATED:20230613T202750Z
LAST-MODIFIED:20230613T205223Z
UID:6237-1686679200-1686686400@www.mqtuu.org
SUMMARY:Special Board Meeting to set the MUUC Budget for the 2023-2024 Fiscal Year - ALL INVITED (via Zoom\, same link as for Sunday services)
DESCRIPTION:(Zoom Link)
URL:https://www.mqtuu.org/event/tuesday-june-13-special-board-meeting-to-set-the-muuc-budget-for-the-2023-2024-fiscal-year-all-invited-via-zoom-same-link-as-for-sunday-services
END:VEVENT
END:VCALENDAR