BEGIN:VCALENDAR
VERSION:2.0
PRODID:-//Marquette Unitarian Universalist Congregation - ECPv6.15.10//NONSGML v1.0//EN
CALSCALE:GREGORIAN
METHOD:PUBLISH
X-ORIGINAL-URL:https://www.mqtuu.org
X-WR-CALDESC:Events for Marquette Unitarian Universalist Congregation
REFRESH-INTERVAL;VALUE=DURATION:PT1H
X-Robots-Tag:noindex
X-PUBLISHED-TTL:PT1H
BEGIN:VTIMEZONE
TZID:America/Detroit
BEGIN:DAYLIGHT
TZOFFSETFROM:-0500
TZOFFSETTO:-0400
TZNAME:EDT
DTSTART:20220313T070000
END:DAYLIGHT
BEGIN:STANDARD
TZOFFSETFROM:-0400
TZOFFSETTO:-0500
TZNAME:EST
DTSTART:20221106T060000
END:STANDARD
BEGIN:DAYLIGHT
TZOFFSETFROM:-0500
TZOFFSETTO:-0400
TZNAME:EDT
DTSTART:20230312T070000
END:DAYLIGHT
BEGIN:STANDARD
TZOFFSETFROM:-0400
TZOFFSETTO:-0500
TZNAME:EST
DTSTART:20231105T060000
END:STANDARD
BEGIN:DAYLIGHT
TZOFFSETFROM:-0500
TZOFFSETTO:-0400
TZNAME:EDT
DTSTART:20240310T070000
END:DAYLIGHT
BEGIN:STANDARD
TZOFFSETFROM:-0400
TZOFFSETTO:-0500
TZNAME:EST
DTSTART:20241103T060000
END:STANDARD
BEGIN:DAYLIGHT
TZOFFSETFROM:-0500
TZOFFSETTO:-0400
TZNAME:EDT
DTSTART:20250309T070000
END:DAYLIGHT
BEGIN:STANDARD
TZOFFSETFROM:-0400
TZOFFSETTO:-0500
TZNAME:EST
DTSTART:20251102T060000
END:STANDARD
END:VTIMEZONE
BEGIN:VEVENT
DTSTART;TZID=America/Detroit:20240407T110000
DTEND;TZID=America/Detroit:20240407T120000
DTSTAMP:20260423T135052
CREATED:20240318T222458Z
LAST-MODIFIED:20240330T011527Z
UID:6554-1712487600-1712491200@www.mqtuu.org
SUMMARY:Suggested link to Keweenaw Unitarian Universalist Fellowship\, service led by Rev. Stacy Craig\, "The Religious Naturalism Movement"
DESCRIPTION:Zoom connection HERE
URL:https://www.mqtuu.org/event/suggested-link-to-keweenaw-unitarian-universalist-fellowship-ervice-led-by-rev-stacy-craig-topic-tba
END:VEVENT
BEGIN:VEVENT
DTSTART;TZID=America/Detroit:20240331T110000
DTEND;TZID=America/Detroit:20240331T120000
DTSTAMP:20260423T135052
CREATED:20240318T221759Z
LAST-MODIFIED:20240330T011636Z
UID:6552-1711882800-1711886400@www.mqtuu.org
SUMMARY:Suggested link to service at the Unitarian Universalist Church of East Liberty\, “Easter” with Rev. Dan Miyake\, via Zoo\, click for link
DESCRIPTION:Go to https://libertyuu.org/worship/upcoming-services/  to watch online via Zoom
URL:https://www.mqtuu.org/event/suggested-link-to-service-at-uu-fellowship-of-door-county-do-not-fear-the-creation-of-belgians-in-heaven-with-doc-heide-via-youtube
END:VEVENT
BEGIN:VEVENT
DTSTART;TZID=America/Detroit:20240324T110000
DTEND;TZID=America/Detroit:20240324T120000
DTSTAMP:20260423T135052
CREATED:20240318T220716Z
LAST-MODIFIED:20240322T010627Z
UID:6548-1711278000-1711281600@www.mqtuu.org
SUMMARY:Suggested link to service at Bay de Noc UU\, “Transgender Day of Visibility” led by Sharon Pederson and Vicki McGaffigan\, click for Zoom Link
DESCRIPTION:Join Zoom Meeting\nhttps://zoom.us/j/9064203337?omn=94390790763\n\nTransgender Day of Visibility is March 31\, and in preparation and honor of that\, Sharon Pedersen will talk about issues facing trans people and their allies. 449 anti-trans bills have been proposed around the country and 20 states have proposed becoming “sanctuary states”. Learn what’s happening in Michigan to help our transgender friends. Led by Sharon Pedersen and Vicki McGaffigan. \nSharon Pedersen is MUUSJN’s LGBTQ+ Justice Organizer and Bookkeeper\, and part-time Executive Director of Jackson (MI) Pride Center. She is the former Religious Education Coordinator and current Treasurer of the Universalist Unitarian Church of East Liberty\, Clarklake\, MI (near Jackson). Her career has been largely with nonprofit organizations\, including housing\, social services and the arts.  
URL:https://www.mqtuu.org/event/transgender-day-of-visibility-at-bay-de-noc-uu-led-by-sharon-pederson-and-vicki-mcgaffigan-via-zoom
END:VEVENT
BEGIN:VEVENT
DTSTART;TZID=America/Detroit:20240323T103000
DTEND;TZID=America/Detroit:20240323T133000
DTSTAMP:20260423T135052
CREATED:20240322T012445Z
LAST-MODIFIED:20240322T012445Z
UID:6570-1711189800-1711200600@www.mqtuu.org
SUMMARY:Final Pack Up and Decision Making Day - need furniture\, kitchen stuff\, etc. free of charge?
DESCRIPTION:The building will be open from 10:30 a.m. to 1:30 p.m. for anyone who needs kitchen supplies\, children’s toys and games\, chairs (folding and upholstered ) and other furniture and miscellaneous items to take away FREE of charge. ADDRESS:  1510 M-28 East\, Marquette\, MI\,  Email: mqtuuadassist@gmail.com for information.
URL:https://www.mqtuu.org/event/final-pack-up-and-decision-making-day-need-furniture-kitchen-stuff-etc-free-of-charge
END:VEVENT
BEGIN:VEVENT
DTSTART;TZID=America/Detroit:20240317T133000
DTEND;TZID=America/Detroit:20240317T150000
DTSTAMP:20260423T135052
CREATED:20240308T002355Z
LAST-MODIFIED:20240308T002355Z
UID:6538-1710682200-1710687600@www.mqtuu.org
SUMMARY:Astral Temple Meditation and Ostara ritual at the meeting house with the Yooper Pagan Alliance
DESCRIPTION:
URL:https://www.mqtuu.org/event/astral-temple-meditation-and-ostara-ritual-at-the-meeting-house-with-the-yooper-pagan-alliance
END:VEVENT
BEGIN:VEVENT
DTSTART;TZID=America/Detroit:20240317T110000
DTEND;TZID=America/Detroit:20240317T120000
DTSTAMP:20260423T135052
CREATED:20240308T002220Z
LAST-MODIFIED:20240308T002220Z
UID:6536-1710673200-1710676800@www.mqtuu.org
SUMMARY:Our next service with Rev. Denise Tracy\, "Whose Church is it Anyway?” Rev. Denise will preach on the current debate on Article II. What is the current debate about and what are the issues involved?
DESCRIPTION:ZOOM connection HERE
URL:https://www.mqtuu.org/event/our-next-service-with-rev-denise-tracy-whose-church-is-it-anyway-rev-denise-will-preach-on-the-current-debate-on-article-ii-what-is-the-current-debate-about-and-what-are-the-issues-inv
END:VEVENT
BEGIN:VEVENT
DTSTART;TZID=America/Detroit:20240310T103000
DTEND;TZID=America/Detroit:20240310T123000
DTSTAMP:20260423T135052
CREATED:20240308T002039Z
LAST-MODIFIED:20240308T002039Z
UID:6534-1710066600-1710073800@www.mqtuu.org
SUMMARY:Triangle Service with Petoskey and Bay de Noc UUs\, with Rev. Alice Diebel\, Democracy: What threatens it and how do we protect it?  
DESCRIPTION:ZOOM connection HERE
URL:https://www.mqtuu.org/event/triangle-service-with-petoskey-and-bay-de-noc-uus-with-rev-alice-diebel-democracy-what-threatens-it-and-how-do-we-protect-it
END:VEVENT
BEGIN:VEVENT
DTSTART;TZID=America/Detroit:20240302T180000
DTEND;TZID=America/Detroit:20240302T200000
DTSTAMP:20260423T135052
CREATED:20240220T012732Z
LAST-MODIFIED:20240220T012732Z
UID:6522-1709402400-1709409600@www.mqtuu.org
SUMMARY:Celebration of our time in the building\, a ritual of leaving and a sharing of our hopes for the next stage of our existence as a congregation.  All welcome.
DESCRIPTION:
URL:https://www.mqtuu.org/event/celebration-of-our-time-in-the-building-a-ritual-of-leaving-and-a-sharing-of-our-hopes-for-the-next-stage-of-our-existence-as-a-congregation-all-welcome
END:VEVENT
BEGIN:VEVENT
DTSTART;TZID=America/Detroit:20240227T103000
DTEND;TZID=America/Detroit:20240227T160000
DTSTAMP:20260423T135052
CREATED:20240220T012432Z
LAST-MODIFIED:20240220T012825Z
UID:6520-1709029800-1709049600@www.mqtuu.org
SUMMARY:Packing and sorting day at the meeting house in preparation for our upcoming move
DESCRIPTION:
URL:https://www.mqtuu.org/event/packing-and-sorting-day-at-the-meeting-house-in-preparation-for-our-upcoming-move
END:VEVENT
BEGIN:VEVENT
DTSTART;TZID=America/Detroit:20240225T103000
DTEND;TZID=America/Detroit:20240225T233000
DTSTAMP:20260423T135052
CREATED:20240220T010606Z
LAST-MODIFIED:20240220T010606Z
UID:6517-1708857000-1708903800@www.mqtuu.org
SUMMARY:10:30am (NOTE EARLIER TIME) - Suggested link to Keweenaw Unitarian Universalist Fellowship\, service led by Carol Grafford\, “Justice” and “Equity”\,  via Zoom
DESCRIPTION:Zoom connection HERE
URL:https://www.mqtuu.org/event/1030am-note-earlier-time-suggested-link-to-keweenaw-unitarian-universalist-fellowship-service-led-by-carol-grafford-justice-and-equity-via-zoom
END:VEVENT
BEGIN:VEVENT
DTSTART;TZID=America/Detroit:20240218T110000
DTEND;TZID=America/Detroit:20240218T120000
DTSTAMP:20260423T135052
CREATED:20240128T000041Z
LAST-MODIFIED:20240128T000041Z
UID:6492-1708254000-1708257600@www.mqtuu.org
SUMMARY:Our next service via Zoom with our once a month minister through at least May 2024\, Rev. Denise Tracy\, "SHMILY:  Lessons for Life about Love."   Music by February Sky. 
DESCRIPTION:Sunday\, February 18 – 11am –  What can we learn about living and maintaining primary relationships?  Music by February Sky.  ZOOM connection HERE
URL:https://www.mqtuu.org/event/our-next-service-via-zoom-with-our-once-a-month-minister-through-at-least-may-2024-rev-denise-tracy-shmily-lessons-for-life-about-love-music-by-february-sky
END:VEVENT
BEGIN:VEVENT
DTSTART;TZID=America/Detroit:20240211T110000
DTEND;TZID=America/Detroit:20240211T120000
DTSTAMP:20260423T135052
CREATED:20240127T235605Z
LAST-MODIFIED:20240127T235605Z
UID:6490-1707649200-1707652800@www.mqtuu.org
SUMMARY:Triangle Service with Petoskey and Bay de Noc UUs\, with Rev. Alice Diebel\, "How can God's Love be Universal - Black Universalists: Carlton Pearson\, WHG Carter\, and Joseph Jordan"
DESCRIPTION:ZOOM connection HERE
URL:https://www.mqtuu.org/event/triangle-service-with-petoskey-and-bay-de-noc-uus-with-rev-alice-diebel-how-can-gods-love-be-universal-black-universalists-carlton-pearson-whg-carter-and-joseph-jordan
END:VEVENT
BEGIN:VEVENT
DTSTART;TZID=America/Detroit:20240204T130000
DTEND;TZID=America/Detroit:20240204T150000
DTSTAMP:20260423T135052
CREATED:20240127T234904Z
LAST-MODIFIED:20240127T234904Z
UID:6485-1707051600-1707058800@www.mqtuu.org
SUMMARY:The Yooper Pagan Alliance will host an Imbolc ritual at the MUUC Meeting House. All welcome.
DESCRIPTION:More information here:  https://www.facebook.com/groups/UPWPC
URL:https://www.mqtuu.org/event/the-yooper-pagan-alliance-will-host-an-imbolc-ritual-at-the-muuc-meeting-house-all-welcome
END:VEVENT
BEGIN:VEVENT
DTSTART;TZID=America/Detroit:20240204T110000
DTEND;TZID=America/Detroit:20240204T120000
DTSTAMP:20260423T135052
CREATED:20240127T235445Z
LAST-MODIFIED:20240127T235445Z
UID:6488-1707044400-1707048000@www.mqtuu.org
SUMMARY:Suggested link to service at UU Fellowship of Door County\, "African Contributions to Civilizations\," with Ajamou Bulter
DESCRIPTION:YouTube connection HERE
URL:https://www.mqtuu.org/event/suggested-link-to-service-at-uu-fellowship-of-door-county-african-contributions-to-civilizations-with-ajamou-bulter
END:VEVENT
BEGIN:VEVENT
DTSTART;TZID=America/Detroit:20240130T180000
DTEND;TZID=America/Detroit:20240130T200000
DTSTAMP:20260423T135052
CREATED:20240127T234633Z
LAST-MODIFIED:20240127T234633Z
UID:6483-1706637600-1706644800@www.mqtuu.org
SUMMARY:MUUC Board of Trustees meeting\, ALL WELCOME\, 6 pm
DESCRIPTION:ZOOM connection HERE
URL:https://www.mqtuu.org/event/muuc-board-of-trustees-meeting-all-welcome-6-pm
END:VEVENT
BEGIN:VEVENT
DTSTART;TZID=America/Detroit:20240128T110000
DTEND;TZID=America/Detroit:20240128T120000
DTSTAMP:20260423T135052
CREATED:20240127T234325Z
LAST-MODIFIED:20240127T234325Z
UID:6481-1706439600-1706443200@www.mqtuu.org
SUMMARY:Suggested link to service at UU Church of East Liberty\, “A Nation Outside\,” led by Jessica Henry
DESCRIPTION:Learn about Nation Outside\, a statewide advocacy group for formerly incarcerated people. Jessica Henry\, Senior Program Manager\, will share her compelling personal story and update us on how Nation Outside works to improve life for returning citizens.  Go to https://www.facebook.com/LibertyUU/ to watch on Facebook
URL:https://www.mqtuu.org/event/suggested-link-to-service-at-uu-church-of-east-liberty-a-nation-outside-led-by-jessica-henry
END:VEVENT
BEGIN:VEVENT
DTSTART;TZID=America/Detroit:20240121T110000
DTEND;TZID=America/Detroit:20240121T120000
DTSTAMP:20260423T135052
CREATED:20240112T023335Z
LAST-MODIFIED:20240112T023335Z
UID:6475-1705834800-1705838400@www.mqtuu.org
SUMMARY:Our first service of 2024 via Zoom with our once a month minister through at least May 2024\, Rev. Denise Tracy\, "Good Bye 2023."  We will review those people who have died in 2023 - the famous folk and those known to us in our personal lives (via Zoom). There will be an in person potluck breakfast before the service. at 10:15 a.m.
DESCRIPTION:
URL:https://www.mqtuu.org/event/our-first-service-of-2024-via-zoom-with-our-once-a-month-minister-through-at-least-may-2024-rev-denise-tracy-good-bye-2023-we-will-review-those-people-who-have-died-in-2023-the-fa
END:VEVENT
BEGIN:VEVENT
DTSTART;TZID=America/Detroit:20240114T110000
DTEND;TZID=America/Detroit:20240114T120000
DTSTAMP:20260423T135052
CREATED:20240112T022528Z
LAST-MODIFIED:20240112T022528Z
UID:6471-1705230000-1705233600@www.mqtuu.org
SUMMARY:Triangle Service with Petoskey and Bay de Noc UUs\, with Rev. Alice Diebel\, on Martin Luther King\, Jr. and a return to nonviolence\, via Zoom
DESCRIPTION:Rev. Diebel will talk about Rev. Dr. Martin Luther King\, Jr. and a return to nonviolence. Our nation and our world has lost its path to change through nonviolent means. We will reflect on the nonviolent legacy of Dr. King\, James Lawson\, and a call for action in troubling times.
URL:https://www.mqtuu.org/event/triangle-service-with-petoskey-and-bay-de-noc-uus-with-rev-alice-diebel-on-martin-luther-king-jr-and-a-return-to-nonviolence-via-zoom
END:VEVENT
BEGIN:VEVENT
DTSTART;TZID=America/Detroit:20240107T110000
DTEND;TZID=America/Detroit:20240107T120000
DTSTAMP:20260423T135052
CREATED:20240104T011314Z
LAST-MODIFIED:20240104T011314Z
UID:6468-1704625200-1704628800@www.mqtuu.org
SUMMARY:Suggested link to service at UU Fellowship of Door County\, “The Northeast Corner\,” with Katie Dahl\, on Eleanor Roosevelt’s passionate romantic relationship with Lorena “Hick” Hickok\, one of the most prominent women journalists of her day. 
DESCRIPTION:YouTube connection HERE
URL:https://www.mqtuu.org/event/suggested-link-to-service-at-uu-fellowship-of-door-county-the-northeast-corner-with-katie-dahl-on-eleanor-roosevelts-passionate-romantic-relationship-with-lorena-2
END:VEVENT
BEGIN:VEVENT
DTSTART;TZID=America/Detroit:20240106T160000
DTEND;TZID=America/Detroit:20240106T200000
DTSTAMP:20260423T135052
CREATED:20231229T021502Z
LAST-MODIFIED:20231229T021502Z
UID:6445-1704556800-1704571200@www.mqtuu.org
SUMMARY:Yooper Pagan Alliance will host a workshop on divination from 4 - 8 p.m. at the MUUC Meeting House.
DESCRIPTION:
URL:https://www.mqtuu.org/event/yooper-pagan-alliance-will-host-a-workshop-on-divination-from-4-8-p-m-at-the-muuc-meeting-house
END:VEVENT
BEGIN:VEVENT
DTSTART;TZID=America/Detroit:20231231T103000
DTEND;TZID=America/Detroit:20231231T113000
DTSTAMP:20260423T135052
CREATED:20231223T003033Z
LAST-MODIFIED:20231229T021316Z
UID:6429-1704018600-1704022200@www.mqtuu.org
SUMMARY:(NOTE EARLIER TIME) Suggested link to service at Keweenaw Unitarian Universalist Fellowship\, led by Carol Grafford\, on Buddhism
DESCRIPTION:I’ve been thinking about Mystery\, and what kind of mysteries I might find inside Buddhism. I decided that Enlightenment\, also known as Awakening\, is a pretty mysterious subject. What is it\, anyway? How do you reach it? What’s the process? Is there a process? They say that those who know\, don’t say; and those who say\, don’t know! They also say that with Beginner’s Mind (not knowing)\, everything is possible. It’s a mystery! Let’s see what we can find out.  Zoom connection HERE
URL:https://www.mqtuu.org/event/note-earlier-time-suggested-link-to-service-at-at-keweenaw-unitarian-universalist-fellowship-led-by-carol-grafford-on-buddhism
END:VEVENT
BEGIN:VEVENT
DTSTART;VALUE=DATE:20231224
DTEND;VALUE=DATE:20231225
DTSTAMP:20260423T135052
CREATED:20231215T015730Z
LAST-MODIFIED:20231215T015841Z
UID:6424-1703376000-1703462399@www.mqtuu.org
SUMMARY:CHRISTMAS EVE - NO SERVICE - enjoy your holiday!
DESCRIPTION:
URL:https://www.mqtuu.org/event/christmas-eve-no-service-enjoy-your-holiday
END:VEVENT
BEGIN:VEVENT
DTSTART;TZID=America/Detroit:20231217T103000
DTEND;TZID=America/Detroit:20231217T113000
DTSTAMP:20260423T135052
CREATED:20231215T015624Z
LAST-MODIFIED:20231215T015624Z
UID:6422-1702809000-1702812600@www.mqtuu.org
SUMMARY:Suggested link to service at Keweenaw Unitarian Universalist Fellowship\, On the Darkness and the Mystery of the Spiritual Life\, presented by Bucky Beach (NOTE EARLIER TIME)
DESCRIPTION:Zoom connection HERE
URL:https://www.mqtuu.org/event/suggested-link-to-service-at-keweenaw-unitarian-universalist-fellowship-on-the-darkness-and-the-mystery-of-the-spiritual-life-presented-by-bucky-beach-note-earlier-time
END:VEVENT
BEGIN:VEVENT
DTSTART;TZID=America/Detroit:20231203T110000
DTEND;TZID=America/Detroit:20231203T120000
DTSTAMP:20260423T135052
CREATED:20231110T021624Z
LAST-MODIFIED:20231110T021624Z
UID:6400-1701601200-1701604800@www.mqtuu.org
SUMMARY:Our third service via Zoom with Rev. Denise Tracy\,  "A Reflection on The Middle East: A Prayer for Peace\," with music by Andrea Stader
DESCRIPTION:ZOOM connection HERE
URL:https://www.mqtuu.org/event/our-third-service-via-zoom-with-rev-denise-tracy-a-reflection-on-the-middle-east-a-prayer-for-peace-with-music-by-andrea-stader
END:VEVENT
BEGIN:VEVENT
DTSTART;TZID=America/Detroit:20231202T160000
DTEND;TZID=America/Detroit:20231202T190000
DTSTAMP:20260423T135052
CREATED:20231130T234814Z
LAST-MODIFIED:20231130T234814Z
UID:6412-1701532800-1701543600@www.mqtuu.org
SUMMARY:Yooper Pagan Alliance gathering at the MUUC Meeting House
DESCRIPTION:The gathering will begin at 4:00 p.m. with a Psychometry workshop taking place at 4:30 p.m. The ritual will begin around 6 p.m.\, and it will focus on those who are new to the Craft\, consecrating their tools and announcing their magical name.
URL:https://www.mqtuu.org/event/yooper-pagan-alliance-gathering-at-the-muuc-meeting-house
END:VEVENT
BEGIN:VEVENT
DTSTART;TZID=America/Detroit:20231126T110000
DTEND;TZID=America/Detroit:20231126T120000
DTSTAMP:20260423T135052
CREATED:20231110T021420Z
LAST-MODIFIED:20231110T021420Z
UID:6398-1700996400-1701000000@www.mqtuu.org
SUMMARY:Suggested link to service at Park Forest Unitarian Universalist Community Church\, "Women of Yule\," led by the Bittersweet Christmas Band
DESCRIPTION:ZOOM connection HERE
URL:https://www.mqtuu.org/event/suggested-link-to-service-at-park-forest-unitarian-universalist-community-church-women-of-yule-led-by-the-bittersweet-christmas-band
END:VEVENT
BEGIN:VEVENT
DTSTART;TZID=America/Detroit:20231121T180000
DTEND;TZID=America/Detroit:20231121T200000
DTSTAMP:20260423T135052
CREATED:20231120T000237Z
LAST-MODIFIED:20231120T000237Z
UID:6409-1700589600-1700596800@www.mqtuu.org
SUMMARY:MUUC Board of Trustees meeting\, ALL WELCOME
DESCRIPTION:ZOOM connection HERE
URL:https://www.mqtuu.org/event/muuc-board-of-trustees-meeting-all-welcome-4
END:VEVENT
BEGIN:VEVENT
DTSTART;TZID=America/Detroit:20231119T103000
DTEND;TZID=America/Detroit:20231119T113000
DTSTAMP:20260423T135052
CREATED:20231110T021247Z
LAST-MODIFIED:20231110T021247Z
UID:6396-1700389800-1700393400@www.mqtuu.org
SUMMARY:Suggested link to service at Keweenaw Unitarian Universalist Fellowship\, service led by Bucky Beach\, topic TBA\, 10:30am (NOTE EARLIER TIME)
DESCRIPTION:ZOOM connection HERE
URL:https://www.mqtuu.org/event/suggested-link-to-service-at-keweenaw-unitarian-universalist-fellowship-service-led-by-bucky-beach-topic-tba-1030am-note-earlier-time
END:VEVENT
BEGIN:VEVENT
DTSTART;TZID=America/Detroit:20231112T110000
DTEND;TZID=America/Detroit:20231112T120000
DTSTAMP:20260423T135052
CREATED:20231110T021015Z
LAST-MODIFIED:20231110T021015Z
UID:6394-1699786800-1699790400@www.mqtuu.org
SUMMARY:Triangle Service with Petoskey and Bay de Noc UUs\, with Rev. Alice Diebel\, "Kinship Around The World"
DESCRIPTION:Triangle Service with Petoskey and Bay de Noc UUs\, with Rev. Alice Diebel\, “Kinship Around The World\,” ZOOM connection HERE
URL:https://www.mqtuu.org/event/triangle-service-with-petoskey-and-bay-de-noc-uus-with-rev-alice-diebel-kinship-around-the-world
END:VEVENT
BEGIN:VEVENT
DTSTART;TZID=America/Detroit:20231112T100000
DTEND;TZID=America/Detroit:20231112T110000
DTSTAMP:20260423T135052
CREATED:20231110T020840Z
LAST-MODIFIED:20231110T020840Z
UID:6392-1699783200-1699786800@www.mqtuu.org
SUMMARY:Potluck brunch at the meeting house at 10:15 am
DESCRIPTION:Zoom will be set up for those who want to stay for the service. Sara Jean Johnson and Christie Wagner will be bringing food.\nCome join us!
URL:https://www.mqtuu.org/event/potluck-brunch-at-the-meeting-house-at-1015-am
END:VEVENT
END:VCALENDAR