BEGIN:VCALENDAR
VERSION:2.0
PRODID:-//Marquette Unitarian Universalist Congregation - ECPv6.15.10//NONSGML v1.0//EN
CALSCALE:GREGORIAN
METHOD:PUBLISH
X-WR-CALNAME:Marquette Unitarian Universalist Congregation
X-ORIGINAL-URL:https://www.mqtuu.org
X-WR-CALDESC:Events for Marquette Unitarian Universalist Congregation
REFRESH-INTERVAL;VALUE=DURATION:PT1H
X-Robots-Tag:noindex
X-PUBLISHED-TTL:PT1H
BEGIN:VTIMEZONE
TZID:America/Detroit
BEGIN:DAYLIGHT
TZOFFSETFROM:-0500
TZOFFSETTO:-0400
TZNAME:EDT
DTSTART:20180311T070000
END:DAYLIGHT
BEGIN:STANDARD
TZOFFSETFROM:-0400
TZOFFSETTO:-0500
TZNAME:EST
DTSTART:20181104T060000
END:STANDARD
BEGIN:DAYLIGHT
TZOFFSETFROM:-0500
TZOFFSETTO:-0400
TZNAME:EDT
DTSTART:20190310T070000
END:DAYLIGHT
BEGIN:STANDARD
TZOFFSETFROM:-0400
TZOFFSETTO:-0500
TZNAME:EST
DTSTART:20191103T060000
END:STANDARD
BEGIN:DAYLIGHT
TZOFFSETFROM:-0500
TZOFFSETTO:-0400
TZNAME:EDT
DTSTART:20200308T070000
END:DAYLIGHT
BEGIN:STANDARD
TZOFFSETFROM:-0400
TZOFFSETTO:-0500
TZNAME:EST
DTSTART:20201101T060000
END:STANDARD
BEGIN:DAYLIGHT
TZOFFSETFROM:-0500
TZOFFSETTO:-0400
TZNAME:EDT
DTSTART:20210314T070000
END:DAYLIGHT
BEGIN:STANDARD
TZOFFSETFROM:-0400
TZOFFSETTO:-0500
TZNAME:EST
DTSTART:20211107T060000
END:STANDARD
END:VTIMEZONE
BEGIN:VEVENT
DTSTART;TZID=America/Detroit:20191231T180000
DTEND;TZID=America/Detroit:20200101T003000
DTSTAMP:20260424T180253
CREATED:20191230T204704Z
LAST-MODIFIED:20191230T223819Z
UID:5251-1577815200-1577838600@www.mqtuu.org
SUMMARY:Game Night
DESCRIPTION:  \nGAME NIGHT\nfor Teens & Adults. \nTuesdays @ 6pm\nGames played depend on the interest of participants. Board games\, role-playing games etc. \nFor more information contact Desi Mims.
URL:https://www.mqtuu.org/event/game-night-8
LOCATION:MqtUU Meeting House\, 1510 M-28 East\, Marquette\, MI\, 49855\, United States
ORGANIZER;CN="Desi Mims":MAILTO:crookedgod@aol.com
END:VEVENT
BEGIN:VEVENT
DTSTART;TZID=America/Detroit:20191214T170000
DTEND;TZID=America/Detroit:20191214T190000
DTSTAMP:20260424T180253
CREATED:20190924T125844Z
LAST-MODIFIED:20191208T221123Z
UID:5139-1576342800-1576350000@www.mqtuu.org
SUMMARY:Soup Dinner
DESCRIPTION:Annual Fundraiser \nSign up for Soup/Desserts here!
URL:https://www.mqtuu.org/event/soup-dinner
LOCATION:MqtUU Meeting House\, 1510 M-28 East\, Marquette\, MI\, 49855\, United States
END:VEVENT
BEGIN:VEVENT
DTSTART;TZID=America/Detroit:20191124T110000
DTEND;TZID=America/Detroit:20191124T120000
DTSTAMP:20260424T180253
CREATED:20191008T123737Z
LAST-MODIFIED:20191020T133428Z
UID:5179-1574593200-1574596800@www.mqtuu.org
SUMMARY:Sunday Service
DESCRIPTION:Traditional Bread Communion\nTeri Rockwood
URL:https://www.mqtuu.org/event/sunday-service-58
LOCATION:MqtUU Meeting House\, 1510 M-28 East\, Marquette\, MI\, 49855\, United States
CATEGORIES:Calendar,Sunday Service
END:VEVENT
BEGIN:VEVENT
DTSTART;TZID=America/Detroit:20191117T180000
DTEND;TZID=America/Detroit:20191124T060000
DTSTAMP:20260424T180253
CREATED:20190922T122304Z
LAST-MODIFIED:20190922T122304Z
UID:5130-1574013600-1574575200@www.mqtuu.org
SUMMARY:RATI
DESCRIPTION:MqtUU hosting Room at the Inn
URL:https://www.mqtuu.org/event/rati
LOCATION:MqtUU Meeting House\, 1510 M-28 East\, Marquette\, MI\, 49855\, United States
END:VEVENT
BEGIN:VEVENT
DTSTART;TZID=America/Detroit:20191117T110000
DTEND;TZID=America/Detroit:20191117T120000
DTSTAMP:20260424T180253
CREATED:20191008T123647Z
LAST-MODIFIED:20191018T124503Z
UID:5177-1573988400-1573992000@www.mqtuu.org
SUMMARY:Sunday Service
DESCRIPTION:11am Service:\n“Getting to Know You: Deepening Connections Within Our UU Community”\nService Leader: Sarah Johnson\nThis Sunday\, we will take time to get to know each other a little bit better\, speed dating style and deepen our connections through an interactive\, fun service.
URL:https://www.mqtuu.org/event/sunday-service-57
LOCATION:MqtUU Meeting House\, 1510 M-28 East\, Marquette\, MI\, 49855\, United States
CATEGORIES:Calendar,Sunday Service
END:VEVENT
BEGIN:VEVENT
DTSTART;TZID=America/Detroit:20191114T100000
DTEND;TZID=America/Detroit:20191114T160000
DTSTAMP:20260424T180253
CREATED:20190922T122956Z
LAST-MODIFIED:20190922T122956Z
UID:5134-1573725600-1573747200@www.mqtuu.org
SUMMARY:NLH
DESCRIPTION:Northwoods Learning Hub: A family-focused center where a community of all ages comes together around open exploration and interest-driven learning.  Tuesdays and Thursdays will be there meeting days from 10 a.m. and 4 p.m.
URL:https://www.mqtuu.org/event/nlh-18
LOCATION:MqtUU Meeting House\, 1510 M-28 East\, Marquette\, MI\, 49855\, United States
END:VEVENT
BEGIN:VEVENT
DTSTART;TZID=America/Detroit:20191112T100000
DTEND;TZID=America/Detroit:20191112T160000
DTSTAMP:20260424T180253
CREATED:20190922T122911Z
LAST-MODIFIED:20190922T122911Z
UID:5132-1573552800-1573574400@www.mqtuu.org
SUMMARY:NLH
DESCRIPTION:Northwoods Learning Hub: A family-focused center where a community of all ages comes together around open exploration and interest-driven learning.  Tuesdays and Thursdays will be there meeting days from 10 a.m. and 4 p.m.
URL:https://www.mqtuu.org/event/nlh-17
LOCATION:MqtUU Meeting House\, 1510 M-28 East\, Marquette\, MI\, 49855\, United States
END:VEVENT
BEGIN:VEVENT
DTSTART;TZID=America/Detroit:20191110T121500
DTEND;TZID=America/Detroit:20191110T140000
DTSTAMP:20260424T180253
CREATED:20191008T125230Z
LAST-MODIFIED:20191018T125107Z
UID:5185-1573388100-1573394400@www.mqtuu.org
SUMMARY:Board of Trustees Mtg
DESCRIPTION:VACANCY on the Board of Trustees\nDue to the resignation of a member of the Board of Trustees there is currently a vacancy.\nAll members are invited to consider volunteering as a member of the Board of Trustees. Trustees serve two year terms. There are monthly meetings and lots of opportunity to make a difference in your congregation! Please contact Teri Rockwood if you are interested in volunteering as a member of the Board of Trustees!\n\nCome share your thoughts\, comments\, concerns and meet with the 2019/2020 Board of Trustees!\n\n2019/2020 BoT Members\nTeri Rockwood\, President\nMary Maki\, Vice President\nAnne Stark\, Secretary\nDesi Mims\, Trustee\n  \n 
URL:https://www.mqtuu.org/event/board-of-trustees-mtg-4
LOCATION:MqtUU Meeting House\, 1510 M-28 East\, Marquette\, MI\, 49855\, United States
END:VEVENT
BEGIN:VEVENT
DTSTART;TZID=America/Detroit:20191110T110000
DTEND;TZID=America/Detroit:20191110T120000
DTSTAMP:20260424T180253
CREATED:20191008T123600Z
LAST-MODIFIED:20191020T115619Z
UID:5175-1573383600-1573387200@www.mqtuu.org
SUMMARY:Sunday Service
DESCRIPTION:Service Leader: Anne Stark
URL:https://www.mqtuu.org/event/sunday-service-56
LOCATION:MqtUU Meeting House\, 1510 M-28 East\, Marquette\, MI\, 49855\, United States
END:VEVENT
BEGIN:VEVENT
DTSTART;TZID=America/Detroit:20191107T100000
DTEND;TZID=America/Detroit:20191107T160000
DTSTAMP:20260424T180253
CREATED:20190915T123637Z
LAST-MODIFIED:20190915T123637Z
UID:5088-1573120800-1573142400@www.mqtuu.org
SUMMARY:NLH
DESCRIPTION:Northwoods Learning Hub: A family-focused center where a community of all ages comes together around open exploration and interest-driven learning.  Tuesdays and Thursdays will be there meeting days from 10 a.m. and 4 p.m.
URL:https://www.mqtuu.org/event/nlh-15
LOCATION:MqtUU Meeting House\, 1510 M-28 East\, Marquette\, MI\, 49855\, United States
END:VEVENT
BEGIN:VEVENT
DTSTART;TZID=America/Detroit:20191105T100000
DTEND;TZID=America/Detroit:20191105T160000
DTSTAMP:20260424T180253
CREATED:20190915T123540Z
LAST-MODIFIED:20190915T123540Z
UID:5086-1572948000-1572969600@www.mqtuu.org
SUMMARY:NLH
DESCRIPTION:Northwoods Learning Hub: A family-focused center where a community of all ages comes together around open exploration and interest-driven learning.  Tuesdays and Thursdays will be there meeting days from 10 a.m. and 4 p.m.
URL:https://www.mqtuu.org/event/nlh-14
LOCATION:MqtUU Meeting House\, 1510 M-28 East\, Marquette\, MI\, 49855\, United States
END:VEVENT
BEGIN:VEVENT
DTSTART;TZID=America/Detroit:20191103T110000
DTEND;TZID=America/Detroit:20191103T120000
DTSTAMP:20260424T180253
CREATED:20191008T123515Z
LAST-MODIFIED:20191014T151256Z
UID:5173-1572778800-1572782400@www.mqtuu.org
SUMMARY:Sunday Service
DESCRIPTION:Roy Gotham on “Love and Healing”
URL:https://www.mqtuu.org/event/sunday-service-55
LOCATION:MqtUU Meeting House\, 1510 M-28 East\, Marquette\, MI\, 49855\, United States
CATEGORIES:Calendar,Sunday Service
END:VEVENT
BEGIN:VEVENT
DTSTART;TZID=America/Detroit:20191031T100000
DTEND;TZID=America/Detroit:20191031T160000
DTSTAMP:20260424T180253
CREATED:20190915T124853Z
LAST-MODIFIED:20190915T124853Z
UID:5092-1572516000-1572537600@www.mqtuu.org
SUMMARY:NLH
DESCRIPTION:Northwoods Learning Hub:  A family-focused center where a community of all ages comes together around open exploration and interest-driven learning.  Tuesdays and Thursdays will be there meeting days from 10 a.m. and 4 p.m.
URL:https://www.mqtuu.org/event/nlh-16
LOCATION:MqtUU Meeting House\, 1510 M-28 East\, Marquette\, MI\, 49855\, United States
END:VEVENT
BEGIN:VEVENT
DTSTART;TZID=America/Detroit:20191029T100000
DTEND;TZID=America/Detroit:20191029T160000
DTSTAMP:20260424T180253
CREATED:20190915T123454Z
LAST-MODIFIED:20190915T123454Z
UID:5084-1572343200-1572364800@www.mqtuu.org
SUMMARY:NLH
DESCRIPTION:Northwoods Learning Hub: A family-focused center where a community of all ages comes together around open exploration and interest-driven learning.  Tuesdays and Thursdays will be there meeting days from 10 a.m. and 4 p.m.
URL:https://www.mqtuu.org/event/nlh-13
LOCATION:MqtUU Meeting House\, 1510 M-28 East\, Marquette\, MI\, 49855\, United States
END:VEVENT
BEGIN:VEVENT
DTSTART;TZID=America/Detroit:20191027T110000
DTEND;TZID=America/Detroit:20191027T120000
DTSTAMP:20260424T180253
CREATED:20190915T125152Z
LAST-MODIFIED:20190919T111455Z
UID:5098-1572174000-1572177600@www.mqtuu.org
SUMMARY:Sunday Service
DESCRIPTION:Barb Michael\nDia de Los Muertos Service – celebration with an altar (ofrenda) with photos\, favorite foods/mementos of deceased family members or close friends of congregation members and friends – all adorned with mums/marigolds\, fall color cloths\, and candles.
URL:https://www.mqtuu.org/event/sunday-service-54
LOCATION:MqtUU Meeting House\, 1510 M-28 East\, Marquette\, MI\, 49855\, United States
END:VEVENT
BEGIN:VEVENT
DTSTART;TZID=America/Detroit:20191025T183000
DTEND;TZID=America/Detroit:20191025T203000
DTSTAMP:20260424T180253
CREATED:20191007T115520Z
LAST-MODIFIED:20191007T115520Z
UID:5159-1572028200-1572035400@www.mqtuu.org
SUMMARY:Halloween Party
DESCRIPTION:There will be bobbing for apples\, fun treats and music!\nCostumes are encouraged.
URL:https://www.mqtuu.org/event/halloween-party
LOCATION:MqtUU Meeting House\, 1510 M-28 East\, Marquette\, MI\, 49855\, United States
CATEGORIES:Calendar
END:VEVENT
BEGIN:VEVENT
DTSTART;TZID=America/Detroit:20191024T100000
DTEND;TZID=America/Detroit:20191024T160000
DTSTAMP:20260424T180253
CREATED:20190915T123403Z
LAST-MODIFIED:20190915T123403Z
UID:5082-1571911200-1571932800@www.mqtuu.org
SUMMARY:NLH
DESCRIPTION:Northwoods Learning Hub: A family-focused center where a community of all ages comes together around open exploration and interest-driven learning.  Tuesdays and Thursdays will be there meeting days from 10 a.m. and 4 p.m.
URL:https://www.mqtuu.org/event/nlh-12
LOCATION:MqtUU Meeting House\, 1510 M-28 East\, Marquette\, MI\, 49855\, United States
END:VEVENT
BEGIN:VEVENT
DTSTART;TZID=America/Detroit:20191022T100000
DTEND;TZID=America/Detroit:20191022T160000
DTSTAMP:20260424T180253
CREATED:20190915T123314Z
LAST-MODIFIED:20190915T123314Z
UID:5080-1571738400-1571760000@www.mqtuu.org
SUMMARY:NLH
DESCRIPTION:Northwoods Learning Hub: A family-focused center where a community of all ages comes together around open exploration and interest-driven learning.  Tuesdays and Thursdays will be there meeting days from 10 a.m. and 4 p.m.
URL:https://www.mqtuu.org/event/nlh-11
LOCATION:MqtUU Meeting House\, 1510 M-28 East\, Marquette\, MI\, 49855\, United States
END:VEVENT
BEGIN:VEVENT
DTSTART;TZID=America/Detroit:20191020T110000
DTEND;TZID=America/Detroit:20191020T120000
DTSTAMP:20260424T180253
CREATED:20190915T125104Z
LAST-MODIFIED:20190921T123117Z
UID:5096-1571569200-1571572800@www.mqtuu.org
SUMMARY:Sunday Service
DESCRIPTION:“Hearken Now\, the Darkness Comes”\na celebration of the last-harvest holiday of Samhain\n(Celtic New Year or Halloween)\nPresenters: February Sky (Phil Cooper & Susan Urban)\nThe Celtic word “Samhain” means “summer’s end.”  This holiday is the beginning of Winter and the New Year\, the time of giving thanks for a good harvest\, and a time for letting go of what no longer serves us. It is also the time of year when the veil between the worlds of the living and the dead is said to be the thinnest\, and the dead are invited back for loving remembrance. In the course of this service\, we will observe all of these ancient traditions and reflect on their significance in our modern lives. Please bring a picture or other memento of a departed loved one to church to place on our Samhain alter.
URL:https://www.mqtuu.org/event/sunday-service-53
LOCATION:MqtUU Meeting House\, 1510 M-28 East\, Marquette\, MI\, 49855\, United States
END:VEVENT
BEGIN:VEVENT
DTSTART;TZID=America/Detroit:20191017T100000
DTEND;TZID=America/Detroit:20191017T160000
DTSTAMP:20260424T180253
CREATED:20190915T123223Z
LAST-MODIFIED:20190915T123223Z
UID:5078-1571306400-1571328000@www.mqtuu.org
SUMMARY:NLH
DESCRIPTION:Northwoods Learning Hub: A family-focused center where a community of all ages comes together around open exploration and interest-driven learning.  Tuesdays and Thursdays will be there meeting days from 10 a.m. and 4 p.m.
URL:https://www.mqtuu.org/event/nlh-10
LOCATION:MqtUU Meeting House\, 1510 M-28 East\, Marquette\, MI\, 49855\, United States
END:VEVENT
BEGIN:VEVENT
DTSTART;TZID=America/Detroit:20191015T100000
DTEND;TZID=America/Detroit:20191015T160000
DTSTAMP:20260424T180253
CREATED:20190915T122814Z
LAST-MODIFIED:20190915T123102Z
UID:5074-1571133600-1571155200@www.mqtuu.org
SUMMARY:NLH
DESCRIPTION:Northwoods Learning Hub: A family-focused center where a community of all ages comes together around open exploration and interest-driven learning.  Tuesdays and Thursdays will be there meeting days from 10 a.m. and 4 p.m.
URL:https://www.mqtuu.org/event/nlh-8
LOCATION:MqtUU Meeting House\, 1510 M-28 East\, Marquette\, MI\, 49855\, United States
END:VEVENT
BEGIN:VEVENT
DTSTART;TZID=America/Detroit:20191013T110000
DTEND;TZID=America/Detroit:20191013T120000
DTSTAMP:20260424T180253
CREATED:20190915T125015Z
LAST-MODIFIED:20191007T122818Z
UID:5094-1570964400-1570968000@www.mqtuu.org
SUMMARY:Sunday Service
DESCRIPTION:Service leader: Marlin Kilpatrick\, Coordinator for Spiritual Care/ Volunteer Services for UPHS Marquette
URL:https://www.mqtuu.org/event/sunday-service-52
LOCATION:MqtUU Meeting House\, 1510 M-28 East\, Marquette\, MI\, 49855\, United States
END:VEVENT
BEGIN:VEVENT
DTSTART;TZID=America/Detroit:20191010T100000
DTEND;TZID=America/Detroit:20191010T160000
DTSTAMP:20260424T180253
CREATED:20190915T122941Z
LAST-MODIFIED:20190915T122941Z
UID:5076-1570701600-1570723200@www.mqtuu.org
SUMMARY:NLH
DESCRIPTION:Northwoods Learning Hub: A family-focused center where a community of all ages comes together around open exploration and interest-driven learning.  Tuesdays and Thursdays will be there meeting days from 10 a.m. and 4 p.m.
URL:https://www.mqtuu.org/event/nlh-9
LOCATION:MqtUU Meeting House\, 1510 M-28 East\, Marquette\, MI\, 49855\, United States
END:VEVENT
BEGIN:VEVENT
DTSTART;TZID=America/Detroit:20191008T100000
DTEND;TZID=America/Detroit:20191008T160000
DTSTAMP:20260424T180253
CREATED:20190915T122704Z
LAST-MODIFIED:20190915T122723Z
UID:5072-1570528800-1570550400@www.mqtuu.org
SUMMARY:NLH
DESCRIPTION:Northwoods Learning Hub: A family-focused center where a community of all ages comes together around open exploration and interest-driven learning.  Tuesdays and Thursdays will be there meeting days from 10 a.m. and 4 p.m.
URL:https://www.mqtuu.org/event/nlh-7
LOCATION:MqtUU Meeting House\, 1510 M-28 East\, Marquette\, MI\, 49855\, United States
END:VEVENT
BEGIN:VEVENT
DTSTART;TZID=America/Detroit:20191006T110000
DTEND;TZID=America/Detroit:20191006T120000
DTSTAMP:20260424T180253
CREATED:20190725T113106Z
LAST-MODIFIED:20190725T113106Z
UID:4955-1570359600-1570363200@www.mqtuu.org
SUMMARY:Sunday Service
DESCRIPTION:
URL:https://www.mqtuu.org/event/sunday-service-51
LOCATION:MqtUU Meeting House\, 1510 M-28 East\, Marquette\, MI\, 49855\, United States
END:VEVENT
BEGIN:VEVENT
DTSTART;TZID=America/Detroit:20191003T100000
DTEND;TZID=America/Detroit:20191003T160000
DTSTAMP:20260424T180253
CREATED:20190915T122620Z
LAST-MODIFIED:20190915T122620Z
UID:5070-1570096800-1570118400@www.mqtuu.org
SUMMARY:NLH
DESCRIPTION:Northwoods Learning Hub: A family-focused center where a community of all ages comes together around open exploration and interest-driven learning.  Tuesdays and Thursdays will be there meeting days from 10 a.m. and 4 p.m.
URL:https://www.mqtuu.org/event/nlh-6
LOCATION:MqtUU Meeting House\, 1510 M-28 East\, Marquette\, MI\, 49855\, United States
END:VEVENT
BEGIN:VEVENT
DTSTART;TZID=America/Detroit:20191001T100000
DTEND;TZID=America/Detroit:20191001T160000
DTSTAMP:20260424T180253
CREATED:20190915T122531Z
LAST-MODIFIED:20190915T122531Z
UID:5068-1569924000-1569945600@www.mqtuu.org
SUMMARY:NLH
DESCRIPTION:Northwoods Learning Hub: A family-focused center where a community of all ages comes together around open exploration and interest-driven learning.  Tuesdays and Thursdays will be there meeting days from 10 a.m. and 4 p.m.
URL:https://www.mqtuu.org/event/nlh-5
LOCATION:MqtUU Meeting House\, 1510 M-28 East\, Marquette\, MI\, 49855\, United States
END:VEVENT
BEGIN:VEVENT
DTSTART;TZID=America/Detroit:20190929T110000
DTEND;TZID=America/Detroit:20190929T120000
DTSTAMP:20260424T180253
CREATED:20190725T112956Z
LAST-MODIFIED:20190915T124132Z
UID:4953-1569754800-1569758400@www.mqtuu.org
SUMMARY:Sunday Service
DESCRIPTION:“Faith In Action – Room at the Inn”\nService Leader: Sarah Johnson\nGuest Speaker:\nNick Emmendorfer\, RATI Executive Director
URL:https://www.mqtuu.org/event/sunday-service-50
LOCATION:MqtUU Meeting House\, 1510 M-28 East\, Marquette\, MI\, 49855\, United States
END:VEVENT
BEGIN:VEVENT
DTSTART;TZID=America/Detroit:20190926T100000
DTEND;TZID=America/Detroit:20190926T160000
DTSTAMP:20260424T180253
CREATED:20190915T122436Z
LAST-MODIFIED:20190915T122436Z
UID:5066-1569492000-1569513600@www.mqtuu.org
SUMMARY:NLH
DESCRIPTION:Northwoods Learning Hub: A family-focused center where a community of all ages comes together around open exploration and interest-driven learning.  Tuesdays and Thursdays will be there meeting days from 10 a.m. and 4 p.m.
URL:https://www.mqtuu.org/event/nlh-4
LOCATION:MqtUU Meeting House\, 1510 M-28 East\, Marquette\, MI\, 49855\, United States
END:VEVENT
BEGIN:VEVENT
DTSTART;TZID=America/Detroit:20190924T100000
DTEND;TZID=America/Detroit:20190924T160000
DTSTAMP:20260424T180253
CREATED:20190915T122341Z
LAST-MODIFIED:20190915T122341Z
UID:5064-1569319200-1569340800@www.mqtuu.org
SUMMARY:NLH
DESCRIPTION:Northwoods Learning Hub: A family-focused center where a community of all ages comes together around open exploration and interest-driven learning.  Tuesdays and Thursdays will be there meeting days from 10 a.m. and 4 p.m.
URL:https://www.mqtuu.org/event/nlh-3
LOCATION:MqtUU Meeting House\, 1510 M-28 East\, Marquette\, MI\, 49855\, United States
END:VEVENT
END:VCALENDAR