BEGIN:VCALENDAR
VERSION:2.0
PRODID:-//Marquette Unitarian Universalist Congregation - ECPv6.15.10//NONSGML v1.0//EN
CALSCALE:GREGORIAN
METHOD:PUBLISH
X-WR-CALNAME:Marquette Unitarian Universalist Congregation
X-ORIGINAL-URL:https://www.mqtuu.org
X-WR-CALDESC:Events for Marquette Unitarian Universalist Congregation
REFRESH-INTERVAL;VALUE=DURATION:PT1H
X-Robots-Tag:noindex
X-PUBLISHED-TTL:PT1H
BEGIN:VTIMEZONE
TZID:America/Detroit
BEGIN:DAYLIGHT
TZOFFSETFROM:-0500
TZOFFSETTO:-0400
TZNAME:EDT
DTSTART:20180311T070000
END:DAYLIGHT
BEGIN:STANDARD
TZOFFSETFROM:-0400
TZOFFSETTO:-0500
TZNAME:EST
DTSTART:20181104T060000
END:STANDARD
BEGIN:DAYLIGHT
TZOFFSETFROM:-0500
TZOFFSETTO:-0400
TZNAME:EDT
DTSTART:20190310T070000
END:DAYLIGHT
BEGIN:STANDARD
TZOFFSETFROM:-0400
TZOFFSETTO:-0500
TZNAME:EST
DTSTART:20191103T060000
END:STANDARD
BEGIN:DAYLIGHT
TZOFFSETFROM:-0500
TZOFFSETTO:-0400
TZNAME:EDT
DTSTART:20200308T070000
END:DAYLIGHT
BEGIN:STANDARD
TZOFFSETFROM:-0400
TZOFFSETTO:-0500
TZNAME:EST
DTSTART:20201101T060000
END:STANDARD
BEGIN:DAYLIGHT
TZOFFSETFROM:-0500
TZOFFSETTO:-0400
TZNAME:EDT
DTSTART:20210314T070000
END:DAYLIGHT
BEGIN:STANDARD
TZOFFSETFROM:-0400
TZOFFSETTO:-0500
TZNAME:EST
DTSTART:20211107T060000
END:STANDARD
BEGIN:DAYLIGHT
TZOFFSETFROM:-0500
TZOFFSETTO:-0400
TZNAME:EDT
DTSTART:20220313T070000
END:DAYLIGHT
BEGIN:STANDARD
TZOFFSETFROM:-0400
TZOFFSETTO:-0500
TZNAME:EST
DTSTART:20221106T060000
END:STANDARD
END:VTIMEZONE
BEGIN:VEVENT
DTSTART;TZID=America/Detroit:20210527T190000
DTEND;TZID=America/Detroit:20210527T200000
DTSTAMP:20260424T151816
CREATED:20210511T004557Z
LAST-MODIFIED:20210511T004557Z
UID:5492-1622142000-1622145600@www.mqtuu.org
SUMMARY:May/June Board Meeting
DESCRIPTION:Board meeting to be held both in person and via Zoom (link in the weekly newsletter).
URL:https://www.mqtuu.org/event/may-june-board-meeting
LOCATION:MqtUU Meeting House\, 1510 M-28 East\, Marquette\, MI\, 49855\, United States
CATEGORIES:Calendar
END:VEVENT
BEGIN:VEVENT
DTSTART;TZID=America/Detroit:20210520T170000
DTEND;TZID=America/Detroit:20210520T190000
DTSTAMP:20260424T151816
CREATED:20210511T003518Z
LAST-MODIFIED:20210511T003518Z
UID:5487-1621530000-1621537200@www.mqtuu.org
SUMMARY:Spring Clean-up at Tourist Park
DESCRIPTION:One of our ongoing traditions at the Marquette UU is a spring clean-up at Tourist Park that started way back when Alice McMahon was the Chair of the Religious Education Committee (now known as Spiritual Exploration). Please join us Thursday\, May 20th at 5pm at the Tourist Park playground for a fast clean-up and then time to visit with pizza and ice cream. RSVP here or to 458-3915\, if you plan to join (so we have enough food). Bring work gloves! Rain or shine.
URL:https://www.mqtuu.org/event/spring-clean-up-at-tourist-park
LOCATION:Tourist Park
CATEGORIES:Calendar
END:VEVENT
BEGIN:VEVENT
DTSTART;TZID=America/Detroit:20210518T180000
DTEND;TZID=America/Detroit:20210518T220000
DTSTAMP:20260424T151816
CREATED:20210511T003214Z
LAST-MODIFIED:20210511T003214Z
UID:5482-1621360800-1621375200@www.mqtuu.org
SUMMARY:Return of Game Night
DESCRIPTION:
URL:https://www.mqtuu.org/event/return-of-game-night
LOCATION:MqtUU Meeting House\, 1510 M-28 East\, Marquette\, MI\, 49855\, United States
CATEGORIES:Calendar
END:VEVENT
BEGIN:VEVENT
DTSTART;TZID=America/Detroit:20210516T110000
DTEND;TZID=America/Detroit:20210516T120000
DTSTAMP:20260424T151816
CREATED:20210511T002731Z
LAST-MODIFIED:20210511T002731Z
UID:5480-1621162800-1621166400@www.mqtuu.org
SUMMARY:Everything Is Holy Now - Religious Evolution from the Age of Duality to the Age of Unity with February Sky
DESCRIPTION:A lighthearted but meaningful service with a message of hope for Unitarian Universalists\, updated to reflect on troubled times in recent years.\nSusan and Phil will be back with us in person! \nMay 16\nTime: 11:00 am \nTo attend virtually\, see link in the weekly newsletter.
URL:https://www.mqtuu.org/event/everything-is-holy-now-religious-evolution-from-the-age-of-duality-to-the-age-of-unity-with-february-sky
LOCATION:MqtUU Meeting House\, 1510 M-28 East\, Marquette\, MI\, 49855\, United States
CATEGORIES:Calendar,Sunday Service
END:VEVENT
BEGIN:VEVENT
DTSTART;TZID=America/Detroit:20210502T120000
DTEND;TZID=America/Detroit:20210502T140000
DTSTAMP:20260424T151816
CREATED:20210421T144655Z
LAST-MODIFIED:20210421T144655Z
UID:5477-1619956800-1619964000@www.mqtuu.org
SUMMARY:May Board Meeting
DESCRIPTION:This month’s board meeting will be taking place immediately after church service on May 2nd\, both in person and via Zoom (link in the weekly newsletter).
URL:https://www.mqtuu.org/event/may-board-meeting
LOCATION:MI
CATEGORIES:Calendar
END:VEVENT
BEGIN:VEVENT
DTSTART;TZID=America/Detroit:20201004T110000
DTEND;TZID=America/Detroit:20201004T120000
DTSTAMP:20260424T151816
CREATED:20200929T163300Z
LAST-MODIFIED:20200929T163300Z
UID:5409-1601809200-1601812800@www.mqtuu.org
SUMMARY:"Why the Need for Deep Listening Now and Learning from My Mistakes" Sunday Service
DESCRIPTION:Deep Listening is critical for spiritual sustenance and sound mental health during these times. Barb Michael will share ideas and experiences from intrapersonal\, interpersonal\, and larger group perspectives. Music by Gary Stark\, Marquette UU\, and Amanda Thomas\, Second Unitarian\, Chicago. Join us to listen to others and your own heart. \nFace Masks required while at the Meeting House. For questions\, contact Teri Rockwood.\nPlease join us from Home or In Person and share in service. \nZoom Information:\nZOOM ID 556-786-154\nPassword 776190 \nTo attend virtually: Click on this link
URL:https://www.mqtuu.org/event/why-the-need-for-deep-listening-now-and-learning-from-my-mistakes-sunday-service
LOCATION:MqtUU Meeting House\, 1510 M-28 East\, Marquette\, MI\, 49855\, United States
END:VEVENT
BEGIN:VEVENT
DTSTART;TZID=America/Detroit:20200408T190000
DTEND;TZID=America/Detroit:20200408T200000
DTSTAMP:20260424T151816
CREATED:20200403T133742Z
LAST-MODIFIED:20200403T133742Z
UID:5403-1586372400-1586376000@www.mqtuu.org
SUMMARY:Braver Wiser Discussion
DESCRIPTION:Do you want to be Braver/Wiser?\nJoin us for a Zoom discussion of the UUA’s Braver/Wiser newsletter on Wednesdays 7-8 pm \nYou can read Braver/Wiser online HERE\, or sign up for an EMAIL VERSION \nRead the essay and be ready with your comments and questions for a discussion with your fellow MqtUU congregants. We’ll also take time to do check-ins and a mid-week Joys and Concerns as needed. \n(Zoom link to follow\, be looking for it soon!)\nAnne Stark will lead discussions through Apri
URL:https://www.mqtuu.org/event/braver-wiser-discussion
LOCATION:Zoom
END:VEVENT
BEGIN:VEVENT
DTSTART;TZID=America/Detroit:20200407T190000
DTEND;TZID=America/Detroit:20200407T200000
DTSTAMP:20260424T151816
CREATED:20200403T133346Z
LAST-MODIFIED:20200403T133346Z
UID:5399-1586286000-1586289600@www.mqtuu.org
SUMMARY:UU Yoopers Read Together
DESCRIPTION:Book Discussion Group\n\nA UU book discussion group via Zoom is starting up\, called “UU Yoopers Read Together.” If you are interested in being a part of the group\, please take the following poll so we can collectively choose our first book. Note that all three books are available via Kindle\, audiobook\, and in print forms\, but don’t forget about your local booksellers\, too\, as you may still be able to support them in some way. The poll will be open until Saturday\, April 4th\, at midnight\, find the link HERE\n\nEmail Jamie at jkuehnl@nmu.edu stating your interest to be included in upcoming discussions. My first email to you will be on Sunday\, April 5th\, to share which book we’ve chosen to discuss first. Then\, we’ll meet each Tuesday\, at 7 pm at this ZOOM LINK \nSchedule:\nTuesday\, April 7………7 pm   Meet and Greet\, sharing of favorite books/authors\, a brief intro to our 1st author\nTuesday\, April 14……7 pm   Discuss the first ½ of our 1st chosen book\nTuesday\, April 21……7 pm   Discuss the second ½ of our 1st chosen book\nTuesday\, April 28……7 pm   Discussion of next possible text & discussion leader/s \nDo feel free to share this with other UU friends and family of the UP. We’ll keep our group within those parameters\, though\, so we can easily reference that which we share in common\, like our UU Principles & Sources\, flora\, and fauna of the UP\, our Great Lakes\, etc. If\, after our first meeting\, we feel our group is too small or too big\, we can adjust as we see fit. I really hope that we get some teens and young adults in this group\, too! \nA bit about me…I am a long time member of the Marquette Unitarian Universalist Congregation and have been teaching for Northern Michigan University’s English Department for 16 years and Center for Native American Studies for 7 years. I’ve taught several Good Books classes and would be happy to take an initial role in leading the discussion of our first book.\nJamie Kuehnl (she/her/hers)
URL:https://www.mqtuu.org/event/uu-yoopers-read-together
LOCATION:Zoom
ORGANIZER;CN="Jamie Kuehnl":MAILTO:jkuehnl@nmu.edu
END:VEVENT
BEGIN:VEVENT
DTSTART;TZID=America/Detroit:20200322T100000
DTEND;TZID=America/Detroit:20200322T110000
DTSTAMP:20260424T151816
CREATED:20200130T180027Z
LAST-MODIFIED:20200313T223457Z
UID:5338-1584871200-1584874800@www.mqtuu.org
SUMMARY:Breakfast fundraiser for Flint trip - Canceled
DESCRIPTION:
URL:https://www.mqtuu.org/event/breakfast-fundraiser-for-flint-trip
LOCATION:MqtUU Meeting House\, 1510 M-28 East\, Marquette\, MI\, 49855\, United States
ORGANIZER;CN="Jamie Kuehnl":MAILTO:jkuehnl@nmu.edu
END:VEVENT
BEGIN:VEVENT
DTSTART;TZID=America/Detroit:20200307T170000
DTEND;TZID=America/Detroit:20200307T200000
DTSTAMP:20260424T151816
CREATED:20200307T033146Z
LAST-MODIFIED:20200307T033146Z
UID:5367-1583600400-1583611200@www.mqtuu.org
SUMMARY:Full Worm Moon
DESCRIPTION:Saturday’s full moon ritual with UPWPC will be changed to a healing drumming circle. We are changing it up this month due to the nature of the Virgo full moon energy… Wear comfortable clothing\, bring a blanket\, yoga mat or pillow to sit on. Chairs if you need them are available. We will provide the tea\, educational\, energy forecast and tarot reading. Please make sure to RSVP if you’re coming\nI will be bringing three drums and a tambourine and two different kinds of rattles. I know there’s a rain maker and at least one drum at the meeting house. If you have a drum or a rattle please bring it. \nSaturday\, March 7th 5:00 p.m. at the meeting house! \nAll are welcome Ritual starts at 5:30 promptly \nPlease reach out to an admin if you need a ride or would like to carpool. \nA community donation from each member is requested but not required. Please give what you can\, but please don’t feel obligated to do so or do not attend if you can’t make a donation due to your financial situation. We would rather have you there then not at all. Donations will cover cost of consumables at each event such as candles\, offerings\, etc. Any extra moneys will go to a donation to the UU for use of their facilities and in the long term towards the UP Witches Ball.
URL:https://www.mqtuu.org/event/full-worm-moon
LOCATION:MqtUU Meeting House\, 1510 M-28 East\, Marquette\, MI\, 49855\, United States
END:VEVENT
BEGIN:VEVENT
DTSTART;TZID=America/Detroit:20200306T063000
DTEND;TZID=America/Detroit:20200306T203000
DTSTAMP:20260424T151816
CREATED:20200209T204414Z
LAST-MODIFIED:20200209T204414Z
UID:5350-1583476200-1583526600@www.mqtuu.org
SUMMARY:SE Gathering: Sledding\, Snowshoe & Cocoa Bar
DESCRIPTION:More details to come
URL:https://www.mqtuu.org/event/se-gathering-sledding-snowshoe-cocoa-bar
LOCATION:Dragonfly Dunes
ORGANIZER;CN="Jamie Kuehnl":MAILTO:jkuehnl@nmu.edu
END:VEVENT
BEGIN:VEVENT
DTSTART;TZID=America/Detroit:20200209T124500
DTEND;TZID=America/Detroit:20200209T134500
DTSTAMP:20260424T151816
CREATED:20200130T153317Z
LAST-MODIFIED:20200130T180249Z
UID:5323-1581252300-1581255900@www.mqtuu.org
SUMMARY:Congregational Meeting
DESCRIPTION:Come and learn about the overall state of the congregation through a message from the Board of Trustees. As a democratic community\, we will be taking a vote on whether to hire Rev. Marlin Kilpatrick as our Part-Time Minister. Members and Non-Members are encouraged to have their voices heard.  By being a Member\, you get to vote. If you are unsure about your Membership status\, please contact Teri Rockwood by phone (906) 235-8064 or email\nSee you there!
URL:https://www.mqtuu.org/event/congregational-meeting-3
LOCATION:MqtUU Meeting House\, 1510 M-28 East\, Marquette\, MI\, 49855\, United States
ORGANIZER;CN="Teri Rockwood":MAILTO:teri.rockwood@gmail.com
END:VEVENT
BEGIN:VEVENT
DTSTART;TZID=America/Detroit:20200207T180000
DTEND;TZID=America/Detroit:20200207T200000
DTSTAMP:20260424T151816
CREATED:20200130T154614Z
LAST-MODIFIED:20200130T180352Z
UID:5325-1581098400-1581105600@www.mqtuu.org
SUMMARY:Family & Friends Night
DESCRIPTION:Join us at the meeting house where we will craft\, decorate and prepare special treats for our Valentine’s Tea event. Everyone is invited. Please RSVP to Sarah Johnson\, if you want to join for pizza (so SE can have enough on hand).
URL:https://www.mqtuu.org/event/family-friends-night
LOCATION:MqtUU Meeting House\, 1510 M-28 East\, Marquette\, MI\, 49855\, United States
ORGANIZER;CN="Sarah Johnson":MAILTO:iamsarahjeanjohnson@gmail.com
END:VEVENT
BEGIN:VEVENT
DTSTART;TZID=America/Detroit:20200128T180000
DTEND;TZID=America/Detroit:20200128T200000
DTSTAMP:20260424T151816
CREATED:20200114T225746Z
LAST-MODIFIED:20200114T225801Z
UID:5309-1580234400-1580241600@www.mqtuu.org
SUMMARY:Game Night
DESCRIPTION:  \nGAME NIGHT\nfor Teens & Adults. \nTuesdays @ 6pm\nGames played depend on the interest of participants. Board games\, role-playing games etc. \nFor more information contact Desi Mims.
URL:https://www.mqtuu.org/event/5309
LOCATION:MqtUU Meeting House\, 1510 M-28 East\, Marquette\, MI\, 49855\, United States
ORGANIZER;CN="Desi Mims":MAILTO:crookedgod@aol.com
END:VEVENT
BEGIN:VEVENT
DTSTART;TZID=America/Detroit:20200125T170000
DTEND;TZID=America/Detroit:20200125T200000
DTSTAMP:20260424T151816
CREATED:20200114T225546Z
LAST-MODIFIED:20200114T225546Z
UID:5305-1579971600-1579982400@www.mqtuu.org
SUMMARY:New Moon Ritual
DESCRIPTION:Hello everyone\, Hope everyone is having a magical day. The other admins and I\, have been talking about the wonderful and exciting things to come for this amazing group and community\, \nAs we grow and expand\, One of these changes is doing something for the New Moon Rituals so that you may learn and come together for setting your intentions forth. Like the Full Moon Rituals that we put together\, Learning about the New Moon and the energy as it enters each zodiac sign. \nWe will learn how to harness this certain energy\, to incorporate it into your spell work for setting your intentions to the universe. \nLearning how it may influence\, us and the energy as the New Moon falls on different zodiacs. Knowing this information will help you determine your goals and how to use this energy for your manifesting spell workings on your journey. AS the Moon grows so do we and our desires. \nThen two weeks later\, when the Moon is Full\, and we come together for the Full Moon Ritual we can give thanks for what we manifested and conjured into our lives. \nThis New Moon falls in the zodiac sign of Aquarius. This zodiac energy\, Is good for friendship\, freedom\, breaking bad habits\, problem solving\, luck\, Meeting new people and hope to name a few. \nCome and join us as we come together\, stirring the cauldron of desire and transformation\, as we set our intentions and goals forth to the universe. We will be starting the ritual at 5:30
URL:https://www.mqtuu.org/event/new-moon-ritual
LOCATION:MqtUU Meeting House\, 1510 M-28 East\, Marquette\, MI\, 49855\, United States
END:VEVENT
BEGIN:VEVENT
DTSTART;TZID=America/Detroit:20200121T180000
DTEND;TZID=America/Detroit:20200121T200000
DTSTAMP:20260424T151816
CREATED:20200114T225128Z
LAST-MODIFIED:20200114T225128Z
UID:5303-1579629600-1579636800@www.mqtuu.org
SUMMARY:Game Night
DESCRIPTION:  \nGAME NIGHT\nfor Teens & Adults. \nTuesdays @ 6pm\nGames played depend on the interest of participants. Board games\, role-playing games etc. \nFor more information contact Desi Mims.
URL:https://www.mqtuu.org/event/game-night-11
LOCATION:MqtUU Meeting House\, 1510 M-28 East\, Marquette\, MI\, 49855\, United States
ORGANIZER;CN="Desi Mims":MAILTO:crookedgod@aol.com
END:VEVENT
BEGIN:VEVENT
DTSTART;TZID=America/Detroit:20200114T180000
DTEND;TZID=America/Detroit:20200114T200000
DTSTAMP:20260424T151816
CREATED:20191230T224250Z
LAST-MODIFIED:20191230T224250Z
UID:5257-1579024800-1579032000@www.mqtuu.org
SUMMARY:Game Night
DESCRIPTION:  \nGAME NIGHT\nfor Teens & Adults. \nTuesdays @ 6pm\nGames played depend on the interest of participants. Board games\, role-playing games etc. \nFor more information contact Desi Mims.
URL:https://www.mqtuu.org/event/game-night-10
LOCATION:MqtUU Meeting House\, 1510 M-28 East\, Marquette\, MI\, 49855\, United States
ORGANIZER;CN="Desi Mims":MAILTO:crookedgod@aol.com
END:VEVENT
BEGIN:VEVENT
DTSTART;TZID=America/Detroit:20200111T170000
DTEND;TZID=America/Detroit:20200111T190000
DTSTAMP:20260424T151816
CREATED:20191230T130338Z
LAST-MODIFIED:20191230T130338Z
UID:5247-1578762000-1578769200@www.mqtuu.org
SUMMARY:January Full Moon Ritual
DESCRIPTION:Gather with us to celebrate the ascension of the Full Moon at the Unitarian Universalist Meeting Hall located just outside of Marquette. \nRitual will promptly start at 5:30 \nJanuary’s full Wolf moon is in Cancer. Your feeling of safety is now related to your home\, family and related activities such as cooking and gardening. You may be prone to emotional fluctuations; you should learn to forgive and forget in order to avoid depression from thinking too much about things. Your perception of the world can be very subjective; try to create a certain distance without being bitter. Due to your rich emotional manifestation you can create a real sense of belonging in the world. \nThe full Moon names come from Native American groups\, Colonial Americans\, or other traditional North American names passed down through generations. \nThe full Moon for January was called the Full Wolf Moon because wolves were more often heard at this time. It was traditionally thought that they howled due to hunger\, but there is no evidence for this. However\, wolves do tend to howl more often during winter months\, and generally howl to define territory\, locate pack members\, and gather for hunting. \nOther traditional names for the January Moon include: the Cold Moon\, the Old Moon\, and the Great Spirit Moon. \nPlease reach out to an admin if you need a ride or would like to carpool. \nA community donation from each member is requested but not required. Please give what you can\, but please don’t feel obligated to do so or do not attend if you can’t make a donation due to your financial situation. We would rather have you there than not at all. Donations will cover the cost of consumables at each event such as candles\, offerings\, etc. Any extra monies will go to a donation to the UU for use of their facilities and in the long term towards the UP Witches Ball.
URL:https://www.mqtuu.org/event/january-full-moon-ritual
LOCATION:MqtUU Meeting House\, 1510 M-28 East\, Marquette\, MI\, 49855\, United States
END:VEVENT
BEGIN:VEVENT
DTSTART;TZID=America/Detroit:20200107T180000
DTEND;TZID=America/Detroit:20200107T200000
DTSTAMP:20260424T151816
CREATED:20191230T224158Z
LAST-MODIFIED:20191230T224158Z
UID:5255-1578420000-1578427200@www.mqtuu.org
SUMMARY:Game Night
DESCRIPTION:  \nGAME NIGHT\nfor Teens & Adults. \nTuesdays @ 6pm\nGames played depend on the interest of participants. Board games\, role-playing games etc. \nFor more information contact Desi Mims.
URL:https://www.mqtuu.org/event/game-night-9
LOCATION:MqtUU Meeting House\, 1510 M-28 East\, Marquette\, MI\, 49855\, United States
ORGANIZER;CN="Desi Mims":MAILTO:crookedgod@aol.com
END:VEVENT
BEGIN:VEVENT
DTSTART;TZID=America/Detroit:20200105T120000
DTEND;TZID=America/Detroit:20200105T130000
DTSTAMP:20260424T151816
CREATED:20200101T233503Z
LAST-MODIFIED:20200101T233503Z
UID:5266-1578225600-1578229200@www.mqtuu.org
SUMMARY:Ministerial Search Forum
DESCRIPTION:Join in a discussion after the service to give your feedback on Rev. Kilpatrick’s December services and moving forward with a Ministerial Search Team. Your input matters. This discussion was started on December 29 with a group of 8. Was is a good fit when considering a Part-time Minister? Come share your thoughts. If you need more information or have any questions\, please contact Teri Rockwood by text\, phone\, or email.
URL:https://www.mqtuu.org/event/ministerial-search-forum
LOCATION:MqtUU Meeting House\, 1510 M-28 East\, Marquette\, MI\, 49855\, United States
ORGANIZER;CN="Teri Rockwood":MAILTO:teri.rockwood@gmail.com
END:VEVENT
BEGIN:VEVENT
DTSTART;TZID=America/Detroit:20191231T180000
DTEND;TZID=America/Detroit:20200101T003000
DTSTAMP:20260424T151816
CREATED:20191230T204704Z
LAST-MODIFIED:20191230T223819Z
UID:5251-1577815200-1577838600@www.mqtuu.org
SUMMARY:Game Night
DESCRIPTION:  \nGAME NIGHT\nfor Teens & Adults. \nTuesdays @ 6pm\nGames played depend on the interest of participants. Board games\, role-playing games etc. \nFor more information contact Desi Mims.
URL:https://www.mqtuu.org/event/game-night-8
LOCATION:MqtUU Meeting House\, 1510 M-28 East\, Marquette\, MI\, 49855\, United States
ORGANIZER;CN="Desi Mims":MAILTO:crookedgod@aol.com
END:VEVENT
BEGIN:VEVENT
DTSTART;TZID=America/Detroit:20191214T170000
DTEND;TZID=America/Detroit:20191214T190000
DTSTAMP:20260424T151816
CREATED:20190924T125844Z
LAST-MODIFIED:20191208T221123Z
UID:5139-1576342800-1576350000@www.mqtuu.org
SUMMARY:Soup Dinner
DESCRIPTION:Annual Fundraiser \nSign up for Soup/Desserts here!
URL:https://www.mqtuu.org/event/soup-dinner
LOCATION:MqtUU Meeting House\, 1510 M-28 East\, Marquette\, MI\, 49855\, United States
END:VEVENT
BEGIN:VEVENT
DTSTART;TZID=America/Detroit:20191124T110000
DTEND;TZID=America/Detroit:20191124T120000
DTSTAMP:20260424T151816
CREATED:20191008T123737Z
LAST-MODIFIED:20191020T133428Z
UID:5179-1574593200-1574596800@www.mqtuu.org
SUMMARY:Sunday Service
DESCRIPTION:Traditional Bread Communion\nTeri Rockwood
URL:https://www.mqtuu.org/event/sunday-service-58
LOCATION:MqtUU Meeting House\, 1510 M-28 East\, Marquette\, MI\, 49855\, United States
CATEGORIES:Calendar,Sunday Service
END:VEVENT
BEGIN:VEVENT
DTSTART;TZID=America/Detroit:20191117T180000
DTEND;TZID=America/Detroit:20191124T060000
DTSTAMP:20260424T151816
CREATED:20190922T122304Z
LAST-MODIFIED:20190922T122304Z
UID:5130-1574013600-1574575200@www.mqtuu.org
SUMMARY:RATI
DESCRIPTION:MqtUU hosting Room at the Inn
URL:https://www.mqtuu.org/event/rati
LOCATION:MqtUU Meeting House\, 1510 M-28 East\, Marquette\, MI\, 49855\, United States
END:VEVENT
BEGIN:VEVENT
DTSTART;TZID=America/Detroit:20191117T110000
DTEND;TZID=America/Detroit:20191117T120000
DTSTAMP:20260424T151816
CREATED:20191008T123647Z
LAST-MODIFIED:20191018T124503Z
UID:5177-1573988400-1573992000@www.mqtuu.org
SUMMARY:Sunday Service
DESCRIPTION:11am Service:\n“Getting to Know You: Deepening Connections Within Our UU Community”\nService Leader: Sarah Johnson\nThis Sunday\, we will take time to get to know each other a little bit better\, speed dating style and deepen our connections through an interactive\, fun service.
URL:https://www.mqtuu.org/event/sunday-service-57
LOCATION:MqtUU Meeting House\, 1510 M-28 East\, Marquette\, MI\, 49855\, United States
CATEGORIES:Calendar,Sunday Service
END:VEVENT
BEGIN:VEVENT
DTSTART;TZID=America/Detroit:20191114T100000
DTEND;TZID=America/Detroit:20191114T160000
DTSTAMP:20260424T151816
CREATED:20190922T122956Z
LAST-MODIFIED:20190922T122956Z
UID:5134-1573725600-1573747200@www.mqtuu.org
SUMMARY:NLH
DESCRIPTION:Northwoods Learning Hub: A family-focused center where a community of all ages comes together around open exploration and interest-driven learning.  Tuesdays and Thursdays will be there meeting days from 10 a.m. and 4 p.m.
URL:https://www.mqtuu.org/event/nlh-18
LOCATION:MqtUU Meeting House\, 1510 M-28 East\, Marquette\, MI\, 49855\, United States
END:VEVENT
BEGIN:VEVENT
DTSTART;TZID=America/Detroit:20191112T100000
DTEND;TZID=America/Detroit:20191112T160000
DTSTAMP:20260424T151816
CREATED:20190922T122911Z
LAST-MODIFIED:20190922T122911Z
UID:5132-1573552800-1573574400@www.mqtuu.org
SUMMARY:NLH
DESCRIPTION:Northwoods Learning Hub: A family-focused center where a community of all ages comes together around open exploration and interest-driven learning.  Tuesdays and Thursdays will be there meeting days from 10 a.m. and 4 p.m.
URL:https://www.mqtuu.org/event/nlh-17
LOCATION:MqtUU Meeting House\, 1510 M-28 East\, Marquette\, MI\, 49855\, United States
END:VEVENT
BEGIN:VEVENT
DTSTART;TZID=America/Detroit:20191110T121500
DTEND;TZID=America/Detroit:20191110T140000
DTSTAMP:20260424T151816
CREATED:20191008T125230Z
LAST-MODIFIED:20191018T125107Z
UID:5185-1573388100-1573394400@www.mqtuu.org
SUMMARY:Board of Trustees Mtg
DESCRIPTION:VACANCY on the Board of Trustees\nDue to the resignation of a member of the Board of Trustees there is currently a vacancy.\nAll members are invited to consider volunteering as a member of the Board of Trustees. Trustees serve two year terms. There are monthly meetings and lots of opportunity to make a difference in your congregation! Please contact Teri Rockwood if you are interested in volunteering as a member of the Board of Trustees!\n\nCome share your thoughts\, comments\, concerns and meet with the 2019/2020 Board of Trustees!\n\n2019/2020 BoT Members\nTeri Rockwood\, President\nMary Maki\, Vice President\nAnne Stark\, Secretary\nDesi Mims\, Trustee\n  \n 
URL:https://www.mqtuu.org/event/board-of-trustees-mtg-4
LOCATION:MqtUU Meeting House\, 1510 M-28 East\, Marquette\, MI\, 49855\, United States
END:VEVENT
BEGIN:VEVENT
DTSTART;TZID=America/Detroit:20191110T110000
DTEND;TZID=America/Detroit:20191110T120000
DTSTAMP:20260424T151816
CREATED:20191008T123600Z
LAST-MODIFIED:20191020T115619Z
UID:5175-1573383600-1573387200@www.mqtuu.org
SUMMARY:Sunday Service
DESCRIPTION:Service Leader: Anne Stark
URL:https://www.mqtuu.org/event/sunday-service-56
LOCATION:MqtUU Meeting House\, 1510 M-28 East\, Marquette\, MI\, 49855\, United States
END:VEVENT
BEGIN:VEVENT
DTSTART;TZID=America/Detroit:20191107T100000
DTEND;TZID=America/Detroit:20191107T160000
DTSTAMP:20260424T151816
CREATED:20190915T123637Z
LAST-MODIFIED:20190915T123637Z
UID:5088-1573120800-1573142400@www.mqtuu.org
SUMMARY:NLH
DESCRIPTION:Northwoods Learning Hub: A family-focused center where a community of all ages comes together around open exploration and interest-driven learning.  Tuesdays and Thursdays will be there meeting days from 10 a.m. and 4 p.m.
URL:https://www.mqtuu.org/event/nlh-15
LOCATION:MqtUU Meeting House\, 1510 M-28 East\, Marquette\, MI\, 49855\, United States
END:VEVENT
END:VCALENDAR