BEGIN:VCALENDAR
VERSION:2.0
PRODID:-//Marquette Unitarian Universalist Congregation - ECPv6.15.10//NONSGML v1.0//EN
CALSCALE:GREGORIAN
METHOD:PUBLISH
X-WR-CALNAME:Marquette Unitarian Universalist Congregation
X-ORIGINAL-URL:https://www.mqtuu.org
X-WR-CALDESC:Events for Marquette Unitarian Universalist Congregation
REFRESH-INTERVAL;VALUE=DURATION:PT1H
X-Robots-Tag:noindex
X-PUBLISHED-TTL:PT1H
BEGIN:VTIMEZONE
TZID:America/Detroit
BEGIN:DAYLIGHT
TZOFFSETFROM:-0500
TZOFFSETTO:-0400
TZNAME:EDT
DTSTART:20200308T070000
END:DAYLIGHT
BEGIN:STANDARD
TZOFFSETFROM:-0400
TZOFFSETTO:-0500
TZNAME:EST
DTSTART:20201101T060000
END:STANDARD
BEGIN:DAYLIGHT
TZOFFSETFROM:-0500
TZOFFSETTO:-0400
TZNAME:EDT
DTSTART:20210314T070000
END:DAYLIGHT
BEGIN:STANDARD
TZOFFSETFROM:-0400
TZOFFSETTO:-0500
TZNAME:EST
DTSTART:20211107T060000
END:STANDARD
BEGIN:DAYLIGHT
TZOFFSETFROM:-0500
TZOFFSETTO:-0400
TZNAME:EDT
DTSTART:20220313T070000
END:DAYLIGHT
BEGIN:STANDARD
TZOFFSETFROM:-0400
TZOFFSETTO:-0500
TZNAME:EST
DTSTART:20221106T060000
END:STANDARD
BEGIN:DAYLIGHT
TZOFFSETFROM:-0500
TZOFFSETTO:-0400
TZNAME:EDT
DTSTART:20230312T070000
END:DAYLIGHT
BEGIN:STANDARD
TZOFFSETFROM:-0400
TZOFFSETTO:-0500
TZNAME:EST
DTSTART:20231105T060000
END:STANDARD
END:VTIMEZONE
BEGIN:VEVENT
DTSTART;TZID=America/Detroit:20220403T110000
DTEND;TZID=America/Detroit:20220403T120000
DTSTAMP:20260424T083529
CREATED:20220303T195141Z
LAST-MODIFIED:20220401T013250Z
UID:5692-1648983600-1648987200@www.mqtuu.org
SUMMARY:Longing for Transcendence Sunday Service by Rev. Shari Woodbury presented by Desi Kilbourn-Mims
DESCRIPTION:April’s Soul Matters theme is awakening\, so here’s a service built on that theme. \n\nMasks are now optional though suggested for in person. If you are feeling unwell\, please attend virtually. \nTo attend virtually\, please check the weekly newsletter (This n That) for the link or contact Desi at mqtuuadassist@gmail.com
URL:https://www.mqtuu.org/event/undeclared-sunday-service-7
LOCATION:MI
CATEGORIES:Sunday Service
END:VEVENT
BEGIN:VEVENT
DTSTART;TZID=America/Detroit:20220327T110000
DTEND;TZID=America/Detroit:20220327T120000
DTSTAMP:20260424T083529
CREATED:20220324T205454Z
LAST-MODIFIED:20220324T205454Z
UID:5714-1648378800-1648382400@www.mqtuu.org
SUMMARY:A House of Hope Sunday Service with Desi Kilbourn-Mims
DESCRIPTION:A Soul Matters service on hope and its renewal. \nIf you would like to attend via Zoom\, check the weekly newsletter (This n That) or email Desi at mqtuuadassist@gmail.com.
URL:https://www.mqtuu.org/event/a-house-of-hope-sunday-service-with-desi-kilbourn-mims
LOCATION:MqtUU Meeting House\, 1510 M-28 East\, Marquette\, MI\, 49855\, United States
CATEGORIES:Sunday Service
END:VEVENT
BEGIN:VEVENT
DTSTART;TZID=America/Detroit:20220322T183000
DTEND;TZID=America/Detroit:20220322T200000
DTSTAMP:20260424T083529
CREATED:20220303T202032Z
LAST-MODIFIED:20220321T201714Z
UID:5697-1647973800-1647979200@www.mqtuu.org
SUMMARY:Board Meeting (Rescheduled)
DESCRIPTION:This month’s board meeting. If you would like to attend via Zoom\, check the weekly newsletter (This n That) or contact mqtuuadassist@gmail.com. \nThis meeting has been rescheduled to March 22nd.
URL:https://www.mqtuu.org/event/board-meeting
LOCATION:MqtUU Meeting House\, 1510 M-28 East\, Marquette\, MI\, 49855\, United States
END:VEVENT
BEGIN:VEVENT
DTSTART;TZID=America/Detroit:20220320T110000
DTEND;TZID=America/Detroit:20220320T120000
DTSTAMP:20260424T083529
CREATED:20220303T194641Z
LAST-MODIFIED:20220317T140852Z
UID:5690-1647774000-1647777600@www.mqtuu.org
SUMMARY:Bring Back the Snakes! An Alternative Look At St. Patrick's Day with February Sky
DESCRIPTION:The “snakes” that St. Patrick drove out of Ireland were actually the Druidic\, Pagan and Celtic ways that the people there had followed for centuries. Whether he drove them out by violence or assimilation\, St. Patrick destroyed religious practices and beliefs that were very much life-affirming – among other things\, the idea of living in harmony with the natural world and thinking for oneself instead of following authority! Hmmm…..sounds kinda Unitarian\, doesn’t it… Let’s bring back the snakes! Masks will be required to attend in person. \nOrder of Service available here. \nIf you would like to attend via Zoom\, please check the weekly newsletter (This n That) for the link or contact mqtuuadassist@gmail.com
URL:https://www.mqtuu.org/event/bring-back-the-snakes-an-alternative-look-at-st-patricks-day-with-february-sky
LOCATION:MqtUU Meeting House\, 1510 M-28 East\, Marquette\, MI\, 49855\, United States
CATEGORIES:Sunday Service
END:VEVENT
BEGIN:VEVENT
DTSTART;TZID=America/Detroit:20220313T110000
DTEND;TZID=America/Detroit:20220313T120000
DTSTAMP:20260424T083529
CREATED:20220303T183538Z
LAST-MODIFIED:20220303T183538Z
UID:5684-1647169200-1647172800@www.mqtuu.org
SUMMARY:Overcoming Fear Triangle Service with Alice Diebel
DESCRIPTION:Overcoming Fear: As the world faces ongoing tensions\, disasters\, and harms\, how can our UU faith be a guide to imagine and behold wonder? \nAs one of our shared services with Petoskey and Bay de Noc\, this service will be primarily via Zoom and using a different link than we use most weeks. If you are participating in person\, masks are required. \nTo attend via Zoom\, please use this *link*
URL:https://www.mqtuu.org/event/overcoming-fear-triangle-service-with-alice-diebel
LOCATION:MI
CATEGORIES:Sunday Service
END:VEVENT
BEGIN:VEVENT
DTSTART;TZID=America/Detroit:20220312T160000
DTEND;TZID=America/Detroit:20220312T190000
DTSTAMP:20260424T083529
CREATED:20220303T190745Z
LAST-MODIFIED:20220305T145847Z
UID:5686-1647100800-1647111600@www.mqtuu.org
SUMMARY:Esbat with Yooper Pagan Alliance
DESCRIPTION:Due to inclement weather\, this event has been rescheduled to the 12th. \nAn Esbat celebration is being held at the meeting house. Description at this link: Esbat 3-5-22
URL:https://www.mqtuu.org/event/esbat-with-yooper-pagan-alliance
LOCATION:MI
END:VEVENT
BEGIN:VEVENT
DTSTART;TZID=America/Detroit:20220227T110000
DTEND;TZID=America/Detroit:20220227T120000
DTSTAMP:20260424T083529
CREATED:20220127T171620Z
LAST-MODIFIED:20220224T161230Z
UID:5661-1645959600-1645963200@www.mqtuu.org
SUMMARY:The Joys and Concerns of Selfless Service Sunday Service
DESCRIPTION:Talking about how charity and kindness can be a band-aid that doesn’t stick. Masks will be required for in person. \n  \nIf you would like to attend via Zoom\, please check the weekly newsletter for the link or contact Desi at mqtuuadassist@gmail.com.
URL:https://www.mqtuu.org/event/undeclared-sunday-service-6
LOCATION:MqtUU Meeting House\, 1510 M-28 East\, Marquette\, MI\, 49855\, United States
CATEGORIES:Sunday Service
END:VEVENT
BEGIN:VEVENT
DTSTART;TZID=America/Detroit:20220221T183000
DTEND;TZID=America/Detroit:20220221T200000
DTSTAMP:20260424T083529
CREATED:20220127T165611Z
LAST-MODIFIED:20220127T165611Z
UID:5655-1645468200-1645473600@www.mqtuu.org
SUMMARY:Monthly Board Meeting
DESCRIPTION:Time for the monthly board meeting. If you would like to attend via Zoom\, check for the link in the weekly newsletter or contact mqtuuadassist@gmail.com.
URL:https://www.mqtuu.org/event/monthly-board-meeting-3
LOCATION:MqtUU Meeting House\, 1510 M-28 East\, Marquette\, MI\, 49855\, United States
END:VEVENT
BEGIN:VEVENT
DTSTART;TZID=America/Detroit:20220220T110000
DTEND;TZID=America/Detroit:20220220T120000
DTSTAMP:20260424T083529
CREATED:20220127T171517Z
LAST-MODIFIED:20220203T160145Z
UID:5659-1645354800-1645358400@www.mqtuu.org
SUMMARY:Stars in Their Crown – The Grace and Glory of Long-Lasting Love Sunday Service with February Sky
DESCRIPTION:It’s February\, the month of Valentine’s Day. At this time we hear a lot about the heart-pounding\, brain-draining excitement of new love. But some lovers are blessed\, when the romantic stage passes\, with a love that grows in depth and complexity until they become almost like one person simultaneously inhabiting two different bodies. Yes\, that can sound a little scary\, as people worry about losing themselves in that other person\, but the truth is that this type of love can put us more in touch with who we really are than new love ever dreams of. Masks are required for in-person attendance. \nIf you would like to attend via Zoom\, check the weekly newsletter for the link or contact Desi at mqtuuadassist@gmail.com.
URL:https://www.mqtuu.org/event/undeclared-sunday-service-with-february-sky-2
LOCATION:MqtUU Meeting House\, 1510 M-28 East\, Marquette\, MI\, 49855\, United States
CATEGORIES:Sunday Service
END:VEVENT
BEGIN:VEVENT
DTSTART;TZID=America/Detroit:20220213T110000
DTEND;TZID=America/Detroit:20220213T120000
DTSTAMP:20260424T083529
CREATED:20220127T172148Z
LAST-MODIFIED:20220210T225207Z
UID:5663-1644750000-1644753600@www.mqtuu.org
SUMMARY:Side With Love Triangle Sunday Service with Rev. Alice Diebel
DESCRIPTION:Universalists have been talking about love for centuries! How might we “side with love” in 2022? \n  \nOur monthly Triangle Service with Petosky and Bay de Noc. This service will be largely over Zoom and held via a different link than our usual service. Link here. \nIf participating in person\, masks are still required.
URL:https://www.mqtuu.org/event/triangle-sunday-service-with-petosky-and-bay-de-noc
LOCATION:MI
CATEGORIES:Sunday Service
END:VEVENT
BEGIN:VEVENT
DTSTART;TZID=America/Detroit:20220206T110000
DTEND;TZID=America/Detroit:20220206T120000
DTSTAMP:20260424T083529
CREATED:20220127T171336Z
LAST-MODIFIED:20220127T171336Z
UID:5657-1644145200-1644148800@www.mqtuu.org
SUMMARY:Undeclared Sunday Service
DESCRIPTION:Details to be announced. If you would like to present a Sunday Service\, please contact Desi at mqtuuadassist@gmail.com.
URL:https://www.mqtuu.org/event/undeclared-sunday-service-5
LOCATION:MqtUU Meeting House\, 1510 M-28 East\, Marquette\, MI\, 49855\, United States
CATEGORIES:Sunday Service
END:VEVENT
BEGIN:VEVENT
DTSTART;TZID=America/Detroit:20220204T170000
DTEND;TZID=America/Detroit:20220204T200000
DTSTAMP:20260424T083529
CREATED:20220203T165410Z
LAST-MODIFIED:20220203T165410Z
UID:5674-1643994000-1644004800@www.mqtuu.org
SUMMARY:February Spiritual Exploration event for ALL ages
DESCRIPTION:February Spiritual Exploration event for ALL ages:\n\n\nTiki-lit snowshoeing\, sledding\, hot cocoa & a bonfire at the Dragonfly Dunes Lodge.\n\n\nFriday\, Feb 4th\n5-8 pm\n2040 M-28 east\n(About 4 miles east of the Meeting House)\n\n\nB.Y.O. Snowshoes\, sleds\, headlamps
URL:https://www.mqtuu.org/event/february-spiritual-exploration-event-for-all-ages
LOCATION:MI
ORGANIZER;CN="Sarah Johnson":MAILTO:iamsarahjeanjohnson@gmail.com
END:VEVENT
BEGIN:VEVENT
DTSTART;TZID=America/Detroit:20220130T110000
DTEND;TZID=America/Detroit:20220130T120000
DTSTAMP:20260424T083529
CREATED:20211230T234240Z
LAST-MODIFIED:20220127T165146Z
UID:5636-1643540400-1643544000@www.mqtuu.org
SUMMARY:Forgiveness Sunday Service with Teri Rockwood
DESCRIPTION:“Love is knotted and gnarled\, like an old tree fighting with the wind\, like branches too brittle for their own good\, like roots that relentlessly inform how deeply we can trust and how freely we can forgive.” Jan Carlsson-Bull Masks will be required for in person. Order of service available a this link. \nIf you would like to participate via Zoom\, find the link in the weekly newsletter or contact Desi at mqtuuadassist@gmail.com.
URL:https://www.mqtuu.org/event/undeclared-sunday-service-4
LOCATION:MqtUU Meeting House\, 1510 M-28 East\, Marquette\, MI\, 49855\, United States
CATEGORIES:Sunday Service
END:VEVENT
BEGIN:VEVENT
DTSTART;TZID=America/Detroit:20220129T130000
DTEND;TZID=America/Detroit:20220129T170000
DTSTAMP:20260424T083529
CREATED:20220127T172757Z
LAST-MODIFIED:20220127T172757Z
UID:5665-1643461200-1643475600@www.mqtuu.org
SUMMARY:Group Hike
DESCRIPTION:Join me next Saturday for a hike along the Dead River at the BLP trails along Wright Street. Meet in main trailhead parking lot at 1 p.m.\nBoots\, snowshoes\, or yak tracks depending on trail conditions. Usually\, boots will do this time of year.\nOne to two hours\, depending on group interests. We will do the loop that takes you past scenic water features and the Forestville Basin dam.\nMessage Me if you would like more info.\n-Teri Rockwood \nLink Here
URL:https://www.mqtuu.org/event/group-hike
LOCATION:MI
ORGANIZER;CN="Teri Rockwood":MAILTO:teri.rockwood@gmail.com
END:VEVENT
BEGIN:VEVENT
DTSTART;TZID=America/Detroit:20220124T183000
DTEND;TZID=America/Detroit:20220124T193000
DTSTAMP:20260424T083529
CREATED:20211230T231842Z
LAST-MODIFIED:20220120T153203Z
UID:5632-1643049000-1643052600@www.mqtuu.org
SUMMARY:Monthly Board Meeting
DESCRIPTION:This meeting has now been rescheduled to the 24th of January. \n  \nTime for the monthly board meeting. If you would like to attend via Zoom\, check for the link in the weekly newsletter or contact mqtuuadassist@gmail.com.
URL:https://www.mqtuu.org/event/monthly-board-meeting-2
LOCATION:MI
END:VEVENT
BEGIN:VEVENT
DTSTART;TZID=America/Detroit:20220123T110000
DTEND;TZID=America/Detroit:20220123T120000
DTSTAMP:20260424T083529
CREATED:20211230T232156Z
LAST-MODIFIED:20220120T225952Z
UID:5634-1642935600-1642939200@www.mqtuu.org
SUMMARY:Reverence and Glory:  The Songs of Dave Carter Sunday Service with February Sky
DESCRIPTION:Dave Carter (1952-2002) was an American folk singer and songwriter who self-described his style as “post-modern mythic American folk music.”   Many of his songs deal with spiritual issues and speak of things that UUs like to think and talk about.  This service will consist of some of our favorite Dave Carter songs interspersed with reflections on why we like them. Masks will be required for in person. Order of service available a this link. \nTo attend via Zoom\, please see the weekly newsletter (This n That) or contact mqtuuadassist@gmail.com
URL:https://www.mqtuu.org/event/undeclared-sunday-service-with-february-sky
LOCATION:MqtUU Meeting House\, 1510 M-28 East\, Marquette\, MI\, 49855\, United States
CATEGORIES:Sunday Service
END:VEVENT
BEGIN:VEVENT
DTSTART;TZID=America/Detroit:20220116T110000
DTEND;TZID=America/Detroit:20220116T120000
DTSTAMP:20260424T083529
CREATED:20211230T231546Z
LAST-MODIFIED:20220113T225236Z
UID:5630-1642330800-1642334400@www.mqtuu.org
SUMMARY:Creativity\, Connection\, and the Search for Self Sunday Service with Cassie Haapapuro
DESCRIPTION:First time presenter Cassie gives us a whole service about knitting. It may sound silly\, but go with it. Masks will be required for in person. \n  \nIf you would like to attend via Zoom\, check the This n That weekly newsletter or contact Desi at mqtuuadassist@gmail.com for the link.
URL:https://www.mqtuu.org/event/undeclared-sunday-service-3
LOCATION:MqtUU Meeting House\, 1510 M-28 East\, Marquette\, MI\, 49855\, United States
CATEGORIES:Sunday Service
END:VEVENT
BEGIN:VEVENT
DTSTART;TZID=America/Detroit:20220109T110000
DTEND;TZID=America/Detroit:20220109T120000
DTSTAMP:20260424T083529
CREATED:20211230T231149Z
LAST-MODIFIED:20211230T231149Z
UID:5628-1641726000-1641729600@www.mqtuu.org
SUMMARY:Turning the Corner Triangle Service with Rev. Alice Diebel
DESCRIPTION:Turning the Corner\, Rounding the Bend\, Reaching the Summit. As the year on our calendars turns from 2021 to 2022\, does anything really change? How can we make use of this time of year for good? \nThis is our monthly Triangle Service we share with Petosky and Bay de Noc. Therefore\, we will be using a different Zoom link than most Sundays. That link can be found here. If attending in person\, please remember to bring a mask.
URL:https://www.mqtuu.org/event/turning-the-corner-triangle-service-with-rev-alice-diebel
LOCATION:MI
CATEGORIES:Sunday Service
END:VEVENT
BEGIN:VEVENT
DTSTART;TZID=America/Detroit:20220105T180000
DTEND;TZID=America/Detroit:20220105T210000
DTSTAMP:20260424T083529
CREATED:20211126T141901Z
LAST-MODIFIED:20211230T225138Z
UID:5593-1641405600-1641416400@www.mqtuu.org
SUMMARY:Card Game Night
DESCRIPTION:
URL:https://www.mqtuu.org/event/card-game-night
LOCATION:MqtUU Meeting House\, 1510 M-28 East\, Marquette\, MI\, 49855\, United States
END:VEVENT
BEGIN:VEVENT
DTSTART;TZID=America/Detroit:20220104T180000
DTEND;TZID=America/Detroit:20220104T220000
DTSTAMP:20260424T083529
CREATED:20211126T141728Z
LAST-MODIFIED:20211230T225258Z
UID:5590-1641319200-1641333600@www.mqtuu.org
SUMMARY:Board Game Night
DESCRIPTION:
URL:https://www.mqtuu.org/event/board-game-night-2
LOCATION:MqtUU Meeting House\, 1510 M-28 East\, Marquette\, MI\, 49855\, United States
END:VEVENT
BEGIN:VEVENT
DTSTART;TZID=America/Detroit:20220102T110000
DTEND;TZID=America/Detroit:20220102T120000
DTSTAMP:20260424T083529
CREATED:20211230T230022Z
LAST-MODIFIED:20211230T230022Z
UID:5626-1641121200-1641124800@www.mqtuu.org
SUMMARY:Living with Intention Sunday Service
DESCRIPTION:Intent Vs. Impact: Resolutions for a New Year\nby Rev. David A. Miller\npresented by Desi Kilbourn-Mims \nThis month’s Soul Matters topic is Living with Intention\, so Desi will be reciting a sermon from Rev. David A. Miller as part of a service devoted to the topic. Masks will be required for in person.\n\nIf you would like to attend via Zoom\, check the weekly newsletter or contact mqtuuadassist@gmail.com for the link.
URL:https://www.mqtuu.org/event/living-with-intention-sunday-service
LOCATION:MqtUU Meeting House\, 1510 M-28 East\, Marquette\, MI\, 49855\, United States
CATEGORIES:Sunday Service
END:VEVENT
BEGIN:VEVENT
DTSTART;TZID=America/Detroit:20211226T110000
DTEND;TZID=America/Detroit:20211226T120000
DTSTAMP:20260424T083529
CREATED:20211126T145650Z
LAST-MODIFIED:20211224T021430Z
UID:5601-1640516400-1640520000@www.mqtuu.org
SUMMARY:At the Turning of the Year Service with February Sky
DESCRIPTION:Join us for a New Years celebration over Zoom with February Sky (who will be performing from home). Masks will be required for those attending in person. \nOrder of Service available by clicking here. \nIf you would like to attend via Zoom\, check the weekly newsletter or contact Desi at mqtuuadassist@gmail.com.
URL:https://www.mqtuu.org/event/at-the-turning-of-the-year-service-with-february-sky
LOCATION:MqtUU Meeting House\, 1510 M-28 East\, Marquette\, MI\, 49855\, United States
CATEGORIES:Sunday Service
END:VEVENT
BEGIN:VEVENT
DTSTART;TZID=America/Detroit:20211219T110000
DTEND;TZID=America/Detroit:20211219T120000
DTSTAMP:20260424T083529
CREATED:20211126T144848Z
LAST-MODIFIED:20211126T144848Z
UID:5599-1639911600-1639915200@www.mqtuu.org
SUMMARY:Undeclared Sunday Service
DESCRIPTION:Service details to be announced. If you would like to volunteer to lead a service\, please contact Desi at mqtuuadassist@gmail.com. \n  \nIf you would like to attend via Zoom\, check the weekly newsletter or contact Desi at mqtuuadassist@gmail.com
URL:https://www.mqtuu.org/event/undeclared-sunday-service-2
LOCATION:MqtUU Meeting House\, 1510 M-28 East\, Marquette\, MI\, 49855\, United States
CATEGORIES:Sunday Service
END:VEVENT
BEGIN:VEVENT
DTSTART;TZID=America/Detroit:20211212T110000
DTEND;TZID=America/Detroit:20211212T120000
DTSTAMP:20260424T083529
CREATED:20211126T144358Z
LAST-MODIFIED:20211126T144358Z
UID:5597-1639306800-1639310400@www.mqtuu.org
SUMMARY:Monthly Triangle Service
DESCRIPTION:This Sunday is our monthly Triangle service\, in which we share a service via Zoom with Petosky and Bay de Noc UUs. Further details to be announced.
URL:https://www.mqtuu.org/event/monthly-triangle-service
LOCATION:MqtUU Meeting House\, 1510 M-28 East\, Marquette\, MI\, 49855\, United States
CATEGORIES:Sunday Service
END:VEVENT
BEGIN:VEVENT
DTSTART;TZID=America/Detroit:20211209T170000
DTEND;TZID=America/Detroit:20211209T200000
DTSTAMP:20260424T083529
CREATED:20211205T163540Z
LAST-MODIFIED:20211205T163540Z
UID:5607-1639069200-1639080000@www.mqtuu.org
SUMMARY:Room at the Inn Soup Dinner
DESCRIPTION:Meal for 30 needs to be prepared onsite at Warming Center or in a commercial kitchen and brought to Warming Center \n  \n**NEED 5-6 more people to execute. If you can help\, please let me know ASAP. We are looking at December 9th 5:00-8:00pm (approximate) at the RATI Warming Center** \n  \nMonetary donations would be amazing because we can purchase dinner fixings but\, when we have secured volunteers\, we will also reach out for food donations to execute (soup ingredients\, salad fixings\, fruit salad\, dinner rolls\, and dessert ingredients). \n  \nIf we have the basics so we can prepare (or deliver) a meal\, we would welcome additional donations like TP\, PT\, coffee and disposable cutlery. See full list of RATI donation requests> https://roomattheinn.org/donate \n  \nPlease let me know how you’d like to join in our December activity. \n  \nSarah Johnson \n  \n458-3915
URL:https://www.mqtuu.org/event/room-at-the-inn-soup-dinner
LOCATION:Room at the Inn Warming Center\, 447 W. Washington St\, Marquette\, MI\, United States
ORGANIZER;CN="Sarah Johnson":MAILTO:iamsarahjeanjohnson@gmail.com
END:VEVENT
BEGIN:VEVENT
DTSTART;TZID=America/Detroit:20211205T110000
DTEND;TZID=America/Detroit:20211205T120000
DTSTAMP:20260424T083529
CREATED:20211126T143914Z
LAST-MODIFIED:20211202T225306Z
UID:5595-1638702000-1638705600@www.mqtuu.org
SUMMARY:The Sixth Principle with Jill Malin
DESCRIPTION:Jill will be leading a service this week on the goal of world community with peace\, liberty\, and justice for all. Masks will be required for in person.\n  \n  \nAnd if you’d like to join us via Zoom\, check the weekly newsletter for the link or contact Desi at mqtuuadassist@gmail.com \nAlso\, if you would like to volunteer to write a service or speak at one\, please contact Desi at mqtuuadassist@gmail.com
URL:https://www.mqtuu.org/event/undeclared-sunday-service
LOCATION:MqtUU Meeting House\, 1510 M-28 East\, Marquette\, MI\, 49855\, United States
CATEGORIES:Sunday Service
END:VEVENT
BEGIN:VEVENT
DTSTART;TZID=America/Detroit:20211128T110000
DTEND;TZID=America/Detroit:20211128T120000
DTSTAMP:20260424T083529
CREATED:20211125T144833Z
LAST-MODIFIED:20211125T144833Z
UID:5583-1638097200-1638100800@www.mqtuu.org
SUMMARY:Your Inherent Worth and Dignity by Fudo Joseph Mold
DESCRIPTION:Your Inherent Worth and Dignity\nby Fudo Joseph Mold \n“Your inherent worth and dignity. A talk about self compassion\, gratitude and generosity.”\nJoin Fudo Joseph Mold\, an ordained Soto Zen Buddhist Priest from the Lake Superior Zendo\, to discuss buddhist perspectives of self worth\, gratitude and generosity. Masks will be required for in person.\nNovember 28\nTime: 11:00 am \nTo attend virtually via Zoom\, contact mqtuuadassist@gmail.com or see the latest weekly newsletter.
URL:https://www.mqtuu.org/event/your-inherent-worth-and-dignity-by-fudo-joseph-mold
LOCATION:MqtUU Meeting House\, 1510 M-28 East\, Marquette\, MI\, 49855\, United States
CATEGORIES:Sunday Service
END:VEVENT
BEGIN:VEVENT
DTSTART;TZID=America/Detroit:20211121T110000
DTEND;TZID=America/Detroit:20211121T120000
DTSTAMP:20260424T083529
CREATED:20211118T174444Z
LAST-MODIFIED:20211118T174444Z
UID:5580-1637492400-1637496000@www.mqtuu.org
SUMMARY:On This Gray November Morn
DESCRIPTION:On This Gray November Morn\nby February Sky \nIn Northern places\, November is a time when the world seems to be holding its breath.  Gray skies and bare trees mark this interval between high Autumn and Winter.  Some find November dismal\, but there is a beauty to it that can be appreciated by those with open eyes and open hearts.  It’s no coincidence that we choose this barren and gloomy month to give thanks for the blessings in our lives.  We will deal with the idea of being able to savor our personal November-like times\, as we wait for the next thing to arrive. Masks will be required for in person. \nNovember 21\nTime: 11:00 am \nTo attend service virtually\, check the weekly newsletter or contact mqtuuadassist@nmu.edu \nDigital Order of Service available at this link
URL:https://www.mqtuu.org/event/on-this-gray-november-morn
LOCATION:MqtUU Meeting House\, 1510 M-28 East\, Marquette\, MI\, 49855\, United States
CATEGORIES:Sunday Service
END:VEVENT
BEGIN:VEVENT
DTSTART;TZID=America/Detroit:20211107T110000
DTEND;TZID=America/Detroit:20211107T120000
DTSTAMP:20260424T083529
CREATED:20211104T204945Z
LAST-MODIFIED:20211104T204945Z
UID:5575-1636282800-1636286400@www.mqtuu.org
SUMMARY:Can You Forgive Yourself?
DESCRIPTION:Can You Forgive Yourself?\nby Rev. Tim Kutzmark\npresented by Desi Kilbourn-Mims \nA service on the necessities of forgiving oneself and the struggle to do so. Masks will be required. \nFor Zoom link\, contact mqtuuadassist@gmail.com or check the weekly newsletter.
URL:https://www.mqtuu.org/event/can-you-forgive-yourself
LOCATION:MqtUU Meeting House\, 1510 M-28 East\, Marquette\, MI\, 49855\, United States
CATEGORIES:Sunday Service
END:VEVENT
BEGIN:VEVENT
DTSTART;TZID=America/Detroit:20211031T110000
DTEND;TZID=America/Detroit:20211031T120000
DTSTAMP:20260424T083529
CREATED:20211028T154250Z
LAST-MODIFIED:20211028T154250Z
UID:5573-1635678000-1635681600@www.mqtuu.org
SUMMARY:A Time for Terror with Erin and Desi Kilbourn-Mims
DESCRIPTION:A service on the benefits of fear in small doses and controlled contexts\, for Halloween obviously. Masks will be required. \nFor the Zoom link\, check the weekly newsletter or contact mqtuuadassist@gmail.com
URL:https://www.mqtuu.org/event/a-time-for-terror-with-erin-and-desi-kilbourn-mims
LOCATION:MqtUU Meeting House\, 1510 M-28 East\, Marquette\, MI\, 49855\, United States
CATEGORIES:Sunday Service
END:VEVENT
END:VCALENDAR