BEGIN:VCALENDAR
VERSION:2.0
PRODID:-//Marquette Unitarian Universalist Congregation - ECPv6.15.10//NONSGML v1.0//EN
CALSCALE:GREGORIAN
METHOD:PUBLISH
X-ORIGINAL-URL:https://www.mqtuu.org
X-WR-CALDESC:Events for Marquette Unitarian Universalist Congregation
REFRESH-INTERVAL;VALUE=DURATION:PT1H
X-Robots-Tag:noindex
X-PUBLISHED-TTL:PT1H
BEGIN:VTIMEZONE
TZID:America/Detroit
BEGIN:DAYLIGHT
TZOFFSETFROM:-0500
TZOFFSETTO:-0400
TZNAME:EDT
DTSTART:20210314T070000
END:DAYLIGHT
BEGIN:STANDARD
TZOFFSETFROM:-0400
TZOFFSETTO:-0500
TZNAME:EST
DTSTART:20211107T060000
END:STANDARD
BEGIN:DAYLIGHT
TZOFFSETFROM:-0500
TZOFFSETTO:-0400
TZNAME:EDT
DTSTART:20220313T070000
END:DAYLIGHT
BEGIN:STANDARD
TZOFFSETFROM:-0400
TZOFFSETTO:-0500
TZNAME:EST
DTSTART:20221106T060000
END:STANDARD
BEGIN:DAYLIGHT
TZOFFSETFROM:-0500
TZOFFSETTO:-0400
TZNAME:EDT
DTSTART:20230312T070000
END:DAYLIGHT
BEGIN:STANDARD
TZOFFSETFROM:-0400
TZOFFSETTO:-0500
TZNAME:EST
DTSTART:20231105T060000
END:STANDARD
END:VTIMEZONE
BEGIN:VEVENT
DTSTART;TZID=America/Detroit:20220703T110000
DTEND;TZID=America/Detroit:20220703T120000
DTSTAMP:20260424T060400
CREATED:20220616T234612Z
LAST-MODIFIED:20220616T234612Z
UID:5823-1656846000-1656849600@www.mqtuu.org
SUMMARY:NO Sunday Service today due to holiday weekend
DESCRIPTION:Due to the holiday weekend\, we are taking this Sunday off.  Enjoy your holiday and be safe!
URL:https://www.mqtuu.org/event/no-sunday-service-today-due-to-holiday-weekend
END:VEVENT
BEGIN:VEVENT
DTSTART;TZID=America/Detroit:20220626T123000
DTEND;TZID=America/Detroit:20220626T133000
DTSTAMP:20260424T060400
CREATED:20220624T001653Z
LAST-MODIFIED:20220624T001653Z
UID:5841-1656246600-1656250200@www.mqtuu.org
SUMMARY:Viewing of the Sunday service at the UUA General Assembly on Zoom.
DESCRIPTION:
URL:https://www.mqtuu.org/event/viewing-of-the-sunday-service-at-the-uua-general-assembly-on-zoom
END:VEVENT
BEGIN:VEVENT
DTSTART;TZID=America/Detroit:20220626T110000
DTEND;TZID=America/Detroit:20220626T120000
DTSTAMP:20260424T060400
CREATED:20220609T192431Z
LAST-MODIFIED:20220616T234220Z
UID:5817-1656241200-1656244800@www.mqtuu.org
SUMMARY:Sunday Service\, "Do Unitarian Universalists Need More Than Two Fundamental Principles?” presented by Martin Steindler
DESCRIPTION:
URL:https://www.mqtuu.org/event/sunday-service-topic-tba
END:VEVENT
BEGIN:VEVENT
DTSTART;TZID=America/Detroit:20220619T110000
DTEND;TZID=America/Detroit:20220619T120000
DTSTAMP:20260424T060400
CREATED:20220602T181001Z
LAST-MODIFIED:20220602T191122Z
UID:5806-1655636400-1655640000@www.mqtuu.org
SUMMARY:For All Our Dads – A Father’s Day Tribute to Fathers and Father Figures\, presented by February Sky
DESCRIPTION:For All Our Dads – A Father’s Day Tribute to Fathers and Father Figures\nPresenter: February Sky (Phil Cooper & Susan Urban)\nBoth men and women seem to have an innate need for nurturance from males as well as females. If someone’s biological father is absent or unavailable\, they will often seek out other men to fill the “Dad Gap.” These surrogate fathers can be as important to a person’s development as “real” fathers. We will celebrate both types of father figures\, and also reflect on what can happen when a father is distant or emotionally unavailable.
URL:https://www.mqtuu.org/event/for-all-our-dads-a-fathers-day-tribute-to-fathers-and-father-figures-presented-by-february-sky
END:VEVENT
BEGIN:VEVENT
DTSTART;TZID=America/Detroit:20220615T170000
DTEND;TZID=America/Detroit:20220615T190000
DTSTAMP:20260424T060400
CREATED:20220602T182009Z
LAST-MODIFIED:20220602T182009Z
UID:5808-1655312400-1655319600@www.mqtuu.org
SUMMARY:MUUC Board of Trustees Meeting
DESCRIPTION:All are welcome to attend.
URL:https://www.mqtuu.org/event/muuc-board-of-trustees-meeting
END:VEVENT
BEGIN:VEVENT
DTSTART;TZID=America/Detroit:20220612T080000
DTEND;TZID=America/Detroit:20220612T120000
DTSTAMP:20260424T060400
CREATED:20220602T180616Z
LAST-MODIFIED:20220609T192230Z
UID:5804-1655020800-1655035200@www.mqtuu.org
SUMMARY:Liam Rockwood's Bridging Ceremony led by Jamie Kuehnl and our UU youth
DESCRIPTION:Liam is a 2022 Marquette Senior High School graduate. The Bridging Ceremony is a tradition at MUUC and celebrates the transition of youth into young adulthood. One of the most important things we can do for our youth is to support them into adulthood\, to keep them connected to Unitarian Universalism\, and continue to support them as they become adults.
URL:https://www.mqtuu.org/event/bridging-ceremony-service-for-liam-rockwood
END:VEVENT
BEGIN:VEVENT
DTSTART;TZID=America/Detroit:20220605T120000
DTEND;TZID=America/Detroit:20220605T130000
DTSTAMP:20260424T060400
CREATED:20220519T210505Z
LAST-MODIFIED:20220603T002108Z
UID:5769-1654430400-1654434000@www.mqtuu.org
SUMMARY:Annual Meeting - vote on MUUC Budget & Board of Trustees for 2022-2023 Fiscal Year
DESCRIPTION:ANNUAL MEETING after the service to vote on the MUUC Budget for the 2022-2023 Fiscal Year.\nIMPORTANT – VACANCIES on the Board of Trustees\nDue to the resignation of a member of the Board of Trustees and the expiration of the term of another\, there are currently several vacancies.\nAll members are invited to consider volunteering as a member of the Board of Trustees. Trustees serve two year terms. There are monthly meetings and many opportunities to make a difference in your congregation!  Please email mqtuuadassist@gmail.com or volunteer at the Annual Meeting on June 5th if you are interested in serving as a member of the Board of Trustees!\nAGENDA FOR ANNUAL MEETING:\nOpening words\nMember roll call\nState of Congregation report\nPresent proposed budget\, discuss\, and vote Link to proposed budget is here (please note that the Administrative Assistant position is not being funded)\nBoard of Trustees nominations and vote\nJill Malin seeking renewal term\nOpen Forum\nClosing words\nALL ARE WELCOME\, BUT ONLY CURRENT MEMBERS WHO HAVE PAID A PLEDGE IN ANY AMOUNT DURING THE CURRENT FISCAL YEAR MAY VOTE.
URL:https://www.mqtuu.org/event/annual-meeting-vote-on-muuc-budget-for-2022-2023-fiscat-year
END:VEVENT
BEGIN:VEVENT
DTSTART;TZID=America/Detroit:20220605T110000
DTEND;TZID=America/Detroit:20220605T120000
DTSTAMP:20260424T060400
CREATED:20220522T175906Z
LAST-MODIFIED:20220602T175506Z
UID:5783-1654426800-1654430400@www.mqtuu.org
SUMMARY:Flower Communion Service followed by Annual Meeting
DESCRIPTION:You are invited to bring a flower or two to exchange during this UU ritual of beauty and fellowship. Please join us to celebrate spring and our beloved community. The service and Annual Meeting will be available on Zoom\, however\, you are encouraged to attend in person\, if at all possible\, as we create the future of our congregation together.
URL:https://www.mqtuu.org/event/flower-ceremony-service-followed-by-annual-meeting
CATEGORIES:Calendar
END:VEVENT
BEGIN:VEVENT
DTSTART;TZID=America/Detroit:20220529T121000
DTEND;TZID=America/Detroit:20220529T123000
DTSTAMP:20260424T060400
CREATED:20220526T220351Z
LAST-MODIFIED:20220526T220947Z
UID:5794-1653826200-1653827400@www.mqtuu.org
SUMMARY:Presentation by John Anderson of Voters Not Politicians
DESCRIPTION:After the service on May 29 (roughly 12:10 p.m) we will have a presentation by John Anderson of Voters Not Politicians.  There will be extra petitions for us to take.
URL:https://www.mqtuu.org/event/presentation-by-john-anderson-of-voters-not-politicians
END:VEVENT
BEGIN:VEVENT
DTSTART;TZID=America/Detroit:20220529T110000
DTEND;TZID=America/Detroit:20220529T120000
DTSTAMP:20260424T060400
CREATED:20220522T191636Z
LAST-MODIFIED:20220525T202252Z
UID:5788-1653822000-1653825600@www.mqtuu.org
SUMMARY:“Mindful Movement: A Journey Without Judgement\,” presented by Cassie Haapapuro
DESCRIPTION:There is the opportunity for a fair amount of audience participation (if so moved)\, so be ready to move and maybe bring some water (you can also participate from home on Zoom).
URL:https://www.mqtuu.org/event/sunday-service-topic-tbd-presented-by-jill-malin
END:VEVENT
BEGIN:VEVENT
DTSTART;TZID=America/Detroit:20220523T183000
DTEND;TZID=America/Detroit:20220523T203000
DTSTAMP:20260424T060400
CREATED:20220519T191615Z
LAST-MODIFIED:20220519T191651Z
UID:5765-1653330600-1653337800@www.mqtuu.org
SUMMARY:Special Board Meeting to set the MUUC 2022-2023 Fiscal Year Budget
DESCRIPTION:Special Board Meeting to set the MUUC Budget for the 2022-2023 Fiscal Year – ALL INVITED – 6:30pm (Zoom Link)
URL:https://www.mqtuu.org/event/special-board-meeting-to-set-the-muuc-2022-2023-fiscat-year-budget
END:VEVENT
BEGIN:VEVENT
DTSTART;TZID=America/Detroit:20220522T110000
DTEND;TZID=America/Detroit:20220522T120000
DTSTAMP:20260424T060400
CREATED:20220510T212210Z
LAST-MODIFIED:20220519T190126Z
UID:5746-1653217200-1653220800@www.mqtuu.org
SUMMARY:“Bring a Poem Sunday” facilitated by Jill Malin
DESCRIPTION:Do you have a favorite poem or reading that lifts your spirits and inspires your heart or mind? Then come share it with us\, in person at the meeting house or on Zoom. As many will be shared as time allows. If you would like to attend via Zoom\, please check the weekly newsletter (This n That)\, or Email mqtuuadassist@gmail.com. Also\, if you would like to volunteer to perform a service\, contact Jill @ jillmalin906@gmail.com and/or Susan @ jillmalin906@gmail.com
URL:https://www.mqtuu.org/event/undeclared-sunday-service-8
CATEGORIES:Sunday Service
END:VEVENT
BEGIN:VEVENT
DTSTART;TZID=America/Detroit:20220517T183000
DTEND;TZID=America/Detroit:20220517T200000
DTSTAMP:20260424T060400
CREATED:20220513T232425Z
LAST-MODIFIED:20220513T232425Z
UID:5752-1652812200-1652817600@www.mqtuu.org
SUMMARY:Board Meeting
DESCRIPTION:This month’s board meeting. If you would like to attend via Zoom\, check the weekly newsletter (This n That) or contact mqtuuadassist@gmail.com.
URL:https://www.mqtuu.org/event/board-meeting-3
END:VEVENT
BEGIN:VEVENT
DTSTART;TZID=America/Detroit:20220515T110000
DTEND;TZID=America/Detroit:20220515T120000
DTSTAMP:20260424T060400
CREATED:20220510T211811Z
LAST-MODIFIED:20220510T213243Z
UID:5744-1652612400-1652616000@www.mqtuu.org
SUMMARY:The Lamp Beside the Golden Door: Welcoming Immigrants to America with February Sky
DESCRIPTION:The path of immigrants in America has not been all easy money and streets paved with gold. Besides leaving behind family and beloved homelands\, immigrants have often been subjected to discrimination\, overwork\, low wages and substandard living conditions. We will look at the treatment of various immigrant groups when they first arrived in the U.S.\, and consider how we\, as Unitarian Universalists\, can help to welcome our new neighbors from other lands. \nIf you would like to attend via Zoom\, please check the weekly newsletter (This n That) or contact Desi at mqtuuadassist@gmail.com.
URL:https://www.mqtuu.org/event/the-lamp-beside-the-golden-door-welcoming-immigrants-to-america-with-february-sky
LOCATION:MqtUU Meeting House\, 1510 M-28 East\, Marquette\, MI\, 49855\, United States
CATEGORIES:Sunday Service
END:VEVENT
BEGIN:VEVENT
DTSTART;TZID=America/Detroit:20220510T080000
DTEND;TZID=America/Detroit:20220510T170000
DTSTAMP:20260424T060400
CREATED:20220510T212501Z
LAST-MODIFIED:20220510T212501Z
UID:5748-1652169600-1652202000@www.mqtuu.org
SUMMARY:Sunday Service with Cassie Haapapuro
DESCRIPTION:Further details to be announced. If you would like to participate via Zoom\, check the weekly newsletter (This n That) or contact Desi at mqtuuadassist@gmail.com.
URL:https://www.mqtuu.org/event/sunday-service-with-cassie-haapapuro
END:VEVENT
BEGIN:VEVENT
DTSTART;TZID=America/Detroit:20220501T110000
DTEND;TZID=America/Detroit:20220501T130000
DTSTAMP:20260424T060400
CREATED:20220303T180153Z
LAST-MODIFIED:20220428T121635Z
UID:5681-1651402800-1651410000@www.mqtuu.org
SUMMARY:Hindu Festival of Spring with UU Youth
DESCRIPTION:This service has been rescheduled to May 1st.
URL:https://www.mqtuu.org/event/hindu-festival-of-spring-with-uu-youth
LOCATION:MqtUU Meeting House\, 1510 M-28 East\, Marquette\, MI\, 49855\, United States
CATEGORIES:Sunday Service
END:VEVENT
BEGIN:VEVENT
DTSTART;TZID=America/Detroit:20220424T110000
DTEND;TZID=America/Detroit:20220424T120000
DTSTAMP:20260424T060400
CREATED:20220401T021315Z
LAST-MODIFIED:20220401T021315Z
UID:5724-1650798000-1650801600@www.mqtuu.org
SUMMARY:Stewardship Sunday Service with Jill Malin
DESCRIPTION:Further details to be announced. If you would like to perform or contribute to a Sunday Service\, please reach out to mqtuuadassist@gmail.com.
URL:https://www.mqtuu.org/event/stewardship-sunday-service-with-jill-malin
LOCATION:MqtUU Meeting House\, 1510 M-28 East\, Marquette\, MI\, 49855\, United States
CATEGORIES:Sunday Service
END:VEVENT
BEGIN:VEVENT
DTSTART;TZID=America/Detroit:20220419T183000
DTEND;TZID=America/Detroit:20220419T200000
DTSTAMP:20260424T060400
CREATED:20220324T204812Z
LAST-MODIFIED:20220324T204812Z
UID:5712-1650393000-1650398400@www.mqtuu.org
SUMMARY:Board Meeting
DESCRIPTION:This month’s board meeting. If you would like to attend via Zoom\, check the weekly newsletter (This n That) or contact mqtuuadassist@gmail.com.
URL:https://www.mqtuu.org/event/board-meeting-2
END:VEVENT
BEGIN:VEVENT
DTSTART;TZID=America/Detroit:20220417T110000
DTEND;TZID=America/Detroit:20220417T120000
DTSTAMP:20260424T060400
CREATED:20220401T015813Z
LAST-MODIFIED:20220401T015813Z
UID:5720-1650193200-1650196800@www.mqtuu.org
SUMMARY:Bunnies\, Chicks\, Eggs\, and Flowers - Easter for UUs Sunday Service with February Sky
DESCRIPTION:History\, reflection and music dealing with ways to “own” this most Christian of holidays\, whether or not we believe in the resurrection of Jesus. Included will be a variation on the traditional Unitarian Universalist Flower Communion\, so bring a flower to church if you have one this early in the season\, otherwise there will be flowers available at the meeting house. \nMasks are encouraged at individual discretion for in-person attendance. If you are feeling unwell\, please consider attending via Zoom. \nTo attend via Zoom\, check the weekly newsletter (This n That) for the link or contact Desi at mqtuuadassist@gmail.com.
URL:https://www.mqtuu.org/event/bunnies-chicks-eggs-and-flowers-easter-for-uus-sunday-service-with-february-sky
LOCATION:MqtUU Meeting House\, 1510 M-28 East\, Marquette\, MI\, 49855\, United States
CATEGORIES:Sunday Service
END:VEVENT
BEGIN:VEVENT
DTSTART;TZID=America/Detroit:20220410T110000
DTEND;TZID=America/Detroit:20220410T120000
DTSTAMP:20260424T060400
CREATED:20220401T020909Z
LAST-MODIFIED:20220401T020909Z
UID:5722-1649588400-1649592000@www.mqtuu.org
SUMMARY:An Eighth Principle? Triangle Service with Petosky and Bay de Noc UUs
DESCRIPTION:Bay de Noc leads a Triangle service today (Our Triangle = Petoskey\, Bay de Noc\, and Marquette UU’s). The UUA is considering an 8th principle that calls us to journey toward spiritual wholeness by dismantling racism and other oppressions in ourselves and our institutions. \nTriangle services are largely via Zoom\, with the option to participate from the meeting house. The Zoom link is different from most weeks and to be found here.
URL:https://www.mqtuu.org/event/an-eighth-principle-triangle-service-with-petosky-and-bay-de-noc-uus
CATEGORIES:Sunday Service
END:VEVENT
BEGIN:VEVENT
DTSTART;TZID=America/Detroit:20220403T110000
DTEND;TZID=America/Detroit:20220403T120000
DTSTAMP:20260424T060400
CREATED:20220303T195141Z
LAST-MODIFIED:20220401T013250Z
UID:5692-1648983600-1648987200@www.mqtuu.org
SUMMARY:Longing for Transcendence Sunday Service by Rev. Shari Woodbury presented by Desi Kilbourn-Mims
DESCRIPTION:April’s Soul Matters theme is awakening\, so here’s a service built on that theme. \n\nMasks are now optional though suggested for in person. If you are feeling unwell\, please attend virtually. \nTo attend virtually\, please check the weekly newsletter (This n That) for the link or contact Desi at mqtuuadassist@gmail.com
URL:https://www.mqtuu.org/event/undeclared-sunday-service-7
CATEGORIES:Sunday Service
END:VEVENT
BEGIN:VEVENT
DTSTART;TZID=America/Detroit:20220327T110000
DTEND;TZID=America/Detroit:20220327T120000
DTSTAMP:20260424T060400
CREATED:20220324T205454Z
LAST-MODIFIED:20220324T205454Z
UID:5714-1648378800-1648382400@www.mqtuu.org
SUMMARY:A House of Hope Sunday Service with Desi Kilbourn-Mims
DESCRIPTION:A Soul Matters service on hope and its renewal. \nIf you would like to attend via Zoom\, check the weekly newsletter (This n That) or email Desi at mqtuuadassist@gmail.com.
URL:https://www.mqtuu.org/event/a-house-of-hope-sunday-service-with-desi-kilbourn-mims
LOCATION:MqtUU Meeting House\, 1510 M-28 East\, Marquette\, MI\, 49855\, United States
CATEGORIES:Sunday Service
END:VEVENT
BEGIN:VEVENT
DTSTART;TZID=America/Detroit:20220322T183000
DTEND;TZID=America/Detroit:20220322T200000
DTSTAMP:20260424T060400
CREATED:20220303T202032Z
LAST-MODIFIED:20220321T201714Z
UID:5697-1647973800-1647979200@www.mqtuu.org
SUMMARY:Board Meeting (Rescheduled)
DESCRIPTION:This month’s board meeting. If you would like to attend via Zoom\, check the weekly newsletter (This n That) or contact mqtuuadassist@gmail.com. \nThis meeting has been rescheduled to March 22nd.
URL:https://www.mqtuu.org/event/board-meeting
LOCATION:MqtUU Meeting House\, 1510 M-28 East\, Marquette\, MI\, 49855\, United States
END:VEVENT
BEGIN:VEVENT
DTSTART;TZID=America/Detroit:20220320T110000
DTEND;TZID=America/Detroit:20220320T120000
DTSTAMP:20260424T060400
CREATED:20220303T194641Z
LAST-MODIFIED:20220317T140852Z
UID:5690-1647774000-1647777600@www.mqtuu.org
SUMMARY:Bring Back the Snakes! An Alternative Look At St. Patrick's Day with February Sky
DESCRIPTION:The “snakes” that St. Patrick drove out of Ireland were actually the Druidic\, Pagan and Celtic ways that the people there had followed for centuries. Whether he drove them out by violence or assimilation\, St. Patrick destroyed religious practices and beliefs that were very much life-affirming – among other things\, the idea of living in harmony with the natural world and thinking for oneself instead of following authority! Hmmm…..sounds kinda Unitarian\, doesn’t it… Let’s bring back the snakes! Masks will be required to attend in person. \nOrder of Service available here. \nIf you would like to attend via Zoom\, please check the weekly newsletter (This n That) for the link or contact mqtuuadassist@gmail.com
URL:https://www.mqtuu.org/event/bring-back-the-snakes-an-alternative-look-at-st-patricks-day-with-february-sky
LOCATION:MqtUU Meeting House\, 1510 M-28 East\, Marquette\, MI\, 49855\, United States
CATEGORIES:Sunday Service
END:VEVENT
BEGIN:VEVENT
DTSTART;TZID=America/Detroit:20220313T110000
DTEND;TZID=America/Detroit:20220313T120000
DTSTAMP:20260424T060400
CREATED:20220303T183538Z
LAST-MODIFIED:20220303T183538Z
UID:5684-1647169200-1647172800@www.mqtuu.org
SUMMARY:Overcoming Fear Triangle Service with Alice Diebel
DESCRIPTION:Overcoming Fear: As the world faces ongoing tensions\, disasters\, and harms\, how can our UU faith be a guide to imagine and behold wonder? \nAs one of our shared services with Petoskey and Bay de Noc\, this service will be primarily via Zoom and using a different link than we use most weeks. If you are participating in person\, masks are required. \nTo attend via Zoom\, please use this *link*
URL:https://www.mqtuu.org/event/overcoming-fear-triangle-service-with-alice-diebel
CATEGORIES:Sunday Service
END:VEVENT
BEGIN:VEVENT
DTSTART;TZID=America/Detroit:20220312T160000
DTEND;TZID=America/Detroit:20220312T190000
DTSTAMP:20260424T060400
CREATED:20220303T190745Z
LAST-MODIFIED:20220305T145847Z
UID:5686-1647100800-1647111600@www.mqtuu.org
SUMMARY:Esbat with Yooper Pagan Alliance
DESCRIPTION:Due to inclement weather\, this event has been rescheduled to the 12th. \nAn Esbat celebration is being held at the meeting house. Description at this link: Esbat 3-5-22
URL:https://www.mqtuu.org/event/esbat-with-yooper-pagan-alliance
END:VEVENT
BEGIN:VEVENT
DTSTART;TZID=America/Detroit:20220227T110000
DTEND;TZID=America/Detroit:20220227T120000
DTSTAMP:20260424T060400
CREATED:20220127T171620Z
LAST-MODIFIED:20220224T161230Z
UID:5661-1645959600-1645963200@www.mqtuu.org
SUMMARY:The Joys and Concerns of Selfless Service Sunday Service
DESCRIPTION:Talking about how charity and kindness can be a band-aid that doesn’t stick. Masks will be required for in person. \n  \nIf you would like to attend via Zoom\, please check the weekly newsletter for the link or contact Desi at mqtuuadassist@gmail.com.
URL:https://www.mqtuu.org/event/undeclared-sunday-service-6
LOCATION:MqtUU Meeting House\, 1510 M-28 East\, Marquette\, MI\, 49855\, United States
CATEGORIES:Sunday Service
END:VEVENT
BEGIN:VEVENT
DTSTART;TZID=America/Detroit:20220221T183000
DTEND;TZID=America/Detroit:20220221T200000
DTSTAMP:20260424T060400
CREATED:20220127T165611Z
LAST-MODIFIED:20220127T165611Z
UID:5655-1645468200-1645473600@www.mqtuu.org
SUMMARY:Monthly Board Meeting
DESCRIPTION:Time for the monthly board meeting. If you would like to attend via Zoom\, check for the link in the weekly newsletter or contact mqtuuadassist@gmail.com.
URL:https://www.mqtuu.org/event/monthly-board-meeting-3
LOCATION:MqtUU Meeting House\, 1510 M-28 East\, Marquette\, MI\, 49855\, United States
END:VEVENT
BEGIN:VEVENT
DTSTART;TZID=America/Detroit:20220220T110000
DTEND;TZID=America/Detroit:20220220T120000
DTSTAMP:20260424T060400
CREATED:20220127T171517Z
LAST-MODIFIED:20220203T160145Z
UID:5659-1645354800-1645358400@www.mqtuu.org
SUMMARY:Stars in Their Crown – The Grace and Glory of Long-Lasting Love Sunday Service with February Sky
DESCRIPTION:It’s February\, the month of Valentine’s Day. At this time we hear a lot about the heart-pounding\, brain-draining excitement of new love. But some lovers are blessed\, when the romantic stage passes\, with a love that grows in depth and complexity until they become almost like one person simultaneously inhabiting two different bodies. Yes\, that can sound a little scary\, as people worry about losing themselves in that other person\, but the truth is that this type of love can put us more in touch with who we really are than new love ever dreams of. Masks are required for in-person attendance. \nIf you would like to attend via Zoom\, check the weekly newsletter for the link or contact Desi at mqtuuadassist@gmail.com.
URL:https://www.mqtuu.org/event/undeclared-sunday-service-with-february-sky-2
LOCATION:MqtUU Meeting House\, 1510 M-28 East\, Marquette\, MI\, 49855\, United States
CATEGORIES:Sunday Service
END:VEVENT
BEGIN:VEVENT
DTSTART;TZID=America/Detroit:20220213T110000
DTEND;TZID=America/Detroit:20220213T120000
DTSTAMP:20260424T060400
CREATED:20220127T172148Z
LAST-MODIFIED:20220210T225207Z
UID:5663-1644750000-1644753600@www.mqtuu.org
SUMMARY:Side With Love Triangle Sunday Service with Rev. Alice Diebel
DESCRIPTION:Universalists have been talking about love for centuries! How might we “side with love” in 2022? \n  \nOur monthly Triangle Service with Petosky and Bay de Noc. This service will be largely over Zoom and held via a different link than our usual service. Link here. \nIf participating in person\, masks are still required.
URL:https://www.mqtuu.org/event/triangle-sunday-service-with-petosky-and-bay-de-noc
CATEGORIES:Sunday Service
END:VEVENT
END:VCALENDAR