BEGIN:VCALENDAR
VERSION:2.0
PRODID:-//Marquette Unitarian Universalist Congregation - ECPv6.15.10//NONSGML v1.0//EN
CALSCALE:GREGORIAN
METHOD:PUBLISH
X-ORIGINAL-URL:https://www.mqtuu.org
X-WR-CALDESC:Events for Marquette Unitarian Universalist Congregation
REFRESH-INTERVAL;VALUE=DURATION:PT1H
X-Robots-Tag:noindex
X-PUBLISHED-TTL:PT1H
BEGIN:VTIMEZONE
TZID:America/Detroit
BEGIN:DAYLIGHT
TZOFFSETFROM:-0500
TZOFFSETTO:-0400
TZNAME:EDT
DTSTART:20210314T070000
END:DAYLIGHT
BEGIN:STANDARD
TZOFFSETFROM:-0400
TZOFFSETTO:-0500
TZNAME:EST
DTSTART:20211107T060000
END:STANDARD
BEGIN:DAYLIGHT
TZOFFSETFROM:-0500
TZOFFSETTO:-0400
TZNAME:EDT
DTSTART:20220313T070000
END:DAYLIGHT
BEGIN:STANDARD
TZOFFSETFROM:-0400
TZOFFSETTO:-0500
TZNAME:EST
DTSTART:20221106T060000
END:STANDARD
BEGIN:DAYLIGHT
TZOFFSETFROM:-0500
TZOFFSETTO:-0400
TZNAME:EDT
DTSTART:20230312T070000
END:DAYLIGHT
BEGIN:STANDARD
TZOFFSETFROM:-0400
TZOFFSETTO:-0500
TZNAME:EST
DTSTART:20231105T060000
END:STANDARD
END:VTIMEZONE
BEGIN:VEVENT
DTSTART;TZID=America/Detroit:20221016T110000
DTEND;TZID=America/Detroit:20221016T120000
DTSTAMP:20260424T043536
CREATED:20220916T180526Z
LAST-MODIFIED:20220916T181913Z
UID:5921-1665918000-1665921600@www.mqtuu.org
SUMMARY:Service - "Hearken Now\, the Darkness Comes\," on the last-harvest holiday of Samhain (Celtic New Year or Halloween)\, presented by February Sky
DESCRIPTION:The Celtic word “Samhain” means “summer’s end.”  This holiday is the beginning of Winter and the New Year\, the time of giving thanks for a good harvest\, and a time for letting go of what no longer serves us. It is also the time of year when the veil between the worlds of the living and the dead is said to be the thinnest\, and the dead are invited back for loving remembrance. In the course of this service\, we will observe all of these ancient traditions and reflect on their significance in our modern lives. Please bring a picture or other memento of a departed loved one to church to place on our Samhain altar.
URL:https://www.mqtuu.org/event/service-hearken-now-the-darkness-comes-on-the-last-harvest-holiday-of-samhain-celtic-new-year-or-halloween-presented-by-february-sky
END:VEVENT
BEGIN:VEVENT
DTSTART;TZID=America/Detroit:20221014T080000
DTEND;TZID=America/Detroit:20221014T170000
DTSTAMP:20260424T043536
CREATED:20221014T180605Z
LAST-MODIFIED:20221014T180605Z
UID:5974-1665734400-1665766800@www.mqtuu.org
SUMMARY:"Thank You\, Help Me." a Thanksgiving service presented by February Sky
DESCRIPTION:A service focusing on the idea that it can be difficult to be grateful for what we have until we’ve experienced what it is to have not\,
URL:https://www.mqtuu.org/event/thank-you-help-me-a-thanksgiving-service-presented-by-february-sky
END:VEVENT
BEGIN:VEVENT
DTSTART;TZID=America/Detroit:20221009T110000
DTEND;TZID=America/Detroit:20221009T120000
DTSTAMP:20260424T043536
CREATED:20220916T180308Z
LAST-MODIFIED:20220923T011614Z
UID:5919-1665313200-1665316800@www.mqtuu.org
SUMMARY:Triangle Service with Petoskey and Bay de Noc UUs\, with Beverly Feldt\, a gifted service presenter from Park Forest Unitarian\, "Mercy Me"
DESCRIPTION:Mercy seems like an old-fashioned word\, and maybe an old-fashioned concept.  But it might be just the thing we need now.
URL:https://www.mqtuu.org/event/triangle-service-with-petoskey-and-bay-de-noc-uus-with-beverly-feldt-a-gifted-service-presenter-from-park-forest-unitarian-topic-tbd
END:VEVENT
BEGIN:VEVENT
DTSTART;TZID=America/Detroit:20221002T110000
DTEND;TZID=America/Detroit:20221002T120000
DTSTAMP:20260424T043536
CREATED:20220916T180143Z
LAST-MODIFIED:20220916T180143Z
UID:5917-1664708400-1664712000@www.mqtuu.org
SUMMARY:Service - "Love Everyone and Serve Everyone\," a service based on the teachings of Ram Dass\, presented by Fudo Joseph Mold
DESCRIPTION:
URL:https://www.mqtuu.org/event/service-love-everyone-and-serve-everyone-a-service-based-on-the-teachings-of-ram-dass-presented-by-fudo-joseph-mold
END:VEVENT
BEGIN:VEVENT
DTSTART;TZID=America/Detroit:20220925T110000
DTEND;TZID=America/Detroit:20220925T120000
DTSTAMP:20260424T043536
CREATED:20220916T175714Z
LAST-MODIFIED:20220923T011026Z
UID:5914-1664103600-1664107200@www.mqtuu.org
SUMMARY:Service - “In Sweet Fields Of Autumn - A Second Harvest Celebration (Mabon or Harvest Home)\,”  presented by February Sky
DESCRIPTION:We will celebrate Harvest Home\, saying a fond goodbye to Summer and reflecting on the winter to come. Bring an Autumn Harvest fruit\, food or decoration to church (e.g. apples\, corn\, wheat\, squash\, acorns\, autumn leaves\, pine cones\, etc.).
URL:https://www.mqtuu.org/event/service-in-sweet-fields-of-autumn-an-autumnal-equinox-celebration-presented-by-february-sky
END:VEVENT
BEGIN:VEVENT
DTSTART;VALUE=DATE:20220924
DTEND;VALUE=DATE:20220925
DTSTAMP:20260424T043536
CREATED:20220515T213858Z
LAST-MODIFIED:20220515T213858Z
UID:5759-1663977600-1664063999@www.mqtuu.org
SUMMARY:Private Event
DESCRIPTION:A private event is scheduled for this time.
URL:https://www.mqtuu.org/event/private-event-2
LOCATION:MqtUU Meeting House\, 1510 M-28 East\, Marquette\, MI\, 49855\, United States
END:VEVENT
BEGIN:VEVENT
DTSTART;TZID=America/Detroit:20220918T110000
DTEND;TZID=America/Detroit:20220918T150000
DTSTAMP:20260424T043536
CREATED:20220827T215707Z
LAST-MODIFIED:20220916T175959Z
UID:5907-1663498800-1663513200@www.mqtuu.org
SUMMARY:Homecoming Sunday\, Water Communion Service with Phil Lund of the UUA\, followed by potluck picnic lunch and a workshop with Phil Lund on the future of the congregagtion.
DESCRIPTION:To be hopeful in these hard times is more than being foolishly romantic\, according to historian Howard Zinn. It does\, however\, require some effort on our part. The good news is that every congregation can tap into the energy it needs to act to make this world a better place. Find out how we can – individually and collectively – behave magnificently in defiance of all hurt and heartbreak around us.  The service will include the traditional UU Water Communion – our annual “welcome back” service brings us back together from a variety of travels. We bring a small sample of water to symbolize our journeys\, joining them together (it’s OK to just bring water and tell us what it symbolizes).
URL:https://www.mqtuu.org/event/homecoming-sunday-water-communion-service-with-phil-lund-of-the-uua-followed-by-potluck-picnic-lunch-and-a-workshop-with-phil-lund-on-the-future-of-the-congregagtion
END:VEVENT
BEGIN:VEVENT
DTSTART;TZID=America/Detroit:20220911T110000
DTEND;TZID=America/Detroit:20220911T120000
DTSTAMP:20260424T043536
CREATED:20220827T215442Z
LAST-MODIFIED:20220827T215526Z
UID:5905-1662894000-1662897600@www.mqtuu.org
SUMMARY:Triangle Service with Petoskey and Bay de Noc UUs\, “Opposable Thumbs\,” with Amy Brooks\, a 7th Principle based service.
DESCRIPTION:Bring your pet (or a picture of your pet).
URL:https://www.mqtuu.org/event/triangle-service-with-petoskey-and-bay-de-noc-uus-opposable-thumbs-with-amy-brooks-a-7th-principle-based-service
END:VEVENT
BEGIN:VEVENT
DTSTART;TZID=America/Detroit:20220904T110000
DTEND;TZID=America/Detroit:20220904T110000
DTSTAMP:20260424T043536
CREATED:20220804T223601Z
LAST-MODIFIED:20220827T215303Z
UID:5892-1662289200-1662289200@www.mqtuu.org
SUMMARY:Sunday\, September 4\, 11am - "Putting Labor Back into Labor Day\,"  a mostly recorded service with Jill Malin and a sermon by Reverend David Breeden
DESCRIPTION:
URL:https://www.mqtuu.org/event/sunday-september-4-11am-labor-day-service-with-jill-malin
END:VEVENT
BEGIN:VEVENT
DTSTART;TZID=America/Detroit:20220828T110000
DTEND;TZID=America/Detroit:20220828T120000
DTSTAMP:20260424T043536
CREATED:20220703T223527Z
LAST-MODIFIED:20220827T215152Z
UID:5853-1661684400-1661688000@www.mqtuu.org
SUMMARY:Martin Steindler speaks\, “Do We Still Have a Magic Door?”
DESCRIPTION:Whatever Martin has to say\, it is sure to be interesting and thoughtful.
URL:https://www.mqtuu.org/event/martin-steindler-speaks-sermon-title-tba
END:VEVENT
BEGIN:VEVENT
DTSTART;TZID=America/Detroit:20220821T123000
DTEND;TZID=America/Detroit:20220821T140000
DTSTAMP:20260424T043536
CREATED:20220811T232049Z
LAST-MODIFIED:20220811T232049Z
UID:5895-1661085000-1661090400@www.mqtuu.org
SUMMARY:MUUC Board of Trustees Meeting\, all welcome!
DESCRIPTION:At the meeting house after the service or join us via Zoom at the same link as for the August 21 service.
URL:https://www.mqtuu.org/event/muuc-board-of-trustees-meeting-all-welcome-2
END:VEVENT
BEGIN:VEVENT
DTSTART;TZID=America/Detroit:20220821T110000
DTEND;TZID=America/Detroit:20220821T120000
DTSTAMP:20260424T043536
CREATED:20220703T223241Z
LAST-MODIFIED:20220703T223241Z
UID:5851-1661079600-1661083200@www.mqtuu.org
SUMMARY:“Mist Around The Bend – On the Possibility of Alternate Realities\,”  presented by February Sky
DESCRIPTION:From the old Irish tales of the Faerie folk and the English legend of  Avalon\, to modern vampire lore and ghost stories\, stories of other realities co-existing with our own\, although not ordinarily accessible to us\, are common in cultures all over the world.  Do alternate realities actually exist\, or are they pure fantasy?  Do they become “real” when we have the experience of brushing up against them?  We will consider these questions in song and spoken word.
URL:https://www.mqtuu.org/event/mist-around-the-bend-on-the-possibility-of-alternate-realities-presented-by-february-sky
END:VEVENT
BEGIN:VEVENT
DTSTART;TZID=America/Detroit:20220814T110000
DTEND;TZID=America/Detroit:20220814T120000
DTSTAMP:20260424T043536
CREATED:20220703T222353Z
LAST-MODIFIED:20220703T224228Z
UID:5849-1660474800-1660478400@www.mqtuu.org
SUMMARY:Triangle Service with Petoskey and Bay de Noc UUs\, Topic TBA
DESCRIPTION:
URL:https://www.mqtuu.org/event/triangle-service-with-petoskey-and-bay-de-noc-uus-topic-tba
END:VEVENT
BEGIN:VEVENT
DTSTART;TZID=America/Detroit:20220807T110000
DTEND;TZID=America/Detroit:20220807T120000
DTSTAMP:20260424T043536
CREATED:20220703T221654Z
LAST-MODIFIED:20220804T222911Z
UID:5846-1659870000-1659873600@www.mqtuu.org
SUMMARY:Dan Young from Bay de Noc UU in Escanaba speaks\, A Service on Faith and the Importance of Doubt.
DESCRIPTION:Dan Young (He\, him\, his) is a founding member of the Unitarian Universalist Fellowship\, Bay de Noc. He serves currently as the Member at Large to the Executive Board and is a member of the Advisory Board for MUUSJN—The Michigan UU Social Justice Network. Dan is married to Helen Sherman. All told\, they have three adult children and four Grandchildren. A former Methodist minister\, Dan studied at Central Michigan University\, and Boston University where he earned his Master of Divinity in Pastoral Counseling and Biblical Studies with Honors\, and his Doctorate in Hebrew Wisdom Literature. During that time\, he was awarded the Charles E. Jefferson Fellowship in Biblical Preaching. After leaving the ministry he worked in sales in the Finance and Insurance industries. Dan is an amateur astronomer\, and an award-winning photographer. He enjoys kayaking on Lake Michigan in the summer in the waters off his property on the Stonington Peninsula.
URL:https://www.mqtuu.org/event/dan-young-from-bay-de-noc-uu-in-escanaba-speaks-topic-tba
END:VEVENT
BEGIN:VEVENT
DTSTART;TZID=America/Detroit:20220731T110000
DTEND;TZID=America/Detroit:20220731T120000
DTSTAMP:20260424T043536
CREATED:20220703T221211Z
LAST-MODIFIED:20220729T000426Z
UID:5844-1659265200-1659268800@www.mqtuu.org
SUMMARY:Martin Steindler speaks\, “Can a Unitarian Universalist be a Humanist?”
DESCRIPTION:Are you a Unitarian Universalist?  You may also be a Humanist.
URL:https://www.mqtuu.org/event/summer-sunday-no-service
END:VEVENT
BEGIN:VEVENT
DTSTART;TZID=America/Detroit:20220730T110000
DTEND;TZID=America/Detroit:20220730T130000
DTSTAMP:20260424T043536
CREATED:20220728T235939Z
LAST-MODIFIED:20220728T235939Z
UID:5884-1659178800-1659186000@www.mqtuu.org
SUMMARY:Car Wash Fundraiser - MUUC meeting house parking lot
DESCRIPTION:Come help wash or have us get your car nice and clean! Free will donation!  Bring snacks if you like. We will set up around 10:30 and have signs by McDonalds as well. Car wash proceeds will be split between UU Youth and UPAWS.
URL:https://www.mqtuu.org/event/car-wash-fundraiser-muuc-meeting-house-parking-lot
END:VEVENT
BEGIN:VEVENT
DTSTART;TZID=America/Detroit:20220724T110000
DTEND;TZID=America/Detroit:20220724T120000
DTSTAMP:20260424T043536
CREATED:20220616T235303Z
LAST-MODIFIED:20220624T001148Z
UID:5827-1658660400-1658664000@www.mqtuu.org
SUMMARY:“Written In Their Eyes – Historical Awareness as a Spiritual Path\,” presented by February Sky
DESCRIPTION:Phil and Susan are musicians whose repertoire includes a great deal of music that is hundreds of years old.  They will share their reflections on how that music\, and the stories of the people and events behind it\, has not only enhanced their own lives\, but has also opened the minds of many of their listeners to the power of history.  Phil and Susan will wear period garb for this service\, and attendees are encouraged to do likewise if they wish!
URL:https://www.mqtuu.org/event/written-in-their-eyes-historical-awareness-as-a-spiritual-path-presented-by-february-sky
END:VEVENT
BEGIN:VEVENT
DTSTART;TZID=America/Detroit:20220717T123000
DTEND;TZID=America/Detroit:20220717T140000
DTSTAMP:20260424T043536
CREATED:20220616T235623Z
LAST-MODIFIED:20220616T235623Z
UID:5829-1658061000-1658066400@www.mqtuu.org
SUMMARY:MUUC Board of Trustees meeting - all welcome
DESCRIPTION:Join by Zoom at that same link as used for Sunday services
URL:https://www.mqtuu.org/event/muuc-board-of-trustees-meeting-all-welcome
END:VEVENT
BEGIN:VEVENT
DTSTART;TZID=America/Detroit:20220717T110000
DTEND;TZID=America/Detroit:20220717T120000
DTSTAMP:20260424T043536
CREATED:20220624T001452Z
LAST-MODIFIED:20220712T223922Z
UID:5839-1658055600-1658059200@www.mqtuu.org
SUMMARY:Service with Kathryn Morski & Caitlin Kirchenwitz (née Morski) – The Winter of Our Discontent: a service about loss of faith\, integrity\, and the road ahead. There will be lots of music. We are looking forward to seeing our old friends again!
DESCRIPTION:Kathryn Morski & Caitlin Kirchenwitz (née Morski) – The Winter of Our Discontent: a service about loss of faith\, integrity\, and the road ahead. There will be lots of music. We are looking forward to seeing our old friends again!
URL:https://www.mqtuu.org/event/service-with-kathryn-caitlin-morski-topic-tba
END:VEVENT
BEGIN:VEVENT
DTSTART;TZID=America/Detroit:20220710T110000
DTEND;TZID=America/Detroit:20220710T120000
DTSTAMP:20260424T043536
CREATED:20220616T234934Z
LAST-MODIFIED:20220707T235207Z
UID:5825-1657450800-1657454400@www.mqtuu.org
SUMMARY:Triangle Service with Petoskey and Bay de Noc UUs\, "Meet the Moment: Reimagining Radical Faith Community\," Rev. Alice Diebel
DESCRIPTION:This theme of the 2022 General Assembly of the UUA left me wondering. What does it mean for a small\, rural fellowship in Michigan to reimagine a radical faith? We will explore what it means to reimagine in difficult times.
URL:https://www.mqtuu.org/event/triangle-service-with-petoskey-and-bay-de-noc-uus-topic-tbd
END:VEVENT
BEGIN:VEVENT
DTSTART;TZID=America/Detroit:20220703T110000
DTEND;TZID=America/Detroit:20220703T120000
DTSTAMP:20260424T043536
CREATED:20220616T234612Z
LAST-MODIFIED:20220616T234612Z
UID:5823-1656846000-1656849600@www.mqtuu.org
SUMMARY:NO Sunday Service today due to holiday weekend
DESCRIPTION:Due to the holiday weekend\, we are taking this Sunday off.  Enjoy your holiday and be safe!
URL:https://www.mqtuu.org/event/no-sunday-service-today-due-to-holiday-weekend
END:VEVENT
BEGIN:VEVENT
DTSTART;TZID=America/Detroit:20220626T123000
DTEND;TZID=America/Detroit:20220626T133000
DTSTAMP:20260424T043536
CREATED:20220624T001653Z
LAST-MODIFIED:20220624T001653Z
UID:5841-1656246600-1656250200@www.mqtuu.org
SUMMARY:Viewing of the Sunday service at the UUA General Assembly on Zoom.
DESCRIPTION:
URL:https://www.mqtuu.org/event/viewing-of-the-sunday-service-at-the-uua-general-assembly-on-zoom
END:VEVENT
BEGIN:VEVENT
DTSTART;TZID=America/Detroit:20220626T110000
DTEND;TZID=America/Detroit:20220626T120000
DTSTAMP:20260424T043536
CREATED:20220609T192431Z
LAST-MODIFIED:20220616T234220Z
UID:5817-1656241200-1656244800@www.mqtuu.org
SUMMARY:Sunday Service\, "Do Unitarian Universalists Need More Than Two Fundamental Principles?” presented by Martin Steindler
DESCRIPTION:
URL:https://www.mqtuu.org/event/sunday-service-topic-tba
END:VEVENT
BEGIN:VEVENT
DTSTART;TZID=America/Detroit:20220619T110000
DTEND;TZID=America/Detroit:20220619T120000
DTSTAMP:20260424T043536
CREATED:20220602T181001Z
LAST-MODIFIED:20220602T191122Z
UID:5806-1655636400-1655640000@www.mqtuu.org
SUMMARY:For All Our Dads – A Father’s Day Tribute to Fathers and Father Figures\, presented by February Sky
DESCRIPTION:For All Our Dads – A Father’s Day Tribute to Fathers and Father Figures\nPresenter: February Sky (Phil Cooper & Susan Urban)\nBoth men and women seem to have an innate need for nurturance from males as well as females. If someone’s biological father is absent or unavailable\, they will often seek out other men to fill the “Dad Gap.” These surrogate fathers can be as important to a person’s development as “real” fathers. We will celebrate both types of father figures\, and also reflect on what can happen when a father is distant or emotionally unavailable.
URL:https://www.mqtuu.org/event/for-all-our-dads-a-fathers-day-tribute-to-fathers-and-father-figures-presented-by-february-sky
END:VEVENT
BEGIN:VEVENT
DTSTART;TZID=America/Detroit:20220615T170000
DTEND;TZID=America/Detroit:20220615T190000
DTSTAMP:20260424T043536
CREATED:20220602T182009Z
LAST-MODIFIED:20220602T182009Z
UID:5808-1655312400-1655319600@www.mqtuu.org
SUMMARY:MUUC Board of Trustees Meeting
DESCRIPTION:All are welcome to attend.
URL:https://www.mqtuu.org/event/muuc-board-of-trustees-meeting
END:VEVENT
BEGIN:VEVENT
DTSTART;TZID=America/Detroit:20220612T080000
DTEND;TZID=America/Detroit:20220612T120000
DTSTAMP:20260424T043536
CREATED:20220602T180616Z
LAST-MODIFIED:20220609T192230Z
UID:5804-1655020800-1655035200@www.mqtuu.org
SUMMARY:Liam Rockwood's Bridging Ceremony led by Jamie Kuehnl and our UU youth
DESCRIPTION:Liam is a 2022 Marquette Senior High School graduate. The Bridging Ceremony is a tradition at MUUC and celebrates the transition of youth into young adulthood. One of the most important things we can do for our youth is to support them into adulthood\, to keep them connected to Unitarian Universalism\, and continue to support them as they become adults.
URL:https://www.mqtuu.org/event/bridging-ceremony-service-for-liam-rockwood
END:VEVENT
BEGIN:VEVENT
DTSTART;TZID=America/Detroit:20220605T120000
DTEND;TZID=America/Detroit:20220605T130000
DTSTAMP:20260424T043536
CREATED:20220519T210505Z
LAST-MODIFIED:20220603T002108Z
UID:5769-1654430400-1654434000@www.mqtuu.org
SUMMARY:Annual Meeting - vote on MUUC Budget & Board of Trustees for 2022-2023 Fiscal Year
DESCRIPTION:ANNUAL MEETING after the service to vote on the MUUC Budget for the 2022-2023 Fiscal Year.\nIMPORTANT – VACANCIES on the Board of Trustees\nDue to the resignation of a member of the Board of Trustees and the expiration of the term of another\, there are currently several vacancies.\nAll members are invited to consider volunteering as a member of the Board of Trustees. Trustees serve two year terms. There are monthly meetings and many opportunities to make a difference in your congregation!  Please email mqtuuadassist@gmail.com or volunteer at the Annual Meeting on June 5th if you are interested in serving as a member of the Board of Trustees!\nAGENDA FOR ANNUAL MEETING:\nOpening words\nMember roll call\nState of Congregation report\nPresent proposed budget\, discuss\, and vote Link to proposed budget is here (please note that the Administrative Assistant position is not being funded)\nBoard of Trustees nominations and vote\nJill Malin seeking renewal term\nOpen Forum\nClosing words\nALL ARE WELCOME\, BUT ONLY CURRENT MEMBERS WHO HAVE PAID A PLEDGE IN ANY AMOUNT DURING THE CURRENT FISCAL YEAR MAY VOTE.
URL:https://www.mqtuu.org/event/annual-meeting-vote-on-muuc-budget-for-2022-2023-fiscat-year
END:VEVENT
BEGIN:VEVENT
DTSTART;TZID=America/Detroit:20220605T110000
DTEND;TZID=America/Detroit:20220605T120000
DTSTAMP:20260424T043536
CREATED:20220522T175906Z
LAST-MODIFIED:20220602T175506Z
UID:5783-1654426800-1654430400@www.mqtuu.org
SUMMARY:Flower Communion Service followed by Annual Meeting
DESCRIPTION:You are invited to bring a flower or two to exchange during this UU ritual of beauty and fellowship. Please join us to celebrate spring and our beloved community. The service and Annual Meeting will be available on Zoom\, however\, you are encouraged to attend in person\, if at all possible\, as we create the future of our congregation together.
URL:https://www.mqtuu.org/event/flower-ceremony-service-followed-by-annual-meeting
CATEGORIES:Calendar
END:VEVENT
BEGIN:VEVENT
DTSTART;TZID=America/Detroit:20220529T121000
DTEND;TZID=America/Detroit:20220529T123000
DTSTAMP:20260424T043536
CREATED:20220526T220351Z
LAST-MODIFIED:20220526T220947Z
UID:5794-1653826200-1653827400@www.mqtuu.org
SUMMARY:Presentation by John Anderson of Voters Not Politicians
DESCRIPTION:After the service on May 29 (roughly 12:10 p.m) we will have a presentation by John Anderson of Voters Not Politicians.  There will be extra petitions for us to take.
URL:https://www.mqtuu.org/event/presentation-by-john-anderson-of-voters-not-politicians
END:VEVENT
BEGIN:VEVENT
DTSTART;TZID=America/Detroit:20220529T110000
DTEND;TZID=America/Detroit:20220529T120000
DTSTAMP:20260424T043536
CREATED:20220522T191636Z
LAST-MODIFIED:20220525T202252Z
UID:5788-1653822000-1653825600@www.mqtuu.org
SUMMARY:“Mindful Movement: A Journey Without Judgement\,” presented by Cassie Haapapuro
DESCRIPTION:There is the opportunity for a fair amount of audience participation (if so moved)\, so be ready to move and maybe bring some water (you can also participate from home on Zoom).
URL:https://www.mqtuu.org/event/sunday-service-topic-tbd-presented-by-jill-malin
END:VEVENT
END:VCALENDAR