BEGIN:VCALENDAR
VERSION:2.0
PRODID:-//Marquette Unitarian Universalist Congregation - ECPv6.15.10//NONSGML v1.0//EN
CALSCALE:GREGORIAN
METHOD:PUBLISH
X-ORIGINAL-URL:https://www.mqtuu.org
X-WR-CALDESC:Events for Marquette Unitarian Universalist Congregation
REFRESH-INTERVAL;VALUE=DURATION:PT1H
X-Robots-Tag:noindex
X-PUBLISHED-TTL:PT1H
BEGIN:VTIMEZONE
TZID:America/Detroit
BEGIN:DAYLIGHT
TZOFFSETFROM:-0500
TZOFFSETTO:-0400
TZNAME:EDT
DTSTART:20210314T070000
END:DAYLIGHT
BEGIN:STANDARD
TZOFFSETFROM:-0400
TZOFFSETTO:-0500
TZNAME:EST
DTSTART:20211107T060000
END:STANDARD
BEGIN:DAYLIGHT
TZOFFSETFROM:-0500
TZOFFSETTO:-0400
TZNAME:EDT
DTSTART:20220313T070000
END:DAYLIGHT
BEGIN:STANDARD
TZOFFSETFROM:-0400
TZOFFSETTO:-0500
TZNAME:EST
DTSTART:20221106T060000
END:STANDARD
BEGIN:DAYLIGHT
TZOFFSETFROM:-0500
TZOFFSETTO:-0400
TZNAME:EDT
DTSTART:20230312T070000
END:DAYLIGHT
BEGIN:STANDARD
TZOFFSETFROM:-0400
TZOFFSETTO:-0500
TZNAME:EST
DTSTART:20231105T060000
END:STANDARD
BEGIN:DAYLIGHT
TZOFFSETFROM:-0500
TZOFFSETTO:-0400
TZNAME:EDT
DTSTART:20240310T070000
END:DAYLIGHT
BEGIN:STANDARD
TZOFFSETFROM:-0400
TZOFFSETTO:-0500
TZNAME:EST
DTSTART:20241103T060000
END:STANDARD
END:VTIMEZONE
BEGIN:VEVENT
DTSTART;TZID=America/Detroit:20230409T110000
DTEND;TZID=America/Detroit:20230409T120000
DTSTAMP:20260423T232118
CREATED:20230318T000533Z
LAST-MODIFIED:20230330T222336Z
UID:6134-1681038000-1681041600@www.mqtuu.org
SUMMARY:Triangle Service with Petoskey and Bay de Noc UUs\,  "Perspectives on Easter\," with Connie Simon\, a former intern at Unitarian Society of Germantown (PA). How do we celebrate traditional holidays in different ways?
DESCRIPTION:
URL:https://www.mqtuu.org/event/riangle-service-with-petoskey-and-bay-de-noc-uus-celebrating-easter-sunday-in-uu-fashion
END:VEVENT
BEGIN:VEVENT
DTSTART;TZID=America/Detroit:20230402T110000
DTEND;TZID=America/Detroit:20230402T120000
DTSTAMP:20260423T232118
CREATED:20230318T000345Z
LAST-MODIFIED:20230330T221559Z
UID:6132-1680433200-1680436800@www.mqtuu.org
SUMMARY:Dan Young from Bay de Noc UU in Escanaba speaks\, "Let There be Light\," a service on Dan's fabulous photography. This will be an intergenerational service\, so bring the kids!
DESCRIPTION:
URL:https://www.mqtuu.org/event/dan-young-from-bay-de-noc-uu-in-escanaba-speaks-let-there-be-light-a-service-on-dans-fabulous-photography-complete-with-slides-of-his-work
END:VEVENT
BEGIN:VEVENT
DTSTART;TZID=America/Detroit:20230326T110000
DTEND;TZID=America/Detroit:20230326T120000
DTSTAMP:20260423T232118
CREATED:20230318T000214Z
LAST-MODIFIED:20230318T000214Z
UID:6130-1679828400-1679832000@www.mqtuu.org
SUMMARY:No service in observance of the beginning of Spring Break.
DESCRIPTION:
URL:https://www.mqtuu.org/event/no-service-in-observance-of-the-beginning-of-spring-break
END:VEVENT
BEGIN:VEVENT
DTSTART;TZID=America/Detroit:20230321T180000
DTEND;TZID=America/Detroit:20230321T200000
DTSTAMP:20260423T232118
CREATED:20230318T000038Z
LAST-MODIFIED:20230318T000038Z
UID:6128-1679421600-1679428800@www.mqtuu.org
SUMMARY:MUUC Board of Trustees Meeting\, all welcome! Join us VIA ZOOM at the same link as for regular MUUC services
DESCRIPTION:
URL:https://www.mqtuu.org/event/muuc-board-of-trustees-meeting-all-welcome-join-us-via-zoom-at-the-same-link-as-for-regular-muuc-services
END:VEVENT
BEGIN:VEVENT
DTSTART;TZID=America/Detroit:20230319T110000
DTEND;TZID=America/Detroit:20230319T120000
DTSTAMP:20260423T232118
CREATED:20230223T050326Z
LAST-MODIFIED:20230223T050520Z
UID:6119-1679223600-1679227200@www.mqtuu.org
SUMMARY:"Strength\, Vision and Courage:  Songs by Women About Women\," in honor of Women's History Month\, presented by February Sky
DESCRIPTION:As in many other fields\, women tend to have a hard time being taken seriously as songwriters.  Yes\, their writing is subtly different from men’s\, and this is seen as making it inferior rather than “different therefore equal.”  But many well-crafted and meaningful songs have been written by women about women.  This service will focus on a number of them.
URL:https://www.mqtuu.org/event/strength-vision-and-courage-songs-by-women-about-women-in-honor-of-womens-history-month-presented-by-february-sky
END:VEVENT
BEGIN:VEVENT
DTSTART;TZID=America/Detroit:20230312T110000
DTEND;TZID=America/Detroit:20230312T120000
DTSTAMP:20260423T232118
CREATED:20230223T045227Z
LAST-MODIFIED:20230223T050735Z
UID:6117-1678618800-1678622400@www.mqtuu.org
SUMMARY:Triangle Service with Petoskey and Bay de Noc UUs\, "Spiritual Maturity\," featuring Rev. Alice Diebel.
DESCRIPTION:
URL:https://www.mqtuu.org/event/triangle-service-with-petoskey-and-bay-de-noc-uus-featuring-rev-alice-diebel-topic-spiritual-maturity
END:VEVENT
BEGIN:VEVENT
DTSTART;TZID=America/Detroit:20230305T110000
DTEND;TZID=America/Detroit:20230305T120000
DTSTAMP:20260423T232118
CREATED:20230223T044954Z
LAST-MODIFIED:20230223T044954Z
UID:6115-1678014000-1678017600@www.mqtuu.org
SUMMARY:Martin Steindler speaks\, sermon title "Fooling Around"
DESCRIPTION:
URL:https://www.mqtuu.org/event/martin-steindler-speaks-sermon-title-fooling-around
END:VEVENT
BEGIN:VEVENT
DTSTART;TZID=America/Detroit:20230226T110000
DTEND;TZID=America/Detroit:20230226T123000
DTSTAMP:20260423T232118
CREATED:20230223T044756Z
LAST-MODIFIED:20230223T044756Z
UID:6113-1677409200-1677414600@www.mqtuu.org
SUMMARY:WORK PARTY - NO SERVICE -Join us in fellowship while sprucing up our congregational home - Snacks provided!
DESCRIPTION:A chance to review the sanctuary and displays – Redo the bookshelves – Replant plants in larger pots – Hang up more current signage – Test coffee makers and clean out fridge – Make a list of repairs needed.
URL:https://www.mqtuu.org/event/work-party-no-service-join-us-in-fellowship-while-sprucing-up-our-congregational-home-snacks-provided
END:VEVENT
BEGIN:VEVENT
DTSTART;TZID=America/Detroit:20230219T110000
DTEND;TZID=America/Detroit:20230219T120000
DTSTAMP:20260423T232118
CREATED:20230116T223712Z
LAST-MODIFIED:20230116T223712Z
UID:6088-1676804400-1676808000@www.mqtuu.org
SUMMARY:“Humans Wrote the Bible\, God Wrote Life - The Teachings of John Shelby Spong\,” presented by February Sky
DESCRIPTION:The word “God” can be a hot-button for many Unitarian Universalists.  But late maverick retired Episcopal bishop John Shelby Spong\, whose best known book is “Why Christianity Must Change or Die\,” gives us some new ways of looking at the concept.  He says\, “I can tell no one who God is or what God is. Neither can anyone else – from the Pope to Pat Robertson to the Dalai Lama. That is simply an aspect of human pretending.”  We will explore the ideas of this courageous and far-sighted man as expressed by him\, and by others\, in speech and in song.
URL:https://www.mqtuu.org/event/humans-wrote-the-bible-god-wrote-life-the-teachings-of-john-shelby-spong-presented-by-february-sky
END:VEVENT
BEGIN:VEVENT
DTSTART;TZID=America/Detroit:20230218T170000
DTEND;TZID=America/Detroit:20230218T190000
DTSTAMP:20260423T232118
CREATED:20230116T225312Z
LAST-MODIFIED:20230209T020501Z
UID:6090-1676739600-1676746800@www.mqtuu.org
SUMMARY:16th “Annual” UU Soup Dinner!  Click this Event for links to signup sheets for soup\, bread and desserts.
DESCRIPTION:Join Marquette Unitarian Universalist Congregation and Northwoods Learning Hub families for a delicious meal of homemade soups\, breads & desserts\, music & community.  Donations of all sizes welcome. ALL proceeds go to JJ Packs\, a non-profit addressing hunger in Marquette! \nSoup\, bread and dessert sign up is here!\nSign up is available below or call/text Sarah Johnson at 906-458-3915 to sign up to bring food items for this great event!\nSoup sign up:  https://www.signupgenius.com/go/10C0948ABAD2AA7FBCE9-crockpot\nBread sign up:  https://www.signupgenius.com/go/10C0948ABAD2AA7FBCE9-loaf\nDessert sign up:  https://www.sig nupgenius.com/go/10C0948ABAD2AA7FBCE9-dessert
URL:https://www.mqtuu.org/event/16th-annual-uu-soup-dinner
END:VEVENT
BEGIN:VEVENT
DTSTART;TZID=America/Detroit:20230212T110000
DTEND;TZID=America/Detroit:20230212T120000
DTSTAMP:20260423T232118
CREATED:20230116T223337Z
LAST-MODIFIED:20230209T015530Z
UID:6085-1676199600-1676203200@www.mqtuu.org
SUMMARY:Triangle Service with Petoskey and Bay de Noc UUs\, UU Petoskey member Nancy Kinney on Charles Darwin Day.
DESCRIPTION:International Darwin Day on February 12th inspires people throughout the globe to reflect and act on the principles of intellectual bravery\, perpetual curiosity\, scientific thinking\, and hunger for truth as embodied in Charles Darwin.
URL:https://www.mqtuu.org/event/triangle-service-with-petoskey-and-bay-de-noc-uus-topic-tba-2
END:VEVENT
BEGIN:VEVENT
DTSTART;TZID=America/Detroit:20230205T110000
DTEND;TZID=America/Detroit:20230205T120000
DTSTAMP:20260423T232118
CREATED:20230116T223203Z
LAST-MODIFIED:20230116T223203Z
UID:6083-1675594800-1675598400@www.mqtuu.org
SUMMARY:"On Keeping On." about doing the hard things\, presented by Kathryn Morski & Caitlin Kirkenwitz (née Morski)
DESCRIPTION:
URL:https://www.mqtuu.org/event/on-keeping-on-about-doing-the-hard-things-presented-by-kathryn-morski-caitlin-kirkenwitz-nee-morski
END:VEVENT
BEGIN:VEVENT
DTSTART;TZID=America/Detroit:20230129T110000
DTEND;TZID=America/Detroit:20230129T120000
DTSTAMP:20260423T232118
CREATED:20221231T201704Z
LAST-MODIFIED:20221231T201704Z
UID:6043-1674990000-1674993600@www.mqtuu.org
SUMMARY:Spiritual Discussion Sunday. Plan on small group sharing of what spirituality is and how we seek it out. Facilitated by Jill Malin.
DESCRIPTION:
URL:https://www.mqtuu.org/event/spiritual-discussion-sunday-plan-on-small-group-sharing-of-what-spirituality-is-and-how-we-seek-it-out-facilitated-by-jill-malin
END:VEVENT
BEGIN:VEVENT
DTSTART;TZID=America/Detroit:20230122T110000
DTEND;TZID=America/Detroit:20230122T120000
DTSTAMP:20260423T232118
CREATED:20221231T201525Z
LAST-MODIFIED:20230116T221736Z
UID:6041-1674385200-1674388800@www.mqtuu.org
SUMMARY:"Overcoming Fear\," presented by Christie Jean Wagner - What fears are important? What fears only hold us back? One trans woman’s journey.
DESCRIPTION:What fears are important? What fears only hold us back? One trans woman’s journey.
URL:https://www.mqtuu.org/event/overcoming-fear-presented-by-christie-jean-wagner
END:VEVENT
BEGIN:VEVENT
DTSTART;TZID=America/Detroit:20230117T173000
DTEND;TZID=America/Detroit:20230117T190000
DTSTAMP:20260423T232118
CREATED:20230116T221548Z
LAST-MODIFIED:20230116T225443Z
UID:6077-1673976600-1673982000@www.mqtuu.org
SUMMARY:Note date change: MUUC Board of Trustees Meeting\, all welcome! Join us VIA ZOOM at the same link as for regular MUUC services.
DESCRIPTION:
URL:https://www.mqtuu.org/event/note-date-change-muuc-board-of-trustees-meeting-all-welcome-join-us-via-zoom-at-the-same-link-as-for-regular-muuc-services
END:VEVENT
BEGIN:VEVENT
DTSTART;TZID=America/Detroit:20230115T110000
DTEND;TZID=America/Detroit:20230115T120000
DTSTAMP:20260423T232118
CREATED:20221216T133019Z
LAST-MODIFIED:20221231T201407Z
UID:6031-1673780400-1673784000@www.mqtuu.org
SUMMARY:"Every Day We Will Remember - Reflections on The Burning Time\," Service presented by February Sky.
DESCRIPTION:During what has come to be known as “The Burning Time” in Europe and America\, which included the Inquisition\, it’s estimated that as many as 9 million innocent women\, men and children were persecuted under the varying official definitions of “witchcraft.”  Of course\, this type of persecution is as antithetical to Unitarian Universalist beliefs as could possibly be imagined.  In these enlightened times\, no such horrors could possibly happen again – or could they?  This service will be a reminder that UUs must continue to stand against intolerance and hatred based on “differences” between people.
URL:https://www.mqtuu.org/event/service-presented-by-presented-by-february-sky-topic-tbd
END:VEVENT
BEGIN:VEVENT
DTSTART;TZID=America/Detroit:20230108T110000
DTEND;TZID=America/Detroit:20230108T120000
DTSTAMP:20260423T232118
CREATED:20221216T132927Z
LAST-MODIFIED:20230107T125623Z
UID:6029-1673175600-1673179200@www.mqtuu.org
SUMMARY:Triangle Service with Petoskey and Bay de Noc UUs\, presented by Amy Brooks\, "Being Human."
DESCRIPTION:Amy Brooks will reflect on the ways our culture centers the able-bodied experience and how we might better recognize and value the humanity of all people.  Petoskey UU Zoom link: https://zoom.us/j/96058736200?pwd=bVd4YWNQaHUvays5azZQTnNxSmYwQT09#success
URL:https://www.mqtuu.org/event/triangle-service-with-petoskey-and-bay-de-noc-uus-presented-by-amy-brooks-topic-tbd
END:VEVENT
BEGIN:VEVENT
DTSTART;TZID=America/Detroit:20230101T110000
DTEND;TZID=America/Detroit:20230101T123000
DTSTAMP:20260423T232118
CREATED:20221216T131754Z
LAST-MODIFIED:20221216T131754Z
UID:6025-1672570800-1672576200@www.mqtuu.org
SUMMARY:NO SERVICE - Enjoy the holiday break
DESCRIPTION:
URL:https://www.mqtuu.org/event/no-service-enjoy-the-holiday-break
END:VEVENT
BEGIN:VEVENT
DTSTART;TZID=America/Detroit:20221225T110000
DTEND;TZID=America/Detroit:20221225T120000
DTSTAMP:20260423T232118
CREATED:20221209T131739Z
LAST-MODIFIED:20221209T131739Z
UID:6019-1671966000-1671969600@www.mqtuu.org
SUMMARY:NO SERVICE\, enjoy your holiday.
DESCRIPTION:
URL:https://www.mqtuu.org/event/no-service-enjoy-your-holiday
END:VEVENT
BEGIN:VEVENT
DTSTART;TZID=America/Detroit:20221218T113000
DTEND;TZID=America/Detroit:20221218T123000
DTSTAMP:20260423T232118
CREATED:20221209T131553Z
LAST-MODIFIED:20221216T132811Z
UID:6017-1671363000-1671366600@www.mqtuu.org
SUMMARY:"Winter Rest and Grace\," with the Bittersweet Christmas Band\, February Sky's four person holiday band.  We will be connecting online with this service at the Universalist Unitarian Church of Joliet NOTE LATER TIME.  To connect\, go to https://uujoliet.org/\, then click on "Attend Sunday Service Online - 10:30 a.m. December 18".  On the next page\, click on "Watch On the Web Instead"
DESCRIPTION:NOTE LATER TIME – “Winter Rest and Grace\,” with the Bittersweet Christmas Band\, February Sky’s four person holiday band.  We will be connecting online with this service at the Universalist Unitarian Church of Joliet.  To connect\, go to https://uujoliet.org/\, then click on “Attend Sunday Service Online – 10:30 a.m. December 18”.  On the next page\, click on “Watch On the Web Instead” \n 
URL:https://www.mqtuu.org/event/winter-rest-and-grace-with-the-bittersweet-christmas-band-february-skys-four-person-holiday-band-we-will-be-connecting-online-with-this-service-at-the-universalist-unitarian-church-of-joliet
END:VEVENT
BEGIN:VEVENT
DTSTART;TZID=America/Detroit:20221211T110000
DTEND;TZID=America/Detroit:20221211T120000
DTSTAMP:20260423T232118
CREATED:20221120T202125Z
LAST-MODIFIED:20221120T202125Z
UID:6014-1670756400-1670760000@www.mqtuu.org
SUMMARY:Triangle Service with Petoskey and Bay de Noc UUs\, with Beverly Feldt\, a gifted service presenter from Park Forest Unitarian\, "Christmas through Jewish Eyes."
DESCRIPTION:
URL:https://www.mqtuu.org/event/triangle-service-with-petoskey-and-bay-de-noc-uus-with-beverly-feldt-a-gifted-service-presenter-from-park-forest-unitarian-christmas-through-jewish-eyes
END:VEVENT
BEGIN:VEVENT
DTSTART;TZID=America/Detroit:20221204T110000
DTEND;TZID=America/Detroit:20221204T120000
DTSTAMP:20260423T232118
CREATED:20221120T202008Z
LAST-MODIFIED:20221120T202008Z
UID:6012-1670151600-1670155200@www.mqtuu.org
SUMMARY:"Renewing a Collective Commitment to Serving Our Homeless Neighbors in Marquette\," our speaker will be Stephen Krygier\, Executive Director of the Room at the Inn shelter.
DESCRIPTION:
URL:https://www.mqtuu.org/event/renewing-a-collective-commitment-to-serving-our-homeless-neighbors-in-marquette-our-speaker-will-be-stephen-krygier-executive-director-of-the-room-at-the-inn-shelter
END:VEVENT
BEGIN:VEVENT
DTSTART;TZID=America/Detroit:20221127T110000
DTEND;TZID=America/Detroit:20221127T123000
DTSTAMP:20260423T232118
CREATED:20221113T074608Z
LAST-MODIFIED:20221120T201159Z
UID:5994-1669546800-1669552200@www.mqtuu.org
SUMMARY:Thanksgiving Sunday - NO SERVICE - Enjoy family and friends\, safe travels if you will be on the road.
DESCRIPTION:Bring Thanksgiving leftovers to share.  There will be a short service during which we can share gratitude\, followed by sharing food!
URL:https://www.mqtuu.org/event/sharing-thanksgiving-food-and-gratitude
END:VEVENT
BEGIN:VEVENT
DTSTART;TZID=America/Detroit:20221120T110000
DTEND;TZID=America/Detroit:20221120T120000
DTSTAMP:20260423T232118
CREATED:20221028T205606Z
LAST-MODIFIED:20221028T210059Z
UID:5984-1668942000-1668945600@www.mqtuu.org
SUMMARY:"Thank You\, Help Me\," a Thanksgiving service presented by February Sky.
DESCRIPTION:A service focusing on the idea that it can be difficult to be grateful for what we have until we’ve experienced what it is to have not\,
URL:https://www.mqtuu.org/event/thank-you-help-me-a-thanksgiving-service-focusing-on-the-idea-that-it-can-be-difficult-to-be-grateful-for-what-we-have-until-weve-experienced-what-it-is-to-have-not-presented-by-february-sk
END:VEVENT
BEGIN:VEVENT
DTSTART;TZID=America/Detroit:20221113T110000
DTEND;TZID=America/Detroit:20221113T120000
DTSTAMP:20260423T232118
CREATED:20221014T180444Z
LAST-MODIFIED:20221113T074222Z
UID:5972-1668337200-1668340800@www.mqtuu.org
SUMMARY:Triangle Service with Petoskey and Bay de Noc UUs\, Rev. Joshua Berg\,  "Nobody's Perfect...Except You."
DESCRIPTION:Having the courage to admit that not only are we imperfect\, but we absolutely need each other\, is not only courageous but the only perfect\, self-sustaining thing to do.  \nPastor Joshua Berg graduated from seminary this May with a Master in Divinity degree and was ordained into the Unitarian Universalist ministry in July. At the beginning of the year\, he spent five months as the sabbatical minister at Emerson UU in Canoga Park and is currently doing a year-long residency as a chaplain at Children’s Hospital Los Angeles. Joshua is from Michigan and was the intern minister at Northwest in Southfield\, MI. He organized the Mi-Wide service during the pandemic.
URL:https://www.mqtuu.org/event/riangle-service-with-petoskey-and-bay-de-noc-uus-presenter-and-topic-tba
END:VEVENT
BEGIN:VEVENT
DTSTART;TZID=America/Detroit:20221106T110000
DTEND;TZID=America/Detroit:20221106T120000
DTSTAMP:20260423T232118
CREATED:20221014T180340Z
LAST-MODIFIED:20221014T180340Z
UID:5970-1667732400-1667736000@www.mqtuu.org
SUMMARY:Service Presentation by Lynn Anderson\, "The Power of Story."
DESCRIPTION:
URL:https://www.mqtuu.org/event/service-presentation-by-lynn-anderson-the-power-of-story
END:VEVENT
BEGIN:VEVENT
DTSTART;TZID=America/Detroit:20221030T110000
DTEND;TZID=America/Detroit:20221030T120000
DTSTAMP:20260423T232118
CREATED:20221007T012256Z
LAST-MODIFIED:20221028T210139Z
UID:5954-1667127600-1667131200@www.mqtuu.org
SUMMARY:Service Presentation by Keith Glendon\, "In Honor of the Divine Feminine - a Service of Spiritual Storytelling."
DESCRIPTION:With relationship to Spirituality that is grounded in nature\, Keith Glendon has a  perspective to offer in the form of storytelling about his own journey of spiritual connection\, nourishment and guidance.\n\nAs a man\, as a father\, a son\, a husband and a spiritual being – his journey thus far has revealed to him the importance of the Divine Feminine in his own relationship to Creator\, to God energy\, to the oneness of all.\n\nThis service is in honor of the Divine Feminine and the role this concept has played and continues to play in his spiritual journey\, and is offered as a gift and as a parable that may be helpful to others on their own paths.
URL:https://www.mqtuu.org/event/service-presentation-by-keith-glendon-in-honor-of-the-divine-feminine
END:VEVENT
BEGIN:VEVENT
DTSTART;TZID=America/Detroit:20221023T110000
DTEND;TZID=America/Detroit:20221023T120000
DTSTAMP:20260423T232118
CREATED:20220916T180636Z
LAST-MODIFIED:20221014T175255Z
UID:5923-1666522800-1666526400@www.mqtuu.org
SUMMARY:Service with MUUC children in our Spiritual Exploration group\, 'Free to Be UU and Me\," an Intergenerational service to celebrate the 50th Anniversary of Free to Be You and Me
DESCRIPTION:
URL:https://www.mqtuu.org/event/intergenerational-service-with-muuc-children-in-our-spiritual-exploration-group
END:VEVENT
BEGIN:VEVENT
DTSTART;TZID=America/Detroit:20221017T173000
DTEND;TZID=America/Detroit:20221017T190000
DTSTAMP:20260423T232118
CREATED:20221014T174912Z
LAST-MODIFIED:20221014T175040Z
UID:5961-1666027800-1666033200@www.mqtuu.org
SUMMARY:First meeting of Music & Myth Mondays - click for more info
DESCRIPTION:At the meeting house.  Since ancient times\, stories and song have been sacred pathways to Spiritual celebration\, communication\, insight\, wisdom and communion. Join us for this fun\, informal\, intergenerational program aimed at exploring the richness of human mythology\, the Spiritual potency of music and the fellowship of sharing these things as a means of becoming closer to Divine truth. \nWhat to expect: For all ages! We will share a sampling of selected mythology\, songs and stories as a framework for discussions and reflection. We will also engage various instruments\, guest musicians and free-form sound and movement activities. Each Monday evening session will have an element of structure\, and an element of ‘free exploration’ intended to welcome participants into the self-guided space of how music\, stories and movement can be an individual and group spiritual practice. Feel free to bring instruments\, your own favorite myths\, stories\, poems or oral traditions. From local Anishinaabe stories to ancient Polynesian Mythology to Irish Faerytales and much\, much more – we look forward to exploring these topics as an extension of UU’s core principles and beliefs.
URL:https://www.mqtuu.org/event/first-meeting-of-music-myth-mondays
END:VEVENT
BEGIN:VEVENT
DTSTART;TZID=America/Detroit:20221016T123000
DTEND;TZID=America/Detroit:20221016T143000
DTSTAMP:20260423T232118
CREATED:20221014T174634Z
LAST-MODIFIED:20221014T174634Z
UID:5959-1665923400-1665930600@www.mqtuu.org
SUMMARY:MUUC Board of Trustees meeting\, all welcome.
DESCRIPTION:
URL:https://www.mqtuu.org/event/muuc-board-of-trustees-meeting-all-welcome-3
END:VEVENT
END:VCALENDAR