BEGIN:VCALENDAR
VERSION:2.0
PRODID:-//Marquette Unitarian Universalist Congregation - ECPv6.15.10//NONSGML v1.0//EN
CALSCALE:GREGORIAN
METHOD:PUBLISH
X-WR-CALNAME:Marquette Unitarian Universalist Congregation
X-ORIGINAL-URL:https://www.mqtuu.org
X-WR-CALDESC:Events for Marquette Unitarian Universalist Congregation
REFRESH-INTERVAL;VALUE=DURATION:PT1H
X-Robots-Tag:noindex
X-PUBLISHED-TTL:PT1H
BEGIN:VTIMEZONE
TZID:America/Detroit
BEGIN:DAYLIGHT
TZOFFSETFROM:-0500
TZOFFSETTO:-0400
TZNAME:EDT
DTSTART:20180311T070000
END:DAYLIGHT
BEGIN:STANDARD
TZOFFSETFROM:-0400
TZOFFSETTO:-0500
TZNAME:EST
DTSTART:20181104T060000
END:STANDARD
BEGIN:DAYLIGHT
TZOFFSETFROM:-0500
TZOFFSETTO:-0400
TZNAME:EDT
DTSTART:20190310T070000
END:DAYLIGHT
BEGIN:STANDARD
TZOFFSETFROM:-0400
TZOFFSETTO:-0500
TZNAME:EST
DTSTART:20191103T060000
END:STANDARD
BEGIN:DAYLIGHT
TZOFFSETFROM:-0500
TZOFFSETTO:-0400
TZNAME:EDT
DTSTART:20200308T070000
END:DAYLIGHT
BEGIN:STANDARD
TZOFFSETFROM:-0400
TZOFFSETTO:-0500
TZNAME:EST
DTSTART:20201101T060000
END:STANDARD
END:VTIMEZONE
BEGIN:VEVENT
DTSTART;TZID=America/Detroit:20191124T110000
DTEND;TZID=America/Detroit:20191124T120000
DTSTAMP:20260424T112329
CREATED:20191008T123737Z
LAST-MODIFIED:20191020T133428Z
UID:5179-1574593200-1574596800@www.mqtuu.org
SUMMARY:Sunday Service
DESCRIPTION:Traditional Bread Communion\nTeri Rockwood
URL:https://www.mqtuu.org/event/sunday-service-58
LOCATION:MqtUU Meeting House\, 1510 M-28 East\, Marquette\, MI\, 49855\, United States
CATEGORIES:Calendar,Sunday Service
END:VEVENT
BEGIN:VEVENT
DTSTART;TZID=America/Detroit:20191117T110000
DTEND;TZID=America/Detroit:20191117T120000
DTSTAMP:20260424T112329
CREATED:20191008T123647Z
LAST-MODIFIED:20191018T124503Z
UID:5177-1573988400-1573992000@www.mqtuu.org
SUMMARY:Sunday Service
DESCRIPTION:11am Service:\n“Getting to Know You: Deepening Connections Within Our UU Community”\nService Leader: Sarah Johnson\nThis Sunday\, we will take time to get to know each other a little bit better\, speed dating style and deepen our connections through an interactive\, fun service.
URL:https://www.mqtuu.org/event/sunday-service-57
LOCATION:MqtUU Meeting House\, 1510 M-28 East\, Marquette\, MI\, 49855\, United States
CATEGORIES:Calendar,Sunday Service
END:VEVENT
BEGIN:VEVENT
DTSTART;TZID=America/Detroit:20191103T110000
DTEND;TZID=America/Detroit:20191103T120000
DTSTAMP:20260424T112329
CREATED:20191008T123515Z
LAST-MODIFIED:20191014T151256Z
UID:5173-1572778800-1572782400@www.mqtuu.org
SUMMARY:Sunday Service
DESCRIPTION:Roy Gotham on “Love and Healing”
URL:https://www.mqtuu.org/event/sunday-service-55
LOCATION:MqtUU Meeting House\, 1510 M-28 East\, Marquette\, MI\, 49855\, United States
CATEGORIES:Calendar,Sunday Service
END:VEVENT
BEGIN:VEVENT
DTSTART;TZID=America/Detroit:20191025T183000
DTEND;TZID=America/Detroit:20191025T203000
DTSTAMP:20260424T112329
CREATED:20191007T115520Z
LAST-MODIFIED:20191007T115520Z
UID:5159-1572028200-1572035400@www.mqtuu.org
SUMMARY:Halloween Party
DESCRIPTION:There will be bobbing for apples\, fun treats and music!\nCostumes are encouraged.
URL:https://www.mqtuu.org/event/halloween-party
LOCATION:MqtUU Meeting House\, 1510 M-28 East\, Marquette\, MI\, 49855\, United States
CATEGORIES:Calendar
END:VEVENT
BEGIN:VEVENT
DTSTART;TZID=America/Detroit:20190630T110000
DTEND;TZID=America/Detroit:20190630T120000
DTSTAMP:20260424T112329
CREATED:20190426T120639Z
LAST-MODIFIED:20190624T112648Z
UID:4646-1561892400-1561896000@www.mqtuu.org
SUMMARY:Sunday Service
DESCRIPTION:UUA GA Sunday Worship\n“In This Delicate Turning: UUA GA 2019”\n“After exploring el poder de nosotros/the power of we\, what are we ready to do/¿que estamos listo para hacer? Let’s not be servants of the past in new cups. Let’s all get free by planting faithful seeds of change and together turn to free the faith we love.”
URL:https://www.mqtuu.org/event/sunday-service-37
LOCATION:MqtUU Meeting House\, 1510 M-28 East\, Marquette\, MI\, 49855\, United States
CATEGORIES:Calendar
END:VEVENT
BEGIN:VEVENT
DTSTART;TZID=America/Detroit:20190623T110000
DTEND;TZID=America/Detroit:20190623T120000
DTSTAMP:20260424T112329
CREATED:20190426T120735Z
LAST-MODIFIED:20190617T125456Z
UID:4648-1561287600-1561291200@www.mqtuu.org
SUMMARY:Sunday Service
DESCRIPTION:“Ruins and Revolutions: Reflections upon Society\, Religion\, and Nature as Proposed by C. F. Volney” – Jerry Losee\nJoin us as we hear about the ideas of a little known Enlightenment thinker whose book\, “The Ruins”\, was first translated to English by Thomas Jefferson\, a fellow UU.
URL:https://www.mqtuu.org/event/sunday-service-38
LOCATION:MqtUU Meeting House\, 1510 M-28 East\, Marquette\, MI\, 49855\, United States
CATEGORIES:Calendar
END:VEVENT
BEGIN:VEVENT
DTSTART;TZID=America/Detroit:20190602T110000
DTEND;TZID=America/Detroit:20190602T120000
DTSTAMP:20260424T112329
CREATED:20190426T115758Z
LAST-MODIFIED:20190531T104102Z
UID:4639-1559473200-1559476800@www.mqtuu.org
SUMMARY:Sunday Service
DESCRIPTION:Spiritual Exploration End of Year Intergenerational Service followed by Ice Cream & Frozen Yogurt Buffet!
URL:https://www.mqtuu.org/event/sunday-service-34
LOCATION:MqtUU Meeting House\, 1510 M-28 East\, Marquette\, MI\, 49855\, United States
CATEGORIES:Calendar
END:VEVENT
BEGIN:VEVENT
DTSTART;TZID=America/Detroit:20190514T180000
DTEND;TZID=America/Detroit:20190514T200000
DTSTAMP:20260424T112329
CREATED:20190425T112135Z
LAST-MODIFIED:20190530T112522Z
UID:4624-1557856800-1557864000@www.mqtuu.org
SUMMARY:Game Night
DESCRIPTION:For Teens & Adults\nGames played depend on interest of participants. Board games\, role playing games etc…
URL:https://www.mqtuu.org/event/game-night
LOCATION:MqtUU Meeting House\, 1510 M-28 East\, Marquette\, MI\, 49855\, United States
CATEGORIES:Calendar
END:VEVENT
BEGIN:VEVENT
DTSTART;TZID=America/Detroit:20190507T180000
DTEND;TZID=America/Detroit:20190507T200000
DTSTAMP:20260424T112329
CREATED:20190425T112447Z
LAST-MODIFIED:20190425T112447Z
UID:4628-1557252000-1557259200@www.mqtuu.org
SUMMARY:Game Night
DESCRIPTION:For Teens & Adults
URL:https://www.mqtuu.org/event/game-night-3
LOCATION:MqtUU Meeting House\, 1510 M-28 East\, Marquette\, MI\, 49855\, United States
CATEGORIES:Calendar
END:VEVENT
BEGIN:VEVENT
DTSTART;TZID=America/Detroit:20190430T180000
DTEND;TZID=America/Detroit:20190430T200000
DTSTAMP:20260424T112329
CREATED:20190425T112344Z
LAST-MODIFIED:20190425T112344Z
UID:4626-1556647200-1556654400@www.mqtuu.org
SUMMARY:Game Night
DESCRIPTION:For Teens and Adults
URL:https://www.mqtuu.org/event/game-night-2
LOCATION:MqtUU Meeting House\, 1510 M-28 East\, Marquette\, MI\, 49855\, United States
CATEGORIES:Calendar
END:VEVENT
END:VCALENDAR